Workbook

Sheet Summary of Internal Loans
A1: jkT; ljdkj dk vkarfjd _.k
A2: dtksZ dk fooj.k | C2: vo'ks"k | E2: ewy/ku dh okilh | G2: C;kt dh okilh
C3: 01-04-14 ¼egkys[kkdkj ds vk¡dM+sa ds vuqlkj½ | D3: 01.04.2015 dks o"kZ 2014&15 eas izkfIr ,oa O;; ds lek;kstu ds mijkar | E3: 2014-15 | F3: 2015-16 | G3: 2014-15 | H3: 2015-16
A4: 1 | C4: 2 | D4: 3 | E4: 4 | F4: 5 | G4: 6 | H4: 7
A5: 6003- | B5: jkT; ljdkj dk vkarfjd _.k
A6: 101 | B6: cktkj dtZ
B7: ¼d½ C;kt lfgr cktkj _.k | C7: 312843280000 | D7: ='Market_Loan-Bearing'!L58 -> 389873100000 | E7: ='Market_Loan-Bearing'!N58 -> 14334680000 | F7: ='Market_Loan-Bearing'!O58 -> 12668850000 | G7: ='Market_Loan-Bearing'!Q58 -> 26447510710 | H7: ='Market_Loan-Bearing'!R58 -> 34239717000
B8: ¼[k½ C;kt jfgr cktkj _.k | C8: 2252000 | D8: ='Market_Loan-Not Bearing'!P20 -> 3013900 | E8: =14337696000-E7 -> 3016000 | F8: =12671866000-F7 -> 3016000
B9: tksM+&101 cktkj dtZ | C9: =SUM(C7:C8) -> 312845532000 | D9: =SUM(D7:D8) -> 389876113900 | E9: =SUM(E7:E8) -> 14337696000 | F9: =SUM(F7:F8) -> 12671866000 | G9: =SUM(G7:G8) -> 26447510710 | H9: =SUM(H7:H8) -> 34239717000
A10: 103 | B10: Hkkjrh; thou chek fuxe ls dtZ | C10: 215515000 | D10: =C10 -> 215515000
A11: 104 | B11: Hkkjrh; lkekU; chek fuxe ls dtZ | C11: -12708000 | D11: =C11 -> -12708000
A12: 105 | B12: jk"Vªh; d`f"k vkSj xzkeh.k fodkl cSad ls dtZ | C12: 40119599000 | D12: ='Final Yearwise Summ of NABARD'!S1296 -> 43212668000 | E12: ='Final Yearwise Summ of NABARD'!U1296 -> 5225054800 | F12: ='Final Yearwise Summ of NABARD'!Z1296 -> 6435865400 | G12: ='Final Yearwise Summ of NABARD'!AB1296 -> 3.4421e+09 | H12: ='Final Yearwise Summ of NABARD'!AC1296 -> 4000000000
A13: 106 | B13: izfrdj rFkk vU; ca/k&i=
A14: 0002 | B14: tehankjh mUewyu eqvkotk ca/k&i= | C14: 192736000 | D14: ='Zamindari Bond'!H6 -> 171736000 | E14: ='Zamindari Bond'!I6 -> 21000000 | F14: ='Zamindari Bond'!J6 -> 21000000 | G14: ='Zamindari Bond'!K6 -> 5000000 | H14: ='Zamindari Bond'!L6 -> 5000000
A15: 0003 | B15: ikoj ckW.M | C15: 4151220000 | D15: ='Final Power Bond'!I15 -> 2075610000 | E15: ='Final Power Bond'!K15 -> 2075610000 | F15: ='Final Power Bond'!K15 -> 2075610000 | G15: ='Final Power Bond'!N15 -> 3.9696041e+08 | H15: ='Final Power Bond'!O15 -> 2.2053356e+08
B16: tksM+&106&izfrdj rFkk vU; ca/k&i= | C16: =SUM(C14:C15) -> 4343956000 | D16: =SUM(D14:D15) -> 2247346000 | E16: =SUM(E14:E15) -> 2096610000 | F16: =SUM(F14:F15) -> 2096610000 | G16: =SUM(G14:G15) -> 4.0196041e+08 | H16: =SUM(H14:H15) -> 2.2553356e+08
A17: 107 | B17: Hkkjrh; LVsV cSad rFkk vU; cSadksa ls dtZ&
A18: 0001 | B18: Hkkjrh; LVsV cSad ls dtsZ | C18: -1200000 | D18: -1200000
B19: tksM+&107&Hkkjrh; LVsV cSad rFkk vU; cSadksa ls dtZ | C19: =C18 -> -1200000 | D19: =D18 -> -1200000 | E19: =E18 -> 0 | F19: =F18 -> 0 | G19: =G18 -> 0 | H19: =H18 -> 0
A20: 108 | B20: jk"Vªh; lgdkjh fodkl fuxe ls dtZ&
A21: 0001 | B21: jk"Vªh; lgdkjh fodkl fuxe vkSj dsUnzh; HkaMkj fuxe ls dtsZ | C21: 1081245000 | D21: =1081245000-E21 -> 912466000 | E21: =168779000 -> 168779000 | F21: =190000000 -> 190000000 | G21: =160537000 -> 160537000 | H21: =180000000 -> 180000000
B22: tksM+&108&jk"Vªh; lgdkjh fodkl fuxe vkSj dsUnzh; HkaMkj fuxe ls dtsZ | C22: =C21 -> 1081245000 | D22: =D21 -> 912466000 | E22: =E21 -> 168779000 | F22: =F21 -> 190000000 | G22: =G21 -> 160537000 | H22: =H21 -> 180000000
A23: 109 | B23: vU; laLFkkvksa ls dtZ&
A24: 0002 | B24: vkokl ,oa 'kgjh fodkl fuxe ls dtsZ | C24: -14297000 | D24: -14297000 | E24: 1000 | F24: 1000 | G24: 0 | H24: 0
A25: 0003 | B25: [kknh vkSj xzke m|ksx vk;ksx ls dtsZ | C25: 8000 | D25: =C25 -> 8000
A26: 0004 | B26: fcgkj jkT; HkaMkj fuxe ls dtsZ | C26: 598000 | D26: =C26 -> 598000
A27: 0005 | B27: fcgkj jkT; fo|qr cksMZ ls dtsZ | C27: 175000 | D27: =C27 -> 175000
A28: 0006 | B28: fcgkj jkT; lgdkfjrk ykg foi.ku egkla?k ls dtsZ | C28: 299000 | D28: =C28 -> 299000
A29: 0007 | B29: jk"Vªh; chek fuxe ¼dEiuh½ ls dtsZ | C29: -1255000 | D29: -1255000
A30: 0008 | B30: fjtoZ cSad ds jk"Vªh; d`f"k m/kkj fuf/k ls dtsZ | C30: 24420000 | D30: =C30 -> 24420000
B31: tksM+&109&vU; laLFkkvksa ls dtZ | C31: =SUM(C24:C30) -> 9948000 | D31: =SUM(D24:D30) -> 9948000 | E31: =SUM(E24:E30) -> 1000 | F31: =SUM(F24:F30) -> 1000 | G31: =SUM(G24:G30) -> 0 | H31: =SUM(H24:H30) -> 0
A32: 110 | B32: Hkkjrh; fjtoZ cSad ls vFkksZik; vfxze | C32: 0 | D32: 0
A33: 111 | B33: dsUnzh; ljdkj ds jk"Vªh; y?kq cpr fuf/k dks fuxZr fo'ks"k izfrHkwfr;k¡ | C33: 197564623000 | D33: ='Summary-SamllSaving(NSSF)'!J49 -> 204222051000 | E33: ='Summary-SamllSaving(NSSF)'!L49 -> 7946200000 | F33: ='Summary-SamllSaving(NSSF)'!M49 -> 10371985000 | G33: ='Summary-SamllSaving(NSSF)'!O49 -> 19064438495 | H33: ='Summary-SamllSaving(NSSF)'!P49 -> 19708164495
A34: 800 | B34: vU; dtsZ | C34: 74527000 | D34: =C34 -> 74527000
B35: egktksM+&6003&jkT; ljdkj dk vkarfjd _.k | C35: =C34+C33+C32+C31+C22+C19+C16+C10+C11+C12+C9 -> 556241037000 | D35: =D34+D33+D32+D31+D22+D19+D16+D10+D11+D12+D9 -> 640756726900 | E35: =E34+E33+E32+E31+E22+E19+E16+E10+E11+E12+E9 -> 29774340800 | F35: =F34+F33+F32+F31+F22+F19+F16+F10+F11+F12+F9 -> 31766327400 | G35: =G34+G33+G32+G31+G22+G19+G16+G10+G11+G12+G9 -> 4.9516547e+10 | H35: =H34+H33+H32+H31+H22+H19+H16+H10+H11+H12+H9 -> 5.8353415e+10
A36: uksV%& | B36: iqfLrdk esa iznf'kZr vk¡dM+sa egkys[kkdkj ,oa vkj-ch-vkbZ- ds lR;kiuk/khu gSa] lR;kiuksaijkar ifjofÙkZr gks ldrs gS A

Sheet Market_Loan-Bearing
A1: cktkj _.k
A2: o"kZ | B2: _.k la0 | C2: C;kt ns; _.k | D2: Kkikad@frfFk | E2: fuxZe dh frfFk | F2: lwn Hkqxrku dh frfFk | G2: _.k Hkqxrku dh frfFk | H2: _.k dh jkf'k | I2: C;kt dh nj ¼%½ | J2: vo'ks"k | M2: ewy/ku dh okilh | P2: C;kt dh okilh
J3: 01.04.2013 | K3: 01.04.2014 | L3: 01.04.2015 | M3: 2013-14 | N3: 2014-15 | O3: 2015-16 | P3: 2013-14 | Q3: 2014-15 | R3: 2015-16
A4: 1 | C4: 2 | D4: 3 | E4: 4 | F4: 5 | G4: 6 | H4: 7 | I4: 8 | J4: 9 | K4: 9 | L4: 10 | M4: 11 | N4: 11 | O4: 12 | P4: 13 | Q4: 13 | R4: 14
A5: 2003-04 | B5: M0037 | C5: 6.20% fcgkj jkT; fodkl _.k 2015 | D5: 1450/19.08.2003 | E5: 25.08.2003 | F5: 25 Qjojh@vxLr | G5: 25.08.2015 | H5: 3372000000 | I5: 0.062 | J5: 3372000000 | K5: =J5-M5 -> 3372000000 | L5: =K5 -> 3372000000 | O5: =K5 -> 3372000000 | P5: 209064000 | Q5: 209064000 | R5: =Q5/2 -> 104532000
A6: 2003-04 | B6: M0038 | C6: 5.85% fcgkj jkT; fodkl _.k 2015 | D6: 1606/08.10.2003 | E6: 13.10.2003 | F6: 13 vizSy@vDVqcj | G6: 13.10.2015 | H6: 2020550000 | I6: 0.0585 | J6: 2020550000 | K6: =J6-M6 -> 2020550000 | L6: =K6 -> 2020550000 | O6: =K6 -> 2020550000 | P6: 118202175 | Q6: 118202175 | R6: =Q6 -> 118202175
A7: 2003-04 | B7: M0040 | C7: 5.90% fcgkj jkT; fodkl _.k 2017 | D7: 37/14.01.2004 | E7: 21.01.2004 | F7: 21 tqykbZ@tuojh | G7: 21.01.2017 | H7: 5685000000 | I7: 0.059 | J7: 5685000000 | K7: =J7-M7 -> 5685000000 | L7: =K7 -> 5685000000 | N7: 0 | O7: 0 | P7: 335415000 | Q7: 335415000 | R7: =Q7 -> 335415000
A8: 2003-04 | B8: M0039 | C8: 5.85% fcgkj jkT; fodkl _.k 2015 ¼f}rh; J`[kyk½ | D8: 176/12.02.2004 | E8: 21.02.2004 | F8: 21 vxLr@Qjojh | G8: 21.02.2015 | H8: 218280000 | I8: 0.0585 | J8: 218280000 | K8: =J8-M8 -> 218280000 | L8: 0 | N8: 218280000 | O8: 0 | P8: 12769380 | Q8: 12769380 | R8: 0
A9: 2004-05 | B9: M0042 | C9: 5.60% fcgkj jkT; fodkl _.k 2014 | D9: 3255/13.01.2004 | E9: 23.04.2004 | F9: 23 vDVqcj@vizSy | G9: 23.04.2014 | H9: 3590000000 | I9: 0.056 | J9: 3590000000 | K9: =J9-M9 -> 3590000000 | L9: 0 | N9: 3590000000 | O9: 0 | P9: 201040000 | Q9: =201040000/2 -> 100520000 | R9: 0
A10: 2004-05 | B10: M0043 | C10: 5.70% fcgkj jkT; fodkl _.k 2014 | D10: 5435/19.05.2004 | E10: 28.05.2004 | F10: 28 uoEcj@ebZ | G10: 28.05.2014 | H10: 2650600000 | I10: 0.057 | J10: 2650600000 | K10: =J10-M10 -> 2650600000 | L10: 0 | N10: 2650600000 | O10: 0 | P10: 151084200 | Q10: =151084200/2 -> 75542100 | R10: 0
A11: 2004-05 | B11: M0045 | C11: 7.36% fcgkj jkT; fodkl _.k 2014 | D11: 151/2004-790 DT.28.10.04 | E11: 04.11.2004 | F11: 04 ebZ@uoEcj | G11: 04.11.2014 | H11: 2660500000 | I11: 0.0736 | J11: 2660500000 | K11: =J11-M11 -> 2660500000 | L11: 0 | N11: 2660500000 | O11: 0 | P11: 195812800 | Q11: 195812800 | R11: 0
A12: 2004-05 | B12: M0044 | C12: 7.32% fcgkj jkT; fodkl _.k 2014 | D12: WM-165/2004/880 DT.-06.12.2004 | E12: 10.12.2004 | F12: 10 twu@fnlEcj | G12: 10.12.2014 | H12: 3085300000 | I12: 0.0732 | J12: 3085300000 | K12: =J12-M12 -> 3085300000 | L12: 0 | N12: 3085300000 | O12: 0 | P12: 225843960 | Q12: 225843960 | R12: 0
A13: 2004-05 | B13: M0046 | C13: 7.02% fcgkj jkT; fodkl _.k 2015 | D13: WM-06/2004/05 DT.-07.01.2005 | E13: 13.01.2005 | F13: 13 tqykbZ@tuojh | G13: 13.01.2015 | H13: 2130000000 | I13: 0.0702 | J13: 2130000000 | K13: =J13-M13 -> 2130000000 | L13: 0 | N13: 2130000000 | O13: 0 | P13: 149526000 | Q13: 149526000 | R13: 0
A14: 2004-05 | B14: M0048 | C14: 7.17% fcgkj jkT; fodkl _.k 2017 | D14: WM-17/2005-76F dt.-17.02.2005 | E14: 24.02.2005 | F14: 24 vxLr@Qjojh | G14: 24.02.2017 | H14: 3265450000 | I14: 0.0717 | J14: 3265450000 | K14: =J14-M14 -> 3265450000 | L14: =K14 -> 3265450000 | N14: 0 | O14: 0 | P14: 234132765 | Q14: 234132765 | R14: =Q14 -> 234132765
A15: 2005-06 | B15: M0050 | C15: 7.77% fcgkj jkT; fodkl _.k 2015 | D15: WM-57/2005-291F dt.-13.05.2005 | E15: 29.05.2005 | F15: 29 uoEcj@ebZ | G15: 29.05.2015 | H15: 4941400000 | I15: 0.0777 | J15: 4941400000 | K15: =J15-M15 -> 4941400000 | L15: =K15 -> 4941400000 | N15: 0 | O15: =L15 -> 4941400000 | P15: 383946780 | Q15: 383946780 | R15: =Q15/2 -> 191973390
A16: 2005-06 | B16: M0049 | C16: 7.39% fcgkj jkT; fodkl _.k 2015 ¼fuykeh½ | D16: WM-57/2005-349F dt.-10.06.2005 | E16: 15.06.2005 | F16: 15 fnlEcj@twu | G16: 15.06.2015 | H16: 2334900000 | I16: 0.0739 | J16: 2334900000 | K16: =J16-M16 -> 2334900000 | L16: =K16 -> 2334900000 | N16: 0 | O16: =L16 -> 2334900000 | P16: 1.7254911e+08 | Q16: 1.7254911e+08 | R16: =Q16/2 -> 86274555
A17: 2007-08 | B17: M0051 | C17: 8.25% fcgkj thŒ,lŒ] _.k 2018 | D17: IDMD. No. 4156/08.03.11/2007-08 dt. 25.02.2008 | E17: 25.02.2008 | F17: 25 vxLr@Qjojh | G17: 25.02.2018 | H17: 10920000000 | I17: 0.0825 | J17: 10920000000 | K17: =J17-M17 -> 10920000000 | L17: =K17 -> 10920000000 | P17: =J17*8.25% -> 900900000 | Q17: =K17*8.25% -> 900900000 | R17: =Q17 -> 900900000
A18: 2008-09 | B18: M0052 | C18: 6.45% fcgkj thŒ,lŒ] _.k 2018 | D18: IDMD. No. 2736/08.03.011/ 2008-09 dt. 24.12.2008 | E18: 24.12.2008 | F18: 24twu@fnlEcj | G18: 24.12.2018 | H18: 7500000000 | I18: 0.0645 | J18: 7500000000 | K18: =J18-M18 -> 7500000000 | L18: =K18 -> 7500000000 | P18: 483750000 | Q18: 483750000 | R18: =Q18 -> 483750000
A19: 2008-09 | B19: M0053 | C19: 7.10% fcgkj thŒ,lŒ] _.k 2019 | D19: IDMD. No. /08.03.011/ 2008-09 dt. 23.01.2009 | E19: 23.01.2009 | F19: 23twykbZ@tuojh | G19: 23.01.2019 | H19: 7309300000 | I19: 0.071 | J19: 7309300000 | K19: =J19-M19 -> 7309300000 | L19: =K19 -> 7309300000 | P19: 518960300 | Q19: 518960300 | R19: =Q19 -> 518960300
A20: 2008-09 | B20: M0054 | C20: 8.78% fcgkj thŒ,lŒ] _.k 2019 | D20: IDMD. No. 4195/08.03.011/ 2008-09 dt. 12.03.2009 | E20: 12.03.2009 | F20: 12flrEcj@ekpZ | G20: 12.03.2019 | H20: 11350000000 | I20: 0.0878 | J20: 11350000000 | K20: =J20-M20 -> 11350000000 | L20: =K20 -> 11350000000 | P20: 996530000 | Q20: 996530000 | R20: =Q20 -> 996530000
A21: 2008-09 | B21: M0055 | C21: 8.45% fcgkj thŒ,lŒ] _.k 2019 | D21: IDMD. No. /08.03.011/ 2008-09 dt. 25.03.2009 | E21: 25.03.2009 | F21: 25flrEcj@25ekpZ | G21: 25.03.2019 | H21: 7810000000 | I21: 0.0845 | J21: 7810000000 | K21: =J21-M21 -> 7810000000 | L21: =K21 -> 7810000000 | P21: 659945000 | Q21: 659945000 | R21: =Q21 -> 659945000
A22: 2009-10 | B22: M0056 | C22: 7.89% fcgkj thŒ,lŒ] _.k 2019 | D22: IDMD. No. 6240/08.03.011/ 2008-09 dt. 16.06.2009 | E22: 23.06.2009 | F22: 23fnlEcj@23tqu | G22: 23.06.2019 | H22: 10000000000 | I22: 0.0789 | J22: 10000000000 | K22: =J22-M22 -> 10000000000 | L22: =K22 -> 10000000000 | P22: =394500000*2 -> 789000000 | Q22: =394500000*2 -> 789000000 | R22: =Q22 -> 789000000
A23: 2009-10 | B23: M0058 | C23: 8.49% fcgkj thŒ,lŒ] _.k 2019 | D23: IDMD. No. 1488/08.03.011/ 2009-10 dt. 30.09.2009 | E23: 07.10.2009 | F23: 07vizSy@07vDVwcj | G23: 07.10.2019 | H23: 7928100000 | I23: 0.0849 | J23: 7928100000 | K23: =J23-M23 -> 7928100000 | L23: =K23 -> 7928100000 | P23: 673095690 | Q23: 673095690 | R23: =Q23 -> 673095690
A24: 2009-10 | B24: M0057 | C24: 8.25% fcgkj thŒ,lŒ] _.k 2019 | D24: IDMD. No. 2042/08.03.011/ 2009-10 dt. 04.11.2009 | E24: 11.11.2009 | F24: 11ebZ@ 11uoEcj | G24: 11.11.2019 | H24: 6000000000 | I24: 0.0825 | J24: 6000000000 | K24: =J24-M24 -> 6000000000 | L24: =K24 -> 6000000000 | P24: 495000000 | Q24: 495000000 | R24: =Q24 -> 495000000
A25: 2009-10 | B25: M0059 | C25: 8.35% fcgkj thŒ,lŒ] _.k 2019 | D25: IDMD. No. 2427/08.03.011/ 2009-10 dt. 02.12.2009 | E25: 09.12.2009 | F25: 09twu@ 09fnlEcj | G25: 09.12.2019 | H25: 6071900000 | I25: 0.0835 | J25: 6071900000 | K25: =J25-M25 -> 6071900000 | L25: =K25 -> 6071900000 | P25: 507003650 | Q25: 507003650 | R25: =Q25 -> 507003650
A26: 2010-11 | B26: M0060 | C26: 8.53% fcgkj thŒ,lŒ] _.k 2020 | D26: 1354 dated 30-4-10 | E26: 28.04.2010 | F26: 28vDVwcj@28vizSy | G26: 28.04.2020 | H26: 10000000000 | I26: 0.0853 | J26: 10000000000 | K26: =J26-M26 -> 10000000000 | L26: =K26 -> 10000000000 | P26: 853000000 | Q26: 853000000 | R26: =Q26 -> 853000000
A27: 2010-11 | B27: M0061 | C27: 8.55% fcgkj thŒ,lŒ] _.k 2021 | D27: IDMD. No. 3178/08.03.011/ 2010-11 dt. 18.01.2011 | E27: 19.01.2011 | F27: 19tqykbZ@19tuojh | G27: 19.01.2021 | H27: 10000000000 | I27: 0.0855 | J27: 10000000000 | K27: =J27-M27 -> 10000000000 | L27: =K27 -> 10000000000 | P27: 855000000 | Q27: 855000000 | R27: =Q27 -> 855000000
A28: 2010-11 | B28: M0062 | C28: 8.38% fcgkj thŒ,lŒ] _.k 2021 | E28: 16.03.2011 | F28: 16flrEcj@16ekpZ | G28: 16.03.2021 | H28: 6000000000 | I28: 0.0838 | J28: 6000000000 | K28: =J28-M28 -> 6000000000 | L28: =K28 -> 6000000000 | P28: 502800000 | Q28: 502800000 | R28: =Q28 -> 502800000
A29: 2011-12 | B29: M0063 | C29: 8.89% fcgkj thŒ,lŒ] _.k 2021 | D29: IDMD. No. 1555/08.03.011/ 2011-12 dt. 04.10.2011 | E29: 05.10.2011 | F29: 05vizSy@05vDVwcj | G29: 05.10.2021 | H29: 10000000000 | I29: 0.0889 | J29: 10000000000 | K29: =J29-M29 -> 10000000000 | L29: =K29 -> 10000000000 | P29: 889000000 | Q29: 889000000 | R29: =Q29 -> 889000000
A30: 2011-12 | B30: M0064 | C30: 8.80% fcgkj thŒ,lŒ] _.k 2021 | D30: IDMD. No. 2521/08.03.011/ 2011-12 dt. 20.12.2011 | E30: 21.12.2011 | F30: 21twu@21fnlEcj | G30: 21.12.2021 | H30: 7190000000 | I30: 0.088 | J30: 7190000000 | K30: =J30-M30 -> 7190000000 | L30: =K30 -> 7190000000 | P30: 632720000 | Q30: 632720000 | R30: =Q30 -> 632720000
A31: 2011-12 | B31: M0065 | C31: 8.72% fcgkj thŒ,lŒ] _.k 2022 | D31: IDMD. No. 2973/08.03.011/ 2011-12 dt. 24.01.2012 | E31: 25.01.2012 | F31: 25twykbZ@25tuojh | G31: 25.01.2022 | H31: 12810000000 | I31: 0.0872 | J31: 12810000000 | K31: =J31-M31 -> 12810000000 | L31: =K31 -> 12810000000 | P31: 1117032000 | Q31: 1117032000 | R31: =Q31 -> 1117032000
A32: 2011-12 | B32: M0066 | C32: 8.99% fcgkj thŒ,lŒ] _.k 2022 | D32: IDMD. No. 3415/08.03.011/ 2011-12 dt. 06.03.2012 | E32: 07.03.2012 | F32: 7flrEcj@7ekpZ | G32: 07.03.2022 | H32: 5000000000 | I32: 0.0899 | J32: 5000000000 | K32: =J32-M32 -> 5000000000 | L32: =K32 -> 5000000000 | P32: 449500000 | Q32: 449500000 | R32: =Q32 -> 449500000
A33: 2011-12 | B33: M0067 | C33: 9.03% fcgkj thŒ,lŒ] _.k 2022 | D33: IDMD. No. 3608/08.03.011/ 2011-12 dt. 20.03.2012 | E33: 21.03.2012 | F33: 21flrEcj@21ekpZ | G33: 21.03.2022 | H33: 5000000000 | I33: 0.0903 | J33: 5000000000 | K33: =J33-M33 -> 5000000000 | L33: =K33 -> 5000000000 | P33: 451500000 | Q33: 451500000 | R33: =Q33 -> 451500000
A34: 2012-13 | B34: M0068 | C34: 9.16% fcgkj thŒ,lŒ] _.k 2022 | D34: IDMD. No. 4257/08.03.011/ 2011-12 dt. 08.05.2012 | E34: 09.05.2012 | F34: 9uoEcj@ebZ | G34: 09.05.2022 | H34: 7500000000 | I34: 0.0916 | J34: =K34-M34 -> 7500000000 | K34: =H34-N34 -> 7500000000 | L34: =K34 -> 7500000000 | P34: =J34*9.16/100 -> 687000000 | Q34: =K34*9.16/100 -> 687000000 | R34: =Q34 -> 687000000
A35: 2012-13 | B35: M0069 | C35: 8.89% fcgkj thŒ,lŒ] _.k 2022 | D35: IDMD. No. 1482/08.03.011/ 2011-12 dt. 06.11..2012 | E35: 07.11.2012 | F35: 7ebZ@uoEcj | G35: 07.11.2022 | H35: 10000000000 | I35: 0.0889 | J35: =K35-M35 -> 10000000000 | K35: =H35-N35 -> 10000000000 | L35: =K35 -> 10000000000 | P35: =J35*8.89/100 -> 889000000 | Q35: =K35*8.89/100 -> 889000000 | R35: =Q35 -> 889000000
A36: 2012-13 | B36: M0070 | C36: 8.97% fcgkj thŒ,lŒ] _.k 2022 | D36: IDMD. No. 1584/08.03.011/ 2011-12 dt. 20.11.2012 | E36: 21.11.2012 | F36: 21ebZ@uoEcj | G36: 21.11.2022 | H36: 12500000000 | I36: 0.0897 | J36: =K36-M36 -> 12500000000 | K36: =H36-N36 -> 12500000000 | L36: =K36 -> 12500000000 | P36: =J36*8.97/100 -> 1.12125e+09 | Q36: =K36*8.97/100 -> 1.12125e+09 | R36: =Q36 -> 1.12125e+09
A37: 2012-13 | B37: M0071 | C37: 8.99% fcgkj thŒ,lŒ] _.k 2022 | D37: IDMD. No. 1853/08.03.011/ 2011-12 dt. 18.12.2012 | E37: 19.12.2012 | F37: 19twu@fnlEcj | G37: 19.12.2022 | H37: 10000000000 | I37: 0.0899 | J37: =K37-M37 -> 10000000000 | K37: =H37-N37 -> 10000000000 | L37: =K37 -> 10000000000 | P37: =J37*8.99/100 -> 899000000 | Q37: =K37*8.99/100 -> 899000000 | R37: =Q37 -> 899000000
A38: 2012-13 | B38: M0072 | C38: 8.68% fcgkj thŒ,lŒ] _.k 2023 | D38: IDMD. No. 2018/08.03.011/ 2011-12 dt. 08.01.2013 | E38: 09.01.2013 | F38: 9tqykbZ@tuojh | G38: 09.01.2023 | H38: 13000000000 | I38: 0.0868 | J38: =K38-M38 -> 13000000000 | K38: =H38-N38 -> 13000000000 | L38: =K38 -> 13000000000 | P38: =J38*8.68/100 -> 1128400000 | Q38: =K38*8.68/100 -> 1128400000 | R38: =Q38 -> 1128400000
A39: 2012-13 | B39: M0073 | C39: 8.69% fcgkj thŒ,lŒ] _.k 2023 | D39: IDMD. No. 2228/08.03.011/ 2012-13 dt. 01.02.2013 | E39: 06.02.2013 | F39: 6vxLr@Qjojh | G39: 06.02.2023 | H39: 5000000000 | I39: 0.0869 | J39: =K39-M39 -> 5000000000 | K39: =H39-N39 -> 5000000000 | L39: =K39 -> 5000000000 | P39: =J39*8.69/100 -> 434500000 | Q39: =K39*8.69/100 -> 434500000 | R39: =Q39 -> 434500000
A40: 2012-13 | B40: M0074 | C40: 8.62% fcgkj thŒ,lŒ] _.k 2023 | D40: IDMD. No. 2467/08.03.011/ 2012-13 dt. 01.03.2013 | E40: 06.03.2013 | F40: 6flrEcj@ekpZ | G40: 06.03.2023 | H40: 2000000000 | I40: 0.0862 | J40: =K40-M40 -> 2000000000 | K40: =H40-N40 -> 2000000000 | L40: =K40 -> 2000000000 | P40: =K40*8.62% -> 172400000 | Q40: 172400000 | R40: =Q40 -> 172400000
A41: 2012-13 | B41: M0075 | C41: 8.64% fcgkj thŒ,lŒ] _.k 2023 | D41: IDMD. No. 2580/08.03.011/ 2012-13 dt. 15.03.2013 | E41: 20.03.2013 | F41: 20flrEcj@ekpZ | G41: 20.03.2023 | H41: 11000000000 | I41: 0.0864 | J41: 11000000000 | K41: 11000000000 | L41: =K41 -> 11000000000 | P41: =K41*8.64% -> 950400000 | Q41: 950400000 | R41: =Q41 -> 950400000
A42: 2013-14 | B42: M0076 | C42: 9.39% fcgkj thŒ,lŒ] _.k 2023 | D42: IDMD. No. 1076/08.03.011/ 2013-14 dt. 03.10.2013 | E42: 09.10.2013 | F42: 9vizSy@vDVwcj | G42: 09.10.2023 | H42: 15000000000 | I42: 0.0939 | K42: 15000000000 | L42: =K42 -> 15000000000 | Q42: =K42*9.39% -> 1.4085e+09 | R42: =Q42 -> 1.4085e+09
A43: 2013-14 | B43: M0077 | C43: 9.40% fcgkj thŒ,lŒ] _.k 2023 | D43: IDMD. No. /08.03.011/ 2013-14 dt. | E43: 23.10.2013 | F43: 23vizSy@vDVwcj | G43: 23.10.2023 | H43: 10000000000 | I43: 0.094 | K43: 10000000000 | L43: =K43 -> 10000000000 | Q43: =K43*9.4% -> 940000000 | R43: =Q43 -> 940000000
A44: 2013-14 | B44: M0078 | C44: 9.52% fcgkj thŒ,lŒ] _.k 2023 | D44: IDMD. No. 1787/08.03.011/ 2013-14 dt. 12.12.2013 | E44: 18.12.2013 | F44: 18twu@fnlEcj | G44: 18.12.2023 | H44: 10000000000 | I44: 0.0952 | K44: 10000000000 | L44: =K44 -> 10000000000 | Q44: =K44*9.52% -> 9.52e+08 | R44: =Q44 -> 9.52e+08
A45: 2013-14 | B45: M0079 | C45: 9.29% fcgkj thŒ,lŒ] _.k 2024 | D45: IDMD. No. 2010 /08.03.011/ 2013-14 dt. 09.01.2014 | E45: 16.01.2014 | F45: 16tqykbZ@tuojh | G45: 16.01.2024 | H45: 10000000000 | I45: 0.0929 | K45: 10000000000 | L45: =K45 -> 10000000000 | Q45: =K45*9.29% -> 929000000 | R45: =Q45 -> 929000000
A46: 2013-14 | B46: M0080 | C46: 9.64% fcgkj thŒ,lŒ] _.k 2024 | D46: IDMD. No. 2247/08.03.011/ 2013-14 dt. 06.02.2014 | E46: 12.02.2014 | F46: 12vxLr@Qjojh | G46: 12.02.2024 | H46: 10000000000 | I46: 0.0964 | K46: 10000000000 | L46: =K46 -> 10000000000 | Q46: 964000000 | R46: =Q46 -> 964000000
A47: 2013-14 | B47: M0081 | C47: 9.84% fcgkj thŒ,lŒ] _.k 2024 | D47: IDMD. No. 2329/08.03.011/ 2013-14 dt. 20.02.2014 | E47: 26.02.2014 | F47: 26vxLr@Qjojh | G47: 26.02.2024 | H47: 10000000000 | I47: 0.0984 | K47: 10000000000 | L47: =K47 -> 10000000000 | Q47: 984000000 | R47: =Q47 -> 984000000
A48: 2014-15 | C48: 8.73% fcgkj ,lŒMhŒ,yŒ] _.k 2024 | D48: IDMD. No. 851/08.03.011/ 2014-15 dt. 21.10.2014 | E48: 29.10.2014 | F48: 29vizSy@vDVwcj | G48: 29.10.2024 | H48: 10000000000 | I48: 0.0873 | L48: 10000000000 | R48: =873000000 -> 873000000
A49: 2014-15 | C49: 8.45% fcgkj ,lŒMhŒ,yŒ] _.k 2024 | D49: IDMD. No. 1109/08.03.011/ 2014-15 dt. 20.11.2014 | E49: 26.11.2014 | F49: 26ebZ@uoEcj | G49: 26.11.2024 | H49: 10000000000 | I49: 0.0845 | L49: 10000000000 | R49: =845000000 -> 845000000
A50: 2014-15 | C50: 8.17% fcgkj ,lŒMhŒ,yŒ] _.k 2024 | D50: IDMD. No. 1202/08.03.011/ 2014-15 dt. 04.12..2014 | E50: 10.12.2014 | F50: 10twu@fnlEcj | G50: 10.12.2024 | H50: 10000000000 | I50: 0.0817 | L50: 10000000000 | R50: =817000000 -> 817000000
A51: 2014-15 | C51: 8.25% fcgkj ,lŒMhŒ,yŒ] _.k 2024 | D51: IDMD. No. 1288/08.03.011/ 2014-15 dt. 18.12..2014 | E51: 24.12.2014 | F51: 24twu@fnlEcj | G51: 24.12.2024 | H51: 15000000000 | I51: 0.0825 | L51: 15000000000 | R51: 1237500000
A52: 2014-15 | C52: 8.15% fcgkj ,lŒMhŒ,yŒ] _.k 2025 | D52: IDMD. No. 1424/08.03.011/ 2014-15 dt. 08.01..2015 | E52: 14.01.2015 | F52: 14tqykbZ@tuojh | G52: 14.01.2025 | H52: 15000000000 | I52: 0.0815 | L52: 15000000000 | R52: 1222500000
A53: 2014-15 | C53: 8.08% fcgkj ,lŒMhŒ,yŒ] _.k 2025 | D53: IDMD. No. 1562/08.03.011/ 2014-15 dt. 22.01..2015 | E53: 28.01.2015 | F53: 28tqykbZ@tuojh | G53: 28.01.2025 | H53: 15000000000 | I53: 0.0808 | L53: 15000000000 | R53: 1212000000
A54: 2014-15 | C54: 8.06% fcgkj ,lŒMhŒ,yŒ] _.k 2025 | D54: IDMD. No. /08.03.011/ 2014-15 dt. | E54: 11.02.2015 | F54: 11vxLr@Qjojh | G54: 11.02.2025 | H54: 6000000000 | I54: 0.0806 | L54: 6000000000 | R54: =483600000 -> 483600000
A55: 2014-15 | C55: 'ks"k laHkkfor izkfIr | H55: 10364500000 | I55: 0.0825 | L55: 10364500000 | R55: =866471250 -> 866471250
A56: 2015-16 | C56: laHkkfor izkfIr | H56: 102851800000 | R56: 1377929225
C58: ;ksx& | H58: =SUM(H5:H56) -> 507059580000 | J58: =SUM(J5:J53) -> 247843280000 | K58: =SUM(K5:K56) -> 312843280000 | L58: =SUM(L5:L56) -> 389873100000 | M58: =SUM(M5:M53) -> 0 | N58: =SUM(N5:N56) -> 14334680000 | O58: =SUM(O5:O56) -> 12668850000 | P58: =SUM(P5:P53) -> 20446072810 | Q58: =SUM(Q5:Q56) -> 26447510710 | R58: =SUM(R5:R56) -> 34239717000

Sheet Market_Loan-Not Bearing
A1: vC;kt ns; cktkj _.k
A2: ØŒ laŒ | B2: _.k laŒ | C2: vC;kt ns; _.k | D2: 01-04-02 dk vo'ks"k | E2: 01-04-03 dk vo'ks"k | F2: 01-04-04 dk vo'ks"k | G2: 01-04-05 dk vo'ks"k | H2: 01-04-06 dk vo'ks"k | I2: 01-04-07 dk vo'ks"k | J2: 01-04-08 dk vo'ks"k | K2: 30-09-09 dk vo'ks"k | L2: 30-09-10 dk vo'ks"k | M2: 30-09-11 dk vo'ks"k | N2: 30-09-12 dk vo'ks"k | O2: 30-09-13 dk vo'ks"k | P2: 30-09-14 dk vo'ks"k
A4: 1 | C4: 2 | D4: 3 | E4: 3 | F4: 4 | G4: 5 | H4: 6 | I4: 7 | J4: 8 | K4: 9 | L4: 10 | M4: 11 | N4: 12 | O4: 13 | P4: 14
A5: 1 | B5: N0027 | C5: 6.75% fcgkj jkT; fodkl _.k 1992 | D5: 119834.84 | E5: 119834.84 | F5: 119834.84 | G5: 119834.84 | H5: 119834.84 | I5: 119834.84 | J5: 119834.84 | K5: 160400 | L5: 160400 | M5: 160400 | N5: =M5 -> 160400 | O5: 60400 | P5: 60400
A6: 2 | B6: N0028 | C6: 7% fcgkj jkT; fodkl _.k 1993 | D6: 155695.64 | E6: 155695.64 | F6: 155695.64 | G6: 148224.64 | H6: 148224.64 | I6: 148224.64 | J6: 148224.64 | K6: 198400 | L6: 198400 | M6: 198400 | N6: =M6 -> 198400 | O6: 198400 | P6: 198400
A7: 3 | B7: N0030 | C7: 7.50% fcgkj jkT; fodkl _.k 1997 | D7: 8965 | E7: 8965 | F7: 8965 | G7: 8965 | H7: 8965.2 | I7: 8965.2 | J7: 8965.2 | K7: 12000 | L7: 12000 | M7: 12000 | N7: =M7 -> 12000 | O7: 12000 | P7: 12000
A8: 4 | B8: N0031 | C8: 9.75% fcgkj jkT; fodkl _.k 1998 | D8: 23907.2 | E8: 23907.2 | F8: 23907.2 | G8: 23907.2 | H8: 23907.2 | I8: 23907.2 | J8: 23907.2 | K8: 2000 | L8: 2000 | M8: 2000 | N8: =M8 -> 2000 | O8: 2000 | P8: 2000
A9: 5 | B9: N0032 | C9: 9% fcgkj jkT; fodkl _.k 1999 | D9: 739854 | E9: 739854 | F9: 739854 | G9: 728945.47 | H9: 728945.47 | I9: 728945.47 | J9: 728945.47 | K9: 975700 | L9: 975700 | M9: 975700 | N9: =M9 -> 975700 | O9: 975700 | P9: 975700
A10: 6 | B10: N0029 | C10: 8.75% fcgkj jkT; fodkl _.k 2000 | D10: 225615 | E10: 225615 | F10: 225615 | G10: 157189.84 | H10: 157189.84 | I10: 157189.84 | J10: 157189.84 | K10: 205400 | L10: 205400 | M10: 205400 | N10: =M10 -> 205400 | O10: 205400 | P10: 205400
A11: 7 | B11: N0039 | C11: 11% fcgkj jkT; fodkl _.k 2001 | E11: 373000 | F11: 373000 | G11: 128501.2 | H11: 92640.4 | I11: 92640.4 | J11: 92640.4 | K11: 53000 | L11: 53000 | M11: 53000 | N11: =M11 -> 53000 | O11: 53000 | P11: 53000
A12: 8 | B12: N0040 | C12: 11% fcgkj jkT; fodkl _.k 2002 | E12: 695000 | F12: 695000 | G12: 511763.5 | H12: 511763.5 | I12: 511763.5 | J12: 511763.5 | K12: 15000 | L12: 15000 | M12: 15000 | N12: =M12 -> 15000 | O12: 15000 | P12: 15000
A13: 9 | B13: N0006 | C13: 13.50% fcgkj jkT; fodkl _.k 2003 | E13: 5185000 | F13: 5185000 | G13: 1044445.8 | H13: 745605.8 | I13: 745605.8 | J13: 745605.8 | K13: 839000 | L13: 839000 | M13: 839000 | N13: =M13 -> 839000 | O13: 839000 | P13: 839000
A14: 10 | B14: N0042 | C14: 14% fcgkj jkT; fodkl _.k 2005 | H14: 971230 | I14: 522970 | J14: 522970 | K14: 200000 | L14: 200000 | M14: 200000 | N14: =M14 -> 200000 | O14: 200000 | P14: 200000
A15: 11 | B15: N0044 | C15: 13% fcgkj jkT; fodkl _.k 2007 | K15: 34000 | L15: 34000 | M15: 20000 | N15: =M15 -> 20000 | O15: 20000 | P15: 20000
A16: 12 | B16: N0033 | C16: 11.50% fcgkj jkT; fodkl _.k 2009 | K16: 377000 | L16: 247000 | M16: 209000 | N16: =M16 -> 209000 | O16: 209000 | P16: 209000
A17: 13 | B17: N0034 | C17: 11.50% fcgkj jkT; fodkl _.k 2010 | L17: 744000 | M17: 19000 | N17: =M17 -> 19000 | O17: 19000 | P17: 19000
A18: 14 | B18: N0048 | C18: 11.50% fcgkj jkT; fodkl _.k 2011 | M18: 2600000 | N18: 75000 | O18: 75000 | P18: 75000
A19: 15 | B19: N0049 | C19: 12.00% fcgkj jkT; fodkl _.k 2011 | N19: 130000 | O19: 130000 | P19: 130000
A20: 16 | C20: ;ksx& | D20: =SUM(D5:D17) -> 1273871.7 | E20: =SUM(E5:E18) -> 7526871.7 | F20: =SUM(F5:F18) -> 7526871.7 | G20: =SUM(G5:G18) -> 2871777.5 | H20: =SUM(H5:H18) -> 3508306.9 | I20: =SUM(I5:I18) -> 3060046.9 | J20: =SUM(J5:J18) -> 3060046.9 | K20: =SUM(K5:K18) -> 3071900 | L20: =SUM(L5:L18) -> 3685900 | M20: =SUM(M5:M18) -> 5508900 | N20: =SUM(N5:N19) -> 3113900 | O20: =SUM(O5:O19) -> 3013900 | P20: =SUM(P5:P19) -> 3013900
C21: lzksr& | D21: Hkkjrh; fjtoZ cSad] eqEcbZ ds i=kad 2140 fnuakd 05-11-2014

Sheet Zamindari Bond
A1: fcgkj tehankjh&mUewyu {kfriwjd ca/k&i=
A2: C;kt ns; _.k | B2: fuxZe dh frfFk | C2: lwn Hkqxrku dh frfFk | D2: _.k Hkqxrku dh frfFk | E2: C;kt nj ¼%½ | F2: _.k dh jkf'k ¼jkT; foHkktu ds ckn½ | G2: vo'ks"k | I2: ewy/ku dh okilh | K2: C;kt dh okilh
G3: 01.04.2014 | H3: 01.04.2015 | I3: 2014-15 | J3: 2015-16 | K3: 2014-15 | L3: 2015-16
A4: 1 | B4: 2 | C4: 3 | D4: 4 | E4: 5 | F4: 6 | G4: 7 | H4: 8 | I4: 9 | J4: 10 | K4: 11 | L4: 12
A5: 2.50% fcgkj tehankjh&mUewyu {kfriwjd ca/k&i= | C5: 40 o"kZ | D5: 40 o"kZ | E5: 2.5 | F5: 313902216 | G5: 192736000 | H5: =G5-I5 -> 171736000 | I5: 21000000 | J5: 21000000 | K5: 5000000 | L5: 5000000
A6: ;ksx & | F6: =F5 -> 313902216 | G6: =G5 -> 192736000 | H6: =H5 -> 171736000 | I6: =I5 -> 21000000 | J6: =J5 -> 21000000 | K6: =K5 -> 5000000 | L6: =L5 -> 5000000

Sheet Summary-SamllSaving(NSSF)
A1: y?kq cpr laxzg.k dk fgLlk&xSj ;kstuk _.k
A2: dtksZ dk fooj.k | B2: _.k dh jkf'k | C2: _.k dh jkf'k esa fcgkj dk fgLlk | D2: Hkqxrku dh vof/k | E2: vf/kLFkxu dky | F2: Hkqxrku dh 'kÙksZa | G2: C;kt nj ¼%½ | H2: vo'ks"k | K2: ewy/ku dh okilh | N2: C;kt dh okilh
H3: 01.04.2013 | I3: 01.04.2014 | J3: 01.04.2015 | K3: 2013-14 | L3: 2014-15 | M3: 2015-16 | N3: 2013-14 | O3: 2014-15 | P3: 2015-16
A4: 1 | B4: 2 | C4: 3 | D4: 4 | E4: 5 | F4: 6 | G4: 7 | H4: 8 | I4: 8 | J4: 9 | K4: 10 | L4: 10 | M4: 11 | N4: 12 | O4: 12 | P4: 13
A5: Hkkx&, ¼vfoHkkftr fcgkj½
A6: o"kZ 1999&00
A7: F5/1/NSII/99-2000 | B7: 14639300000 | C7: 10937000000 | D7: 25 | E7: 5 | F7: ewy/ku ,oa lwn 15 twu ,oa 15 ekpZ izR;sd o"kZ Hkqxrs; | G7: 10.5 | H7: 6562200000 | I7: =H7-L7 -> 6015350000 | J7: =I7-M7 -> 5468500000 | K7: 546850000 | L7: 546850000 | M7: 546850000 | N7: 689031000 | O7: 631611750 | P7: =J7*10.5% -> 574192500
A8: ;ksx ¼1999&00½ & | B8: 14639300000 | C8: 10937000000 | H8: =SUM(H7) -> 6562200000 | I8: =SUM(I7) -> 6015350000 | J8: =SUM(J7) -> 5468500000 | K8: =SUM(K7) -> 546850000 | L8: =SUM(L7) -> 546850000 | M8: =SUM(M7) -> 546850000 | N8: =SUM(N7) -> 689031000 | O8: =SUM(O7) -> 631611750 | P8: =SUM(P7) -> 574192500
A9: o"kZ 2000&01
A10: F5/1/99-NS-I-1.10.2000 | B10: 17372239325 | C10: 12978800000 | D10: 25 | E10: 5 | F10: ewy/ku ,oa lwn 15 twu ,oa 15 ekpZ izR;sd o"kZ Hkqxrs; | G10: 10.5 | H10: 8436220000 | I10: =H10-L10 -> 7787280000 | J10: =I10-M10 -> 7138340000 | K10: 648940000 | L10: 648940000 | M10: 648940000 | N10: 885803100 | O10: 817664400 | P10: =J10*10.5% -> 749525700
A11: ;ksx ¼2000&01½ & | B11: 17372239325 | C11: 12978800000 | H11: =SUM(H10) -> 8436220000 | I11: =SUM(I10) -> 7787280000 | J11: =SUM(J10) -> 7138340000 | K11: =SUM(K10) -> 648940000 | L11: =SUM(L10) -> 648940000 | M11: =SUM(M10) -> 648940000 | N11: =SUM(N10) -> 885803100 | O11: =SUM(O10) -> 817664400 | P11: =SUM(P10) -> 749525700
A12: Hkkx&ch ¼foHkkftr fcgkj½
A13: o"kZ 2001&02
A14: F5/1/99-NS-I-1.10.2001 | B14: 13102100000 | C14: 13102100000 | D14: 25 | E14: 5 | F14: ewy/ku ,oa lwn 15 twu ,oa 15 ekpZ izR;sd o"kZ Hkqxrs; | G14: 10.5 | H14: 9171470000 | I14: =H14-L14 -> 8516365000 | J14: =I14-M14 -> 7861260000 | K14: 655105000 | L14: 655105000 | M14: 655105000 | N14: 963004350 | O14: 894218325 | P14: =J14*10.5% -> 825432300
A15: ;ksx ¼2001&02½ & | B15: 13102100000 | C15: 13102100000 | H15: =SUM(H14) -> 9171470000 | I15: =SUM(I14) -> 8516365000 | J15: =SUM(J14) -> 7861260000 | K15: =SUM(K14) -> 655105000 | L15: =SUM(L14) -> 655105000 | M15: =SUM(M14) -> 655105000 | N15: =SUM(N14) -> 963004350 | O15: =SUM(O14) -> 894218325 | P15: =SUM(P14) -> 825432300
A16: o"kZ 2002&03
A17: F5/1/99-NS-I-1.10.2002 | B17: 15752100000 | C17: 15752100000 | D17: 25 | E17: 5 | F17: ewy/ku ,oa lwn 15 twu ,oa 15 ekpZ izR;sd o"kZ Hkqxrs; | G17: 10.5 | H17: 11814075000 | I17: =H17-L17 -> 11026470000 | J17: =I17-M17 -> 10238865000 | K17: 787605000 | L17: 787605000 | M17: 787605000 | N17: 1240477875 | O17: 1157779350 | P17: =J17*10.5% -> 1075080825
A18: ;ksx ¼2002&03½ & | B18: 15752100000 | C18: 15752100000 | H18: =SUM(H17) -> 11814075000 | I18: =SUM(I17) -> 11026470000 | J18: =SUM(J17) -> 10238865000 | K18: =SUM(K17) -> 787605000 | L18: =SUM(L17) -> 787605000 | M18: =SUM(M17) -> 787605000 | N18: =SUM(N17) -> 1240477875 | O18: =SUM(O17) -> 1157779350 | P18: =SUM(P17) -> 1075080825
A19: o"kZ 2003&04
A20: F5/1/99-NS-I-1.10.2003 | B20: 20685500000 | C20: 20685500000 | D20: 25 | E20: 5 | F20: ewy/ku ,oa lwn 15 twu ,oa 15 ekpZ izR;sd o"kZ Hkqxrs; | G20: 9.5 | H20: 16548400000 | I20: =H20-L20 -> 15514125000 | J20: =I20-M20 -> 14479850000 | K20: 1034275000 | L20: 1034275000 | M20: 1034275000 | N20: 1572098000 | O20: 1473841875 | P20: =J20*9.5% -> 1375585750
A21: ;ksx ¼2003&04½ & | B21: 20685500000 | C21: 20685500000 | H21: =SUM(H20) -> 16548400000 | I21: =SUM(I20) -> 15514125000 | J21: =SUM(J20) -> 14479850000 | K21: =SUM(K20) -> 1034275000 | L21: =SUM(L20) -> 1034275000 | M21: =SUM(M20) -> 1034275000 | N21: =SUM(N20) -> 1572098000 | O21: =SUM(O20) -> 1473841875 | P21: =SUM(P20) -> 1375585750
A22: o"kZ 2004&05
A23: F5/1/99-NS-I | B23: 23003800000 | C23: 23003800000 | D23: 25 | E23: 5 | F23: ewy/ku ,oa lwn 15 twu ,oa 15 ekpZ izR;sd o"kZ Hkqxrs; | G23: 9.5 | H23: 19553230000 | I23: =H23-K23 -> 18403040000 | J23: =I23-M23 -> 17252850000 | K23: 1150190000 | L23: 1150190000 | M23: 1150190000 | N23: 1857556850 | O23: 1748288800 | P23: =J23*9.5% -> 1639020750
A24: ;ksx ¼2004&05½ & | B24: 23003800000 | C24: 23003800000 | H24: =SUM(H23) -> 19553230000 | I24: =SUM(I23) -> 18403040000 | J24: =SUM(J23) -> 17252850000 | K24: =SUM(K23) -> 1150190000 | L24: =SUM(L23) -> 1150190000 | M24: =SUM(M23) -> 1150190000 | N24: =SUM(N23) -> 1857556850 | O24: =SUM(O23) -> 1748288800 | P24: =SUM(P23) -> 1639020750
A25: o"kZ 2005&06
A26: 2005-2006 | B26: 24936700000 | C26: 24936700000 | D26: 25 | E26: 5 | F26: ewy/ku ,oa lwn 15 twu ,oa 15 ekpZ izR;sd o"kZ Hkqxrs; | G26: 9.5 | H26: 22443030000 | I26: =H26-K26 -> 21196195000 | J26: =I26-M26 -> 19949360000 | K26: 1246835000 | L26: 1246835000 | M26: 1246835000 | N26: 2132087850 | O26: 2013638525 | P26: =J26*9.5% -> 1895189200
A27: ;ksx ¼2005&06½ & | B27: =B26 -> 24936700000 | C27: =C26 -> 24936700000 | H27: =SUM(H26) -> 22443030000 | I27: =SUM(I26) -> 21196195000 | J27: =SUM(J26) -> 19949360000 | K27: =SUM(K26) -> 1246835000 | L27: =SUM(L26) -> 1246835000 | M27: =SUM(M26) -> 1246835000 | N27: =SUM(N26) -> 2132087850 | O27: =SUM(O26) -> 2013638525 | P27: =SUM(P26) -> 1895189200
A28: o"kZ 2006-2007 | B28: 21131900000 | C28: 21131900000 | D28: 25 | E28: 5 | F28: ewy/ku ,oa lwn 15 twu ,oa 15 ekpZ izR;sd o"kZ Hkqxrs; | G28: 9.5 | H28: 20075305000 | I28: =H28-K28 -> 19018710000 | J28: =I28-M28 -> 17962115000 | K28: 1056595000 | L28: 1056595000 | M28: 1056595000 | N28: 1907153975 | O28: 1806777450 | P28: =J28*9.5% -> 1706400925
A29: ;ksx ¼2006&07½ & | B29: =B28 -> 21131900000 | C29: =C28 -> 21131900000 | H29: =SUM(H28) -> 20075305000 | I29: =SUM(I28) -> 19018710000 | J29: =SUM(J28) -> 17962115000 | K29: =SUM(K28) -> 1056595000 | L29: =SUM(L28) -> 1056595000 | M29: =SUM(M28) -> 1056595000 | N29: =SUM(N28) -> 1907153975 | O29: =SUM(O28) -> 1806777450 | P29: =SUM(P28) -> 1706400925
A30: o"kZ 2007-2008 | B30: 8466800000 | C30: =B30 -> 8466800000 | D30: 25 | E30: 5 | F30: ewy/ku ,oa lwn 15 twu ,oa 15 ekpZ izR;sd o"kZ Hkqxrs; | G30: 9.5 | H30: 8466800000 | I30: =H30-K30 -> 8043460000 | J30: =I30-M30 -> 7620120000 | K30: 423340000 | L30: 423340000 | M30: 423340000 | N30: 804346000 | O30: 764128700 | P30: =J30*9.5% -> 723911400
A31: ;ksx ¼2007&08½ & | B31: =B30 -> 8466800000 | C31: =C30 -> 8466800000 | H31: =H30 -> 8466800000 | I31: =I30 -> 8043460000 | J31: =J30 -> 7620120000 | K31: =K30 -> 423340000 | L31: =L30 -> 423340000 | M31: =M30 -> 423340000 | N31: =N30 -> 804346000 | O31: =O30 -> 764128700 | P31: =P30 -> 723911400
A32: o"kZ 2008&09 & | B32: 7929300000 | C32: 7929300000 | D32: 25 | E32: 5 | F32: ewy/ku ,oa lwn 15 twu ,oa 15 ekpZ izR;sd o"kZ Hkqxrs; | G32: 9.5 | H32: 7929300000 | I32: 7929300000 | J32: =I32-M32 -> 7532835000 | K32: 0 | L32: =I32/20 -> 396465000 | M32: 396465000 | N32: 753283500 | O32: 753283500 | P32: =J32*9.5% -> 715619325
A33: ;ksx ¼2008&09½ | B33: =B32 -> 7929300000 | C33: =C32 -> 7929300000 | H33: =H32 -> 7929300000 | I33: =I32 -> 7929300000 | J33: =J32 -> 7532835000 | K33: =K32 -> 0 | L33: =L32 -> 396465000 | M33: =M32 -> 396465000 | N33: =N32 -> 753283500 | O33: =O32 -> 753283500 | P33: =P32 -> 715619325
A34: o"kZ 2009&10 & | B34: 18515700000 | C34: =B34 -> 18515700000 | D34: 25 | E34: 5 | F34: ewy/ku ,oa lwn 15 twu ,oa 15 ekpZ izR;sd o"kZ Hkqxrs; | G34: 9.5 | H34: 18515700000 | I34: =C34 -> 18515700000 | J34: 18515700000 | K34: 0 | L34: 0 | M34: 925785000 | N34: =(H34-K34)*G34/100 -> 1758991500 | O34: =(I34-L34)*G34/100 -> 1758991500 | P34: =J34*9.5% -> 1758991500
A35: ;ksx ¼2009&10½ | B35: =B34 -> 18515700000 | C35: =C34 -> 18515700000 | H35: =H34 -> 18515700000 | I35: =I34 -> 18515700000 | J35: =J34 -> 18515700000 | K35: =K34 -> 0 | L35: =L34 -> 0 | M35: =M34 -> 925785000 | N35: =N34 -> 1758991500 | O35: =O34 -> 1758991500 | P35: =P34 -> 1758991500
A36: o"kZ 2010&11 & | B36: 20156900000 | C36: =B36 -> 20156900000 | D36: 25 | E36: 5 | F36: ewy/ku ,oa lwn 15 twu ,oa 15 ekpZ izR;sd o"kZ Hkqxrs; | G36: 9.5 | H36: 20156900000 | I36: 20156900000 | J36: 20156900000 | K36: 0 | L36: 0 | M36: 0 | N36: =(H36-K36)*G36/100 -> 1914905500 | O36: =(I36-L36)*G36/100 -> 1914905500 | P36: =J36*9.5% -> 1914905500
A37: ;ksx& ¼2010&11½ | B37: =SUM(B36) -> 20156900000 | C37: =SUM(C36) -> 20156900000 | H37: =SUM(H36) -> 20156900000 | I37: =SUM(I36) -> 20156900000 | J37: =SUM(J36) -> 20156900000 | L37: =SUM(L36) -> 0 | M37: =SUM(M36) -> 0 | N37: =SUM(N36) -> 1914905500 | O37: =SUM(O36) -> 1914905500 | P37: =SUM(P36) -> 1914905500
A38: laHkkfor izkfIr
A39: o"kZ 2011&12 & | B39: 11125400000 | C39: =B39 -> 11125400000 | D39: 25 | E39: 5 | F39: ewy/ku ,oa lwn 15 twu ,oa 15 ekpZ izR;sd o"kZ Hkqxrs; | G39: 9.5 | H39: 11125400000 | I39: 11125400000 | J39: 11125400000 | K39: 0 | L39: 0 | M39: 0 | N39: =(H39-K39)*G39/100 -> 1056913000 | O39: =I39*9.5/100 -> 1056913000 | P39: =J39*9.5% -> 1056913000
A40: ;ksx& ¼2011&12½ | B40: =SUM(B39) -> 11125400000 | C40: =SUM(C39) -> 11125400000 | H40: =SUM(H39) -> 11125400000 | I40: =SUM(I39) -> 11125400000 | J40: =SUM(J39) -> 11125400000 | K40: =SUM(K39) -> 0 | L40: =SUM(L39) -> 0 | M40: =SUM(M39) -> 0 | N40: =SUM(N39) -> 1056913000 | O40: =SUM(O39) -> 1056913000 | P40: =SUM(P39) -> 1056913000
A41: o"kZ 2012&13 | B41: 10055100000 | C41: =B41 -> 10055100000 | D41: 25 | E41: 5 | F41: ewy/ku ,oa lwn 15 twu ,oa 15 ekpZ izR;sd o"kZ Hkqxrs; | G41: 9.5 | H41: 10055100000 | I41: 10055100000 | J41: 10055100000 | L41: 0 | M41: 0 | N41: 955234500 | O41: =I41*9.5/100 -> 955234500 | P41: =J41*9.5% -> 955234500
A42: ;ksx& ¼2012&13½ | B42: =SUM(B41) -> 10055100000 | C42: =SUM(C41) -> 10055100000 | H42: =SUM(H41) -> 10055100000 | I42: =SUM(I41) -> 10055100000 | J42: =SUM(J41) -> 10055100000 | K42: =SUM(K41) -> 0 | L42: =SUM(L41) -> 0 | M42: =SUM(M41) -> 0 | N42: =SUM(N41) -> 955234500 | O42: =SUM(O41) -> 955234500 | P42: =SUM(P41) -> 955234500
A43: o"kZ 2013&14 | B43: 8500000000 | C43: =B43 -> 8500000000 | D43: 25 | E43: 5 | F43: ewy/ku ,oa lwn 15 twu ,oa 15 ekpZ izR;sd o"kZ Hkqxrs; | G43: 9.5 | I43: 13864856000 | J43: 13864856000 | L43: 0 | M43: 0 | O43: 1317161320 | P43: =J43*9.5% -> 1317161320
A44: ;ksx& ¼2013&14½ | B44: =SUM(B43) -> 8500000000 | C44: =SUM(C43) -> 8500000000 | H44: =SUM(H43) -> 0 | I44: =SUM(I43) -> 13864856000 | J44: =SUM(J43) -> 13864856000 | K44: =SUM(K43) -> 0 | L44: =SUM(L43) -> 0 | M44: =SUM(M43) -> 0 | N44: =SUM(N43) -> 0 | O44: =SUM(O43) -> 1317161320 | P44: =SUM(P43) -> 1317161320
A45: o"kZ 2014&15 ¼iqujhf{kr vuqeku½ | B45: 15000000000 | C45: 15000000000 | D45: 10 | E45: 0 | F45: ewy/ku ,oa lwn 15 twu ,oa 15 ekpZ izR;sd o"kZ Hkqxrs; | G45: 9.5 | I45: 0 | J45: 15000000000 | L45: 0 | M45: 1500000000 | N45: 0 | O45: 0 | P45: =J45*9.5% -> 1425000000
A46: ;ksx& ¼2014&15½ | B46: =SUM(B45) -> 15000000000 | C46: =SUM(C45) -> 15000000000 | I46: =I45 -> 0 | J46: =J45 -> 15000000000 | L46: =L45 -> 0 | M46: =M45 -> 1500000000 | N46: =N45 -> 0 | O46: =O45 -> 0 | P46: =P45 -> 1425000000
A47: o"kZ 2015&16 ¼ctV vuqeku½ | B47: 16500000000 | C47: 16500000000 | D47: 10 | E47: 0 | I47: 0 | J47: 0 | L47: 0 | M47: 0 | O47: 0
A48: ;ksx& ¼2015&16½ | B48: =B47 -> 16500000000 | C48: =C47 -> 16500000000
A49: egk;ksx & | B49: =B8+B11+B15+B18+B21+B24+B27+B29+B31+B33+B35+B37+B40+B42+B44 -> 235372839325 | C49: =C8+C11+C15+C18+C21+C24+C27+C29+C31+C33+C35+C37+C40+C42+C44 -> 227277100000 | H49: =H8+H11+H15+H18+H21+H24+H27+H29+H31+H33+H35+H37+H40+H42+H44 -> 190853130000 | I49: =I48+I46+I44+I42+I40+I37+I35+I33+I31+I29+I27+I24+I21+I18+I15+I11+I8 -> 197168251000 | J49: =J48+J46+J44+J42+J40+J37+J35+J33+J31+J29+J27+J24+J21+J18+J15+J11+J8 -> 204222051000 | K49: =K8+K11+K15+K18+K21+K24+K27+K29+K31+K33+K35+K37+K40+K42+K44 -> 7549735000 | L49: =L48+L46+L44+L42+L40+L37+L35+L33+L31+L29+L27+L24+L21+L18+L15+L11+L8 -> 7946200000 | M49: =M48+M46+M44+M42+M40+M37+M35+M33+M31+M29+M27+M24+M21+M18+M15+M11+M8 -> 10371985000 | N49: =N8+N11+N15+N18+N21+N24+N27+N29+N31+N33+N35+N37+N40+N42+N44 -> 18490887000 | O49: =O48+O46+O44+O42+O40+O37+O35+O33+O31+O29+O27+O24+O21+O18+O15+O11+O8 -> 19064438495 | P49: =P48+P46+P44+P42+P40+P37+P35+P33+P31+P29+P27+P24+P21+P18+P15+P11+P8 -> 19708164495

Sheet Final Yearwise Summ of NABARD
A1: ukckMZ ls izkIr _.k dk lkjka'k
A2: Øe laŒ | B2: fuxZe dh frfFk | C2: dtksZ dk fooj.k | D2: _.k dh jkf'k | E2: Hkqxrku dh vof/k | F2: vf/kLFkxu dky | G2: Hkqxrku dh 'kÙksZa | H2: C;kt nj ¼%½ | I2: vo'ks"k | U2: ewy/ku dh okilh | AA2: C;kt dh okilh
I3: 01.04.07 | J3: 01.04.2008 | K3: 01.04.2010 | L3: 01.04.2011 | M3: 01.04.2013 | N3: 01.04.2014 | O3: 2007-08 | P3: 2008-09 | Q3: 2010-11 | R3: 2011-12 | S3: 01.04.2015 | T3: 2013-14 | U3: 2014-15 | V3: 2007-08 | W3: 2008-09 | X3: 2010-11 | Y3: 2011-12 | Z3: 2015-16 | AA3: 2013-14 | AB3: 2014-15 | AC3: 2015-16
A4: 1 | B4: 2 | C4: 3 | D4: 4 | E4: 5 | F4: 6 | G4: 7 | H4: 5 | I4: 6 | J4: 6 | K4: 6 | L4: 6 | M4: 6 | N4: 7 | Q4: 8 | R4: 8 | T4: 8 | U4: 9 | V4: 13 | W4: 10 | X4: 10 | Y4: 10 | AA4: 10 | AB4: 11
A5: 1 | B5: 11.09.2007 | C5: NABARD (RIDF-VII) | D5: 18200000 | E5: 7 | F5: 2 | G5: lwn izR;sd frekgh ds 1yha frfFk dks ,oa ewy/ku okf"kZd Hkqxrs; | H5: 7 | I5: 0 | J5: 18200000 | K5: 18200000 | L5: =K5-Q5 -> 14560000 | M5: 7280000 | N5: =M5-U5 -> 3640000 | O5: 0 | P5: 0 | Q5: 3640000 | R5: 3640000 | S5: =N5-U5 -> 0 | T5: =R5 -> 3640000 | U5: =T5 -> 3640000 | V5: =D5*H5%/365*112+D5*H5%/366*91 -> 707685.59 | W5: =D5*H5%/366*275+D5*H5%/365*90 -> 1271377.4 | X5: 1146949 | Y5: 893723 | Z5: 0 | AA5: =M5*7/100 -> 509600 | AB5: =T5*7/100 -> 254800 | AC5: =S5*H5% -> 0
A6: 2 | B6: 28.03.2008 | C6: NABARD (RIDF-VII) | D6: 2400000 | E6: 7 | F6: 2 | G6: lwn izR;sd frekgh ds 1yha frfFk dks ,oa ewy/ku okf"kZd Hkqxrs; | H6: 7 | I6: 0 | J6: 2400000 | K6: 2400000 | L6: =K6-Q6 -> 1920000 | M6: 960000 | N6: =M6-U6 -> 480000 | O6: 0 | P6: 0 | Q6: 480000 | R6: 480000 | S6: =N6-U6 -> 0 | T6: =R6 -> 480000 | U6: =T6 -> 480000 | V6: 1836 | W6: 167654 | X6: 168000 | Y6: 134677 | Z6: 0 | AA6: =M6*7/100 -> 67200 | AB6: =T6*7/100 -> 33600 | AC6: =S6*H6% -> 0
A7: 3 | B7: 28.03.2008 | C7: NABARD (RIDF-VII) | D7: 7600000 | E7: 7 | F7: 2 | G7: lwn izR;sd frekgh ds 1yha frfFk dks ,oa ewy/ku okf"kZd Hkqxrs; | H7: 7 | I7: 0 | J7: 7600000 | K7: =J7-P7 -> 7600000 | L7: =K7-Q7 -> 6080000 | M7: 3040000 | N7: =M7-U7 -> 1520000 | O7: 0 | P7: 0 | Q7: 1520000 | R7: 1520000 | S7: =N7-U7 -> 0 | T7: =R7 -> 1520000 | U7: =T7 -> 1520000 | V7: 5814 | W7: 530905 | X7: 532000 | Y7: 426476 | Z7: 0 | AA7: =M7*7/100 -> 212800 | AB7: =T7*7/100 -> 106400 | AC7: =S7*H7% -> 0
A8: 4 | B8: 28.03.2008 | C8: NABARD (RIDF-VII) | D8: 18900000 | E8: 7 | F8: 2 | G8: lwn izR;sd frekgh ds 1yha frfFk dks ,oa ewy/ku okf"kZd Hkqxrs; | H8: 7 | I8: 0 | J8: 18900000 | K8: =J8-P8 -> 18900000 | L8: =K8-Q8 -> 15120000 | M8: 7560000 | N8: =M8-U8 -> 3780000 | O8: 0 | P8: 0 | Q8: 3780000 | R8: 3780000 | S8: =N8-U8 -> 0 | T8: =R8 -> 3780000 | U8: =T8 -> 3780000 | V8: 14459 | W8: 1320277 | X8: 1323000 | Y8: 1060579 | Z8: 0 | AA8: =M8*7/100 -> 529200 | AB8: =T8*7/100 -> 264600 | AC8: =S8*H8% -> 0
C9: ;ksx& | D9: =SUM(D5:D8) -> 47100000 | E9: =SUM(E5:E8) -> 28 | F9: =SUM(F5:F8) -> 8 | G9: =SUM(G5:G8) -> 0 | I9: =SUM(I5:I8) -> 0 | J9: =SUM(J5:J8) -> 47100000 | K9: =SUM(K5:K8) -> 47100000 | L9: =SUM(L5:L8) -> 37680000 | M9: =SUM(M5:M8) -> 18840000 | N9: =SUM(N5:N8) -> 9420000 | O9: =SUM(O5:O8) -> 0 | P9: =SUM(P5:P8) -> 0 | ... AC9: =SUM(AC5:AC8) -> 0
A10: 5 | B10: 07.08.2007 | C10: NABARD (RIDF-VIII) | D10: 27400000 | E10: 7 | F10: 2 | G10: lwn izR;sd frekgh ds 1yha frfFk dks ,oa ewy/ku okf"kZd Hkqxrs; | H10: 6.5 | I10: 0 | J10: =D10 -> 27400000 | K10: 27400000 | L10: =K10-Q10 -> 21920000 | M10: 10960000 | N10: =M10-U10 -> 5480000 | O10: 0 | P10: 0 | Q10: 5480000 | R10: 5480000 | S10: =N10-U10 -> 0 | T10: =R10 -> 5480000 | U10: =T10 -> 5480000 | V10: 1160096 | W10: =D10*H10%/366*275+D10*H10%/365*90 -> 1777333.7 | X10: 1574111 | Y10: 1220111 | Z10: 0 | AA10: =M10*6.5/100 -> 712400 | AB10: =N10*6.5/100 -> 356200 | AC10: =S10*H10% -> 0
A11: 6 | B11: 11.09.2007 | C11: NABARD (RIDF-VIII) | D11: 20700000 | E11: 7 | F11: 2 | G11: lwn izR;sd frekgh ds 1yha frfFk dks ,oa ewy/ku okf"kZd Hkqxrs; | H11: 6.5 | I11: 0 | J11: =D11 -> 20700000 | K11: 20700000 | L11: =K11-Q11 -> 16560000 | M11: 8280000 | N11: =M11-U11 -> 4140000 | O11: 0 | P11: 0 | Q11: 4140000 | R11: 4140000 | S11: =N11-U11 -> 0 | T11: =R11 -> 4140000 | U11: =T11 -> 4140000 | V11: 747403 | W11: =D11*H11%/366*275+D11*H11%/365*90 -> 1342730.2 | X11: 1211319 | Y11: 943880 | Z11: 0 | AA11: =M11*6.5/100 -> 538200 | AB11: =N11*6.5/100 -> 269100 | AC11: =S11*H11% -> 0
A12: 7 | B12: 11.10.2007 | C12: NABARD (RIDF-VIII) | D12: 28500000 | E12: 7 | F12: 2 | G12: lwn izR;sd frekgh ds 1yha frfFk dks ,oa ewy/ku okf"kZd Hkqxrs; | H12: 6.5 | I12: 0 | J12: 28500000 | K12: 28500000 | L12: =K12-Q12 -> 22800000 | M12: 11400000 | N12: =M12-U12 -> 5700000 | O12: 0 | P12: 0 | Q12: 5700000 | R12: 5700000 | S12: =N12-U12 -> 0 | T12: =R12 -> 5700000 | U12: =T12 -> 5700000 | V12: 876772 | W12: 1848687 | X12: 1699225 | Y12: 1331013 | Z12: 0 | AA12: =M12*6.5/100 -> 741000 | AB12: =N12*6.5/100 -> 370500 | AC12: =S12*H12% -> 0
A13: 8 | B13: 11.12.2007 | C13: NABARD (RIDF-VIII) | D13: 17200000 | E13: 7 | F13: 2 | G13: lwn izR;sd frekgh ds 1yha frfFk dks ,oa ewy/ku okf"kZd Hkqxrs; | H13: 6.5 | I13: 0 | J13: =D13 -> 17200000 | K13: 17200000 | L13: =K13-Q13 -> 13760000 | M13: 6880000 | N13: =M13-U13 -> 3440000 | O13: 0 | P13: 0 | Q13: 3440000 | R13: 3440000 | S13: =N13-U13 -> 0 | T13: =R13 -> 3440000 | U13: =T13 -> 3440000 | V13: 342296 | W13: 1115699 | X13: 1062866 | Y13: 840647 | Z13: 0 | AA13: =M13*6.5/100 -> 447200 | AB13: =N13*6.5/100 -> 223600 | AC13: =S13*H13% -> 0
A14: 9 | B14: 07.03.2008 | C14: NABARD (RIDF-VIII) | D14: 26200000 | E14: 7 | F14: 2 | G14: lwn izR;sd frekgh ds 1yha frfFk dks ,oa ewy/ku okf"kZd Hkqxrs; | H14: 6.5 | I14: 0 | J14: =D14 -> 26200000 | K14: 26200000 | L14: =K14-Q14 -> 20960000 | M14: 10480000 | N14: =M14-U14 -> 5240000 | O14: 0 | P14: 0 | Q14: 5240000 | R14: 5240000 | S14: =N14-U14 -> 0 | T14: =R14 -> 5240000 | U14: =T14 -> 5240000 | V14: 116325 | W14: 1699494 | X14: 1703000 | Y14: 1365205 | Z14: 0 | AA14: =M14*6.5/100 -> 681200 | AB14: =N14*6.5/100 -> 340600 | AC14: =S14*H14% -> 0
A15: 10 | B15: 28.03.2008 | C15: NABARD (RIDF-VIII) | D15: 15800000 | E15: 7 | F15: 2 | G15: lwn izR;sd frekgh ds 1yha frfFk dks ,oa ewy/ku okf"kZd Hkqxrs; | H15: 6.5 | I15: 0 | J15: =D15 -> 15800000 | K15: 15800000 | L15: =K15-Q15 -> 12640000 | M15: 6320000 | N15: =M15-U15 -> 3160000 | O15: 0 | P15: 0 | Q15: 3160000 | R15: 3160000 | S15: =N15-U15 -> 0 | T15: =R15 -> 3160000 | U15: =T15 -> 3160000 | V15: 11224 | W15: 1024886 | X15: 1027000 | Y15: 823291 | Z15: 0 | AA15: =M15*6.5/100 -> 410800 | AB15: =N15*6.5/100 -> 205400 | AC15: =S15*H15% -> 0
A16: 11 | B16: 28.03.2008 | C16: NABARD (RIDF-VIII) | D16: 1600000 | E16: 7 | F16: 2 | G16: lwn izR;sd frekgh ds 1yha frfFk dks ,oa ewy/ku okf"kZd Hkqxrs; | H16: 6.5 | I16: 0 | J16: =D16 -> 1600000 | K16: 1600000 | L16: =K16-Q16 -> 1280000 | M16: 640000 | N16: =M16-U16 -> 320000 | O16: 0 | P16: 0 | Q16: 320000 | R16: 320000 | S16: =N16-U16 -> 0 | T16: =R16 -> 320000 | U16: =T16 -> 320000 | V16: 1137 | W16: 103786 | X16: 104000 | Y16: 83371 | Z16: 0 | AA16: =M16*6.5/100 -> 41600 | AB16: =N16*6.5/100 -> 20800 | AC16: =S16*H16% -> 0
A17: 12 | B17: 30.12.2008 | C17: NABARD (RIDF-VIII) | D17: 21800000 | H17: 6.5 | K17: 21800000 | L17: =K17-Q17 -> 21800000 | M17: 13080000 | N17: =M17-U17 -> 8720000 | P17: 0 | Q17: 0 | R17: 4360000 | S17: =N17-U17 -> 4360000 | T17: =R17 -> 4360000 | U17: =T17 -> 4360000 | W17: 357140 | X17: 1417000 | Y17: 1349454 | Z17: =S17 -> 4360000 | AA17: =M17*6.5/100 -> 850200 | AB17: =N17*6.5/100 -> 566800 | AC17: =S17*H17% -> 283400
A18: 13 | B18: 17.02.2009 | C18: NABARD (RIDF-VIII) | D18: 12755000 | H18: 6.5 | K18: 12755000 | L18: =K18-Q18 -> 12755000 | M18: 7653000 | N18: =M18-U18 -> 5102000 | P18: 0 | Q18: 0 | R18: 2551000 | S18: =N18-U18 -> 2551000 | T18: =R18 -> 2551000 | U18: =T18 -> 2551000 | W18: 120386 | X18: 829075 | Y18: 830782 | Z18: =S18 -> 2551000 | AA18: =M18*6.5/100 -> 497445 | AB18: =N18*6.5/100 -> 331630 | AC18: =S18*H18% -> 165815
A19: 14 | B19: 03.03.2009 | C19: NABARD (RIDF-VIII) | D19: 5993000 | H19: 6.5 | K19: =D19 -> 5993000 | L19: =K19-Q19 -> 5993000 | M19: 3595800 | N19: =M19-U19 -> 2397200 | P19: 0 | Q19: 0 | R19: 1198600 | S19: =N19-U19 -> 1198600 | T19: =R19 -> 1198600 | U19: =T19 -> 1198600 | W19: 30950 | X19: 389545 | Y19: 390347 | Z19: =S19 -> 1198600 | AA19: =M19*6.5/100 -> 233727 | AB19: =N19*6.5/100 -> 155818 | AC19: =S19*H19% -> 77909
A20: 15 | B20: 03.03.2009 | C20: NABARD (RIDF-VIII) | D20: 19494000 | H20: 6.5 | K20: =D20 -> 19494000 | L20: =K20-Q20 -> 19494000 | M20: 11696400 | N20: =M20-U20 -> 7797600 | P20: 0 | Q20: 0 | R20: 3898800 | S20: =N20-U20 -> 3898800 | T20: =R20 -> 3898800 | U20: =T20 -> 3898800 | W20: 100674 | X20: 1267110 | Y20: 1269718 | Z20: =S20 -> 3898800 | AA20: =M20*6.5/100 -> 760266 | AB20: =N20*6.5/100 -> 506844 | AC20: =S20*H20% -> 253422
A21: 16 | B21: 31.03.2009 | C21: NABARD (RIDF-VIII) | D21: 3020000 | H21: 6.5 | K21: =D21 -> 3020000 | L21: =K21-Q21 -> 3020000 | M21: 1812000 | N21: =M21-U21 -> 1208000 | P21: 0 | Q21: 0 | R21: 604000 | S21: =N21-U21 -> 604000 | T21: =R21 -> 604000 | U21: =T21 -> 604000 | W21: 538 | X21: 196300 | Y21: 196704 | Z21: =S21 -> 604000 | AA21: =M21*6.5/100 -> 117780 | AB21: =N21*6.5/100 -> 78520 | AC21: =S21*H21% -> 39260
C22: ;ksx& | D22: =SUM(D10:D21) -> 200462000 | E22: =SUM(E10:E16) -> 49 | F22: =SUM(F10:F16) -> 14 | G22: =SUM(G10:G16) -> 0 | I22: =SUM(I10:I16) -> 0 | J22: =SUM(J10:J21) -> 137400000 | K22: =SUM(K10:K21) -> 200462000 | L22: =SUM(L10:L21) -> 172982000 | M22: =SUM(M10:M21) -> 92797200 | N22: =SUM(N10:N21) -> 52704800 | O22: =SUM(O10:O21) -> 0 | P22: =SUM(P10:P21) -> 0 | Q22: =SUM(Q10:Q21) -> 27480000 | ... AC22: =SUM(AC10:AC21) -> 819806
A23: 17 | B23: 11.09.2007 | C23: NABARD (RIDF-IX) | D23: 14500000 | E23: 7 | F23: 2 | G23: lwn izR;sd frekgh ds 1yha frfFk dks ,oa ewy/ku okf"kZd Hkqxrs; | H23: 6.5 | I23: 0 | J23: =D23 -> 14500000 | K23: 14500000 | L23: =K23-Q23 -> 11600000 | M23: 5800000 | N23: =M23-U23 -> 2900000 | O23: 0 | P23: 0 | Q23: 2900000 | R23: 2900000 | S23: =N23-U23 -> 0 | T23: =R23 -> 2900000 | U23: =T23 -> 2900000 | V23: 523543 | W23: 940560 | X23: 848508 | Y23: 661172 | AA23: =M23*6.5/100 -> 377000 | AB23: =N23*6.5/100 -> 188500 | AC23: =S23*H23% -> 0
A24: 18 | B24: 11.10.2007 | C24: NABARD (RIDF-IX) | D24: 14000000 | E24: 7 | F24: 2 | G24: lwn izR;sd frekgh ds 1yha frfFk dks ,oa ewy/ku okf"kZd Hkqxrs; | H24: 6.5 | I24: 0 | J24: 14000000 | K24: 14000000 | L24: =K24-Q24 -> 11200000 | M24: 5600000 | N24: =M24-U24 -> 2800000 | O24: 0 | P24: 0 | Q24: 2800000 | R24: 2800000 | S24: =N24-U24 -> 0 | T24: =R24 -> 2800000 | U24: =T24 -> 2800000 | V24: 430695 | W24: 908127 | X24: 834707 | Y24: 653831 | AA24: =M24*6.5/100 -> 364000 | AB24: =N24*6.5/100 -> 182000 | AC24: =S24*H24% -> 0
A25: 19 | B25: 08.11.2007 | C25: NABARD (RIDF-IX) | D25: 16100000 | E25: 7 | F25: 2 | G25: lwn izR;sd frekgh ds 1yha frfFk dks ,oa ewy/ku okf"kZd Hkqxrs; | H25: 6.5 | J25: 16100000 | K25: 16100000 | L25: =K25-Q25 -> 12880000 | M25: 6440000 | N25: =M25-U25 -> 3220000 | O25: 0 | P25: 0 | Q25: 3220000 | R25: 3220000 | S25: =N25-U25 -> 0 | T25: =R25 -> 3220000 | U25: =T25 -> 3220000 | V25: 415020 | W25: 1044346 | X25: 977116 | Y25: 769108 | AA25: =M25*6.5/100 -> 418600 | AB25: =N25*6.5/100 -> 209300 | AC25: =S25*H25% -> 0
A26: 20 | B26: 26.06.2008 | C26: NABARD (RIDF-IX) | D26: 14800000 | E26: 7 | F26: 2 | G26: lwn izR;sd frekgh ds 1yha frfFk dks ,oa ewy/ku okf"kZd Hkqxrs; | H26: 6.5 | I26: 0 | J26: 0 | K26: 14800000 | L26: =K26-Q26 -> 14800000 | M26: 8880000 | N26: =M26-U26 -> 5920000 | O26: 0 | P26: 0 | Q26: 0 | R26: 2960000 | S26: =N26-U26 -> 2960000 | T26: =R26 -> 2960000 | U26: =T26 -> 2960000 | V26: 0 | W26: 733976 | X26: 962000 | Y26: 819152 | Z26: =S26 -> 2960000 | AA26: =M26*6.5/100 -> 577200 | AB26: =N26*6.5/100 -> 384800 | AC26: =S26*H26% -> 192400
A27: 21 | B27: 22.01.2009 | C27: NABARD (RIDF-IX) | D27: 60027000 | E27: 7 | F27: 2 | G27: lwn izR;sd frekgh ds 1yha frfFk dks ,oa ewy/ku okf"kZd Hkqxrs; | H27: 6.5 | I27: 0 | J27: 0 | K27: 60027000 | L27: =K27-Q27 -> 60027000 | M27: 36017000 | N27: =M27-U27 -> 24012000 | O27: 0 | P27: 0 | Q27: 0 | R27: 12005000 | S27: =N27-U27 -> 12007000 | T27: =R27 -> 12005000 | U27: =T27 -> 12005000 | V27: 0 | W27: 737592 | X27: 3901755 | Y27: 3781865 | Z27: =S27 -> 12007000 | AA27: =M27*6.5/100 -> 2341105 | AB27: =N27*6.5/100 -> 1560780 | AC27: =S27*H27% -> 780455
A28: 22 | B28: 30.03.2009 | C28: NABARD (RIDF-IX) | D28: 1310000 | H28: 6.5 | J28: 0 | K28: 1310000 | L28: =K28-Q28 -> 1310000 | M28: 786000 | N28: =M28-U28 -> 524000 | P28: 0 | Q28: 0 | R28: 262000 | S28: =N28-U28 -> 262000 | T28: =R28 -> 262000 | U28: =T28 -> 262000 | W28: 467 | X28: 85150 | Y28: 85325 | Z28: =S28 -> 262000 | AA28: =M28*6.5/100 -> 51090 | AB28: =N28*6.5/100 -> 34060 | AC28: =S28*H28% -> 17030
A29: 23 | B29: 21.05.2009 | C29: NABARD (RIDF-IX) | D29: 944000 | H29: 6.5 | K29: 944000 | L29: 944000 | M29: 755200 | N29: =M29-U29 -> 566400 | Q29: 0 | R29: 0 | S29: =N29-U29 -> 377600 | T29: 188800 | U29: =T29 -> 188800 | X29: 61360 | Y29: 61360 | Z29: =D29/5 -> 188800 | AA29: =M29*6.5/100 -> 49088 | AB29: =N29*6.5/100 -> 36816 | AC29: =S29*H29% -> 24544
A30: 24 | B30: 21.05.2009 | C30: NABARD (RIDF-IX) | D30: 16848000 | H30: 6.5 | K30: 16848000 | L30: 16848000 | M30: 13478400 | N30: =M30-U30 -> 10108800 | Q30: 0 | R30: 0 | S30: =N30-U30 -> 6739200 | T30: 3369600 | U30: =T30 -> 3369600 | X30: 1095120 | Y30: 1095120 | Z30: =D30/5 -> 3369600 | AA30: =M30*6.5/100 -> 876096 | AB30: =N30*6.5/100 -> 657072 | AC30: =S30*H30% -> 438048
A31: 25 | B31: 25.06.2009 | C31: NABARD (RIDF-IX) | D31: 9749000 | H31: 6.5 | K31: 9749000 | L31: 9749000 | M31: 7799200 | N31: =M31-U31 -> 5849400 | Q31: 0 | R31: 0 | S31: =N31-U31 -> 3899600 | T31: 1949800 | U31: =T31 -> 1949800 | X31: 633685 | Y31: 633685 | Z31: =D31/5 -> 1949800 | AA31: =M31*6.5/100 -> 506948 | AB31: =N31*6.5/100 -> 380211 | AC31: =S31*H31% -> 253474
C32: ;ksx& | D32: =SUM(D23:D31) -> 148278000 | E32: =SUM(E23:E27) -> 35 | F32: =SUM(F23:F27) -> 10 | G32: =SUM(G23:G27) -> 0 | I32: =SUM(I23:I27) -> 0 | J32: =SUM(J23:J28) -> 44600000 | K32: =SUM(K23:K31) -> 148278000 | L32: =SUM(L23:L31) -> 139358000 | M32: =SUM(M23:M31) -> 85555800 | N32: =SUM(N23:N31) -> 55900600 | O32: =SUM(O23:O31) -> 0 | P32: =SUM(P23:P31) -> 0 | Q32: =SUM(Q23:Q31) -> 8920000 | R32: =SUM(R23:R31) -> 24147000 | ... AC32: =SUM(AC23:AC31) -> 1705951
A33: 26 | B33: 17.07.2007 | C33: NABARD (RIDF-X) | D33: 48500000 | E33: 7 | F33: 2 | G33: lwn izR;sd frekgh ds 1yha frfFk dks ,oa ewy/ku okf"kZd Hkqxrs; | H33: 6.5 | I33: =D33 -> 48500000 | J33: =I33-O33 -> 48500000 | K33: 48500000 | L33: =K33-Q33 -> 38800000 | M33: 19400000 | N33: =M33-U33 -> 9700000 | O33: 0 | P33: 0 | Q33: 9700000 | R33: 9700000 | S33: =N33-U33 -> 0 | T33: =R33 -> 9700000 | U33: =T33 -> 9700000 | V33: 3029435 | W33: 3146010 | X33: 2732742 | Y33: 2052587 | AA33: =M33*6.5/100 -> 1261000 | AB33: =N33*6.5/100 -> 630500 | AC33: =S33*H33% -> 0
A34: 27 | B34: 20.12.2007 | C34: NABARD (RIDF-X) | D34: 65000000 | E34: 7 | F34: 2 | G34: lwn izR;sd frekgh ds 1yha frfFk dks ,oa ewy/ku okf"kZd Hkqxrs; | H34: 6.5 | I34: 0 | J34: =D34 -> 65000000 | K34: 65000000 | L34: =K34-Q34 -> 52000000 | M34: 26000000 | N34: =M34-U34 -> 13000000 | O34: 0 | P34: 0 | Q34: 13000000 | R34: 13000000 | S34: =N34-U34 -> 0 | T34: =R34 -> 13000000 | U34: =T34 -> 13000000 | V34: 1189382 | W34: 4216303 | X34: 4016644 | Y34: 3176862 | AA34: =M34*6.5/100 -> 1690000 | AB34: =N34*6.5/100 -> 845000 | AC34: =S34*H34% -> 0
A35: 28 | B35: 18.03.2008 | C35: NABARD (RIDF-X) | D35: 51900000 | E35: 7 | F35: 2 | G35: lwn izR;sd frekgh ds 1yha frfFk dks ,oa ewy/ku okf"kZd Hkqxrs; | H35: 6.5 | I35: 0 | J35: =D35 -> 51900000 | K35: 51900000 | L35: =K35-Q35 -> 41520000 | M35: 20760000 | N35: =M35-U35 -> 10380000 | O35: 0 | P35: 0 | Q35: 10380000 | R35: 10380000 | S35: =N35-U35 -> 0 | T35: =R35 -> 10380000 | U35: =T35 -> 10380000 | V35: 129041 | W35: 3366556 | X35: 3373500 | Y35: 2704356 | AA35: =M35*6.5/100 -> 1349400 | AB35: =N35*6.5/100 -> 674700 | AC35: =S35*H35% -> 0
A36: 29 | B36: 10.07.2008 | C36: NABARD (RIDF-X) | D36: 37800000 | E36: 7 | F36: 2 | G36: lwn izR;sd frekgh ds 1yha frfFk dks ,oa ewy/ku okf"kZd Hkqxrs; | H36: 6.5 | I36: 0 | J36: 0 | K36: 37800000 | L36: =K36-Q36 -> 37800000 | M36: 22680000 | N36: =M36-U36 -> 15120000 | O36: 0 | P36: 0 | Q36: 0 | R36: 7560000 | S36: =N36-U36 -> 7560000 | T36: =R36 -> 7560000 | U36: =T36 -> 7560000 | V36: 0 | W36: 1780632 | X36: 2457000 | Y36: 2133895 | Z36: =S36 -> 7560000 | AA36: =M36*6.5/100 -> 1474200 | AB36: =N36*6.5/100 -> 982800 | AC36: =S36*H36% -> 491400
A37: 30 | B37: 22.01.2009 | C37: NABARD (RIDF-X) | D37: 37748000 | E37: 7 | F37: 2 | G37: lwn izR;sd frekgh ds 1yha frfFk dks ,oa ewy/ku okf"kZd Hkqxrs; | H37: 6.5 | I37: 0 | J37: 0 | K37: 37748000 | L37: =K37-Q37 -> 37748000 | M37: 22648000 | N37: =M37-U37 -> 15098000 | O37: 0 | P37: 0 | Q37: 0 | R37: 7550000 | S37: =N37-U37 -> 7548000 | T37: =R37 -> 7550000 | U37: =T37 -> 7550000 | V37: 0 | W37: 463835 | X37: 2453620 | Y37: 2378220 | Z37: =S37 -> 7548000 | AA37: =M37*6.5/100 -> 1472120 | AB37: =N37*6.5/100 -> 981370 | AC37: =S37*H37% -> 490620
A38: 31 | B38: 26.03.2009 | C38: NABARD (RIDF-X) | D38: 15075000 | H38: 6.5 | J38: 0 | K38: 15075000 | L38: =K38-Q38 -> 15075000 | M38: 9045000 | N38: =M38-U38 -> 6030000 | P38: 0 | Q38: 0 | R38: 3015000 | S38: =N38-U38 -> 3015000 | T38: =R38 -> 3015000 | U38: =T38 -> 3015000 | W38: 16108 | X38: 979875 | Y38: 981892 | Z38: =S38 -> 3015000 | AA38: =M38*6.5/100 -> 587925 | AB38: =N38*6.5/100 -> 391950 | AC38: =S38*H38% -> 195975
A39: 32 | B39: 21.05.2009 | C39: NABARD (RIDF-X) | D39: 11050000 | H39: 6.5 | K39: 11050000 | L39: 11050000 | M39: 8840000 | N39: =M39-U39 -> 6630000 | Q39: 0 | R39: 0 | S39: =N39-U39 -> 4420000 | T39: 2210000 | U39: =T39 -> 2210000 | X39: 718250 | Y39: 718250 | Z39: =D39/5 -> 2210000 | AA39: =M39*6.5/100 -> 574600 | AB39: =N39*6.5/100 -> 430950 | AC39: =S39*H39% -> 287300
A40: 33 | B40: 16.03.2010 | C40: NABARD (RIDF-X) | D40: 785000 | H40: 6.5 | K40: 785000 | L40: =D40 -> 785000 | M40: 628000 | N40: =M40-U40 -> 471000 | Q40: 0 | R40: 0 | S40: =N40-U40 -> 314000 | T40: 157000 | U40: =T40 -> 157000 | X40: 51025 | Y40: 51025 | Z40: =D40/5 -> 157000 | AA40: =M40*6.5/100 -> 40820 | AB40: =N40*6.5/100 -> 30615 | AC40: =S40*H40% -> 20410
C41: ;ksx& | D41: =SUM(D33:D40) -> 267858000 | E41: =SUM(E33:E37) -> 35 | F41: =SUM(F33:F37) -> 10 | G41: =SUM(G33:G37) -> 0 | I41: =SUM(I33:I37) -> 48500000 | J41: =SUM(J33:J38) -> 165400000 | K41: =SUM(K33:K40) -> 267858000 | L41: =SUM(L33:L40) -> 234778000 | M41: =SUM(M33:M40) -> 130001000 | N41: =SUM(N33:N40) -> 76429000 | O41: =SUM(O33:O40) -> 0 | P41: =SUM(P33:P40) -> 0 | Q41: =SUM(Q33:Q40) -> 33080000 | R41: =SUM(R33:R40) -> 51205000 | ... AC41: =SUM(AC33:AC40) -> 1485705
A42: 34 | B42: 17.07.2007 | C42: NABARD (RIDF-XI) | D42: 114600000 | E42: 7 | F42: 2 | G42: lwn izR;sd frekgh ds 1yha frfFk dks ,oa ewy/ku okf"kZd Hkqxrs; | H42: 6.5 | I42: 0 | J42: 114600000 | K42: 114600000 | L42: =K42-Q42 -> 91680000 | M42: 45840000 | N42: =M42-U42 -> 22920000 | O42: 0 | P42: 0 | Q42: 22920000 | R42: 22920000 | S42: =N42-U42 -> 0 | T42: =R42 -> 22920000 | U42: =T42 -> 22920000 | V42: 5280655 | W42: 7433666 | X42: 6457161 | Y42: 4976561 | Z42: =S42 -> 0 | AA42: =M42*6.5/100 -> 2979600 | AB42: =N42*6.5/100 -> 1489800 | AC42: =S42*H42% -> 0
A43: 35 | B43: 27.11.2007 | C43: NABARD (RIDF-XI) | D43: 145600000 | E43: 7 | F43: 2 | G43: lwn izR;sd frekgh ds 1yha frfFk dks ,oa ewy/ku okf"kZd Hkqxrs; | H43: 6.5 | I43: 0 | J43: 145600000 | K43: 145600000 | L43: =K43-Q43 -> 116480000 | M43: 58240000 | N43: =M43-U43 -> 29120000 | O43: 0 | P43: 0 | Q43: 29120000 | R43: 29120000 | S43: =N43-U43 -> 0 | T43: =R43 -> 29120000 | U43: =T43 -> 29120000 | V43: 3260578 | W43: 9444518 | X43: 8836524 | Y43: 6955413 | Z43: =S43 -> 0 | AA43: =M43*6.5/100 -> 3785600 | AB43: =N43*6.5/100 -> 1892800 | AC43: =S43*H43% -> 0
A44: 36 | B44: 27.12.2007 | C44: NABARD (RIDF-XI) | D44: 229100000 | E44: 7 | F44: 2 | G44: lwn izR;sd frekgh ds 1yha frfFk dks ,oa ewy/ku okf"kZd Hkqxrs; | H44: 6.5 | I44: 0 | J44: 229100000 | K44: 229100000 | L44: =K44-Q44 -> 183280000 | M44: 91640000 | N44: =M44-U44 -> 45820000 | O44: 0 | P44: 0 | Q44: 45820000 | R44: 45820000 | S44: =N44-U44 -> 0 | T44: =R44 -> 45820000 | U44: =T44 -> 45820000 | V44: 3906524 | W44: 14860846 | X44: 14157125 | Y44: 11197217 | Z44: =S44 -> 0 | AA44: =M44*6.5/100 -> 5956600 | AB44: =N44*6.5/100 -> 2978300 | AC44: =S44*H44% -> 0
A45: 37 | B45: 03.01.2008 | C45: NABARD (RIDF-XI) | D45: 92500000 | E45: 7 | F45: 2 | G45: lwn izR;sd frekgh ds 1yha frfFk dks ,oa ewy/ku okf"kZd Hkqxrs; | H45: 6.5 | I45: 0 | J45: 92500000 | K45: 92500000 | L45: =K45-Q45 -> 74000000 | M45: 37000000 | N45: =M45-U45 -> 18500000 | O45: 0 | P45: 0 | Q45: 18500000 | R45: 18500000 | S45: =N45-U45 -> 0 | T45: =R45 -> 18500000 | U45: =T45 -> 18500000 | V45: 1462056 | W45: 6000123 | X45: 5973716 | Y45: 4806759 | Z45: =S45 -> 0 | AA45: =M45*6.5/100 -> 2405000 | AB45: =N45*6.5/100 -> 1202500 | AC45: =S45*H45% -> 0
A46: 38 | B46: 18.03.2008 | C46: NABARD (RIDF-XI) | D46: 132100000 | E46: 7 | F46: 2 | G46: lwn izR;sd frekgh ds 1yha frfFk dks ,oa ewy/ku okf"kZd Hkqxrs; | H46: 6.5 | I46: 0 | J46: 132100000 | K46: 132100000 | L46: =K46-Q46 -> 105680000 | M46: 52840000 | N46: =M46-U46 -> 26420000 | O46: 0 | P46: 0 | Q46: 26420000 | R46: 26420000 | S46: =N46-U46 -> 0 | T46: =R46 -> 26420000 | U46: =T46 -> 26420000 | V46: 328445 | W46: 8568824 | X46: 8586500 | Y46: 6883341 | Z46: =S46 -> 0 | AA46: =M46*6.5/100 -> 3434600 | AB46: =N46*6.5/100 -> 1717300 | AC46: =S46*H46% -> 0
A47: 39 | B47: 26.03.2008 | C47: NABARD (RIDF-XI) | D47: 148400000 | E47: 7 | F47: 2 | G47: lwn izR;sd frekgh ds 1yha frfFk dks ,oa ewy/ku okf"kZd Hkqxrs; | H47: 6.5 | I47: 0 | J47: 148400000 | K47: 148400000 | L47: =K47-Q47 -> 118720000 | M47: 59360000 | N47: =M47-U47 -> 29680000 | O47: 0 | P47: 0 | Q47: 29680000 | R47: 29680000 | S47: =N47-U47 -> 0 | T47: =R47 -> 29680000 | U47: =T47 -> 29680000 | V47: 158131 | W47: 9626143 | X47: 9646000 | Y47: 7732685 | Z47: =S47 -> 0 | AA47: =M47*6.5/100 -> 3858400 | AB47: =N47*6.5/100 -> 1929200 | AC47: =S47*H47% -> 0
A48: 40 | B48: 28.03.2008 | C48: NABARD (RIDF-XI) | D48: 68800000 | E48: 7 | F48: 2 | G48: lwn izR;sd frekgh ds 1yha frfFk dks ,oa ewy/ku okf"kZd Hkqxrs; | H48: 6.5 | I48: 0 | J48: 68800000 | K48: 68800000 | L48: =K48-Q48 -> 55040000 | M48: 27520000 | N48: =M48-U48 -> 13760000 | O48: 0 | P48: 0 | Q48: 13760000 | R48: 13760000 | S48: =N48-U48 -> 0 | T48: =R48 -> 13760000 | U48: =T48 -> 13760000 | V48: 48874 | W48: 4462794 | X48: 4472000 | Y48: 3584965 | Z48: =S48 -> 0 | AA48: =M48*6.5/100 -> 1788800 | AB48: =N48*6.5/100 -> 894400 | AC48: =S48*H48% -> 0
A49: 41 | B49: 22.07.2008 | C49: NABARD (RIDF-XI) | D49: 133300000 | E49: 7 | F49: 2 | G49: lwn izR;sd frekgh ds 1yha frfFk dks ,oa ewy/ku okf"kZd Hkqxrs; | H49: 6.5 | I49: 0 | K49: 133300000 | L49: =K49-Q49 -> 133300000 | M49: 79980000 | N49: =M49-U49 -> 53320000 | O49: 0 | P49: 0 | Q49: 0 | R49: 26660000 | S49: =N49-U49 -> 26660000 | T49: =R49 -> 26660000 | U49: =T49 -> 26660000 | V49: 0 | W49: 5995232 | X49: 8664500 | Y49: 7525085 | Z49: =S49 -> 26660000 | AA49: =M49*6.5/100 -> 5198700 | AB49: =N49*6.5/100 -> 3465800 | AC49: =S49*H49% -> 1732900
A50: 42 | B50: 26.08.2008 | C50: NABARD (RIDF-XI) | D50: 112800000 | E50: 7 | F50: 2 | G50: lwn izR;sd frekgh ds 1yha frfFk dks ,oa ewy/ku okf"kZd Hkqxrs; | H50: 6.5 | I50: 0 | K50: 112800000 | L50: =K50-Q50 -> 112800000 | M50: 67680000 | N50: =M50-U50 -> 45120000 | O50: 0 | P50: 0 | Q50: 0 | R50: 22560000 | S50: =N50-U50 -> 22560000 | T50: =R50 -> 22560000 | U50: =T50 -> 22560000 | V50: 0 | W50: 4372087 | X50: 7332000 | Y50: 6492357 | Z50: =S50 -> 22560000 | AA50: =M50*6.5/100 -> 4399200 | AB50: =N50*6.5/100 -> 2932800 | AC50: =S50*H50% -> 1466400
A51: 43 | B51: 28.11.2008 | C51: NABARD (RIDF-XI) | D51: 303600000 | H51: 6.5 | K51: =D51 -> 303600000 | L51: =K51-Q51 -> 303600000 | M51: 182160000 | N51: =M51-U51 -> 121440000 | P51: 0 | Q51: 0 | R51: 60720000 | S51: =N51-U51 -> 60720000 | T51: =R51 -> 60720000 | U51: =T51 -> 60720000 | W51: 6699131 | X51: 19734000 | Y51: 18793315 | Z51: =S51 -> 60720000 | AA51: =M51*6.5/100 -> 11840400 | AB51: =N51*6.5/100 -> 7893600 | AC51: =S51*H51% -> 3946800
A52: 44 | B52: 20.01.2009 | C52: NABARD (RIDF-XI) | D52: 129014000 | H52: 6.5 | K52: 129014000 | L52: =K52-Q52 -> 129014000 | M52: 77408000 | N52: =M52-U52 -> 51605000 | P52: 0 | Q52: 0 | R52: 25803000 | S52: =N52-U52 -> 25802000 | T52: =R52 -> 25803000 | U52: =T52 -> 25803000 | W52: 1631232 | X52: 8385910 | Y52: 8128223 | Z52: =S52 -> 25802000 | AA52: =M52*6.5/100 -> 5031520 | AB52: =N52*6.5/100 -> 3354325 | AC52: =S52*H52% -> 1677130
A53: 45 | B53: 20.01.2009 | C53: NABARD (RIDF-XI) | D53: 99946000 | H53: 6.5 | K53: 99946000 | L53: =K53-Q53 -> 99946000 | M53: 59968000 | N53: =M53-U53 -> 39979000 | P53: 0 | Q53: 0 | R53: 19989000 | S53: =N53-U53 -> 19990000 | T53: =R53 -> 19989000 | U53: =T53 -> 19989000 | W53: 1263701 | X53: 6496490 | Y53: 6296866 | Z53: =S53 -> 19990000 | AA53: =M53*6.5/100 -> 3897920 | AB53: =N53*6.5/100 -> 2598635 | AC53: =S53*H53% -> 1299350
A54: 46 | B54: 26.03.2009 | C54: NABARD (RIDF-XI) | D54: 166471000 | H54: 6.5 | K54: 166471000 | L54: =K54-Q54 -> 166471000 | M54: 99882600 | N54: =M54-U54 -> 66588400 | P54: 0 | Q54: 0 | R54: 33294200 | S54: =N54-U54 -> 33294200 | T54: =R54 -> 33294200 | U54: =T54 -> 33294200 | W54: 177873 | X54: 10820615 | Y54: 10842890 | Z54: =S54 -> 33294200 | AA54: =M54*6.5/100 -> 6492369 | AB54: =N54*6.5/100 -> 4328246 | AC54: =S54*H54% -> 2164123
A55: 47 | B55: 30.03.2009 | C55: NABARD (RIDF-XI) | D55: 60565000 | H55: 6.5 | K55: 60565000 | L55: =K55-Q55 -> 60565000 | M55: 36339000 | N55: =M55-U55 -> 24226000 | P55: 0 | Q55: 0 | R55: 12113000 | S55: =N55-U55 -> 12113000 | T55: =R55 -> 12113000 | U55: =T55 -> 12113000 | W55: 21571 | X55: 3936725 | Y55: 3944829 | Z55: =S55 -> 12113000 | AA55: =M55*6.5/100 -> 2362035 | AB55: =N55*6.5/100 -> 1574690 | AC55: =S55*H55% -> 787345
A56: 48 | B56: 21.04.2009 | C56: NABARD (RIDF-XI) | D56: 50642000 | H56: 6.5 | K56: 50642000 | L56: 50642000 | M56: 40513600 | N56: =M56-U56 -> 30385200 | Q56: 0 | R56: =Q56 -> 0 | S56: =N56-U56 -> 20256800 | T56: 10128400 | U56: =T56 -> 10128400 | X56: 3291730 | Y56: 3291730 | Z56: =U56 -> 10128400 | AA56: =M56*6.5/100 -> 2633384 | AB56: =N56*6.5/100 -> 1975038 | AC56: =S56*H56% -> 1316692
A57: 49 | B57: 11.08.2009 | C57: NABARD (RIDF-XI) | D57: 158085000 | H57: 6.5 | K57: 158085000 | L57: 158085000 | M57: 126468000 | N57: =M57-U57 -> 94851000 | Q57: 0 | R57: =Q57 -> 0 | S57: =N57-U57 -> 63234000 | T57: 31617000 | U57: =T57 -> 31617000 | X57: 10275525 | Y57: 10275525 | Z57: =U57 -> 31617000 | AA57: =M57*6.5/100 -> 8220420 | AB57: =N57*6.5/100 -> 6165315 | AC57: =S57*H57% -> 4110210
A58: 50 | B58: 01.09.2009 | C58: NABARD (RIDF-XI) | D58: 153839000 | H58: 6.5 | K58: 153839000 | L58: 153839000 | M58: 123071200 | N58: =M58-U58 -> 92303400 | Q58: 0 | R58: =Q58 -> 0 | S58: =N58-U58 -> 61535600 | T58: 30767800 | U58: =T58 -> 30767800 | X58: 9999535 | Y58: 9999535 | Z58: =U58 -> 30767800 | AA58: =M58*6.5/100 -> 7999628 | AB58: =N58*6.5/100 -> 5999721 | AC58: =S58*H58% -> 3999814
A59: 51 | B59: 17.09.2009 | C59: NABARD (RIDF-XI) | D59: 64884000 | H59: 6.5 | K59: 64884000 | L59: 64884000 | M59: 51907200 | N59: =M59-U59 -> 38930400 | Q59: 0 | R59: =Q59 -> 0 | S59: =N59-U59 -> 25953600 | T59: 12976800 | U59: =T59 -> 12976800 | X59: 4217460 | Y59: 4217460 | Z59: =U59 -> 12976800 | AA59: =M59*6.5/100 -> 3373968 | AB59: =N59*6.5/100 -> 2530476 | AC59: =S59*H59% -> 1686984
A60: 52 | B60: 10.11.2009 | C60: NABARD (RIDF-XI) | D60: 2779000 | H60: 6.5 | K60: 2779000 | L60: 2779000 | M60: 2223200 | N60: =M60-U60 -> 1667400 | Q60: 0 | R60: =Q60 -> 0 | S60: =N60-U60 -> 1111600 | T60: 555800 | U60: =T60 -> 555800 | X60: 180635 | Y60: 180635 | Z60: =U60 -> 555800 | AA60: =M60*6.5/100 -> 144508 | AB60: =N60*6.5/100 -> 108381 | AC60: =S60*H60% -> 72254
A61: 53 | B61: 17.11.2009 | C61: NABARD (RIDF-XI) | D61: 100961000 | H61: 6.5 | K61: 100961000 | L61: 100961000 | M61: 80768800 | N61: =M61-U61 -> 60576600 | Q61: 0 | R61: =Q61 -> 0 | S61: =N61-U61 -> 40384400 | T61: 20192200 | U61: =T61 -> 20192200 | X61: 6562465 | Y61: 6562465 | Z61: =U61 -> 20192200 | AA61: =M61*6.5/100 -> 5249972 | AB61: =N61*6.5/100 -> 3937479 | AC61: =S61*H61% -> 2624986
A62: 54 | B62: 28.01.2010 | C62: NABARD (RIDF-XI) | D62: 70407000 | H62: 6.5 | K62: 70407000 | L62: 70407000 | M62: 56325600 | N62: =M62-U62 -> 42244200 | Q62: 0 | R62: =Q62 -> 0 | S62: =N62-U62 -> 28162800 | T62: 14081400 | U62: =T62 -> 14081400 | X62: 7576455 | Y62: 7576455 | Z62: =U62 -> 14081400 | AA62: =M62*6.5/100 -> 3661164 | AB62: =N62*6.5/100 -> 2745873 | AC62: =S62*H62% -> 1830582
A63: 55 | B63: 04.02.2010 | C63: NABARD (RIDF-XI) | D63: 106372000 | H63: 6.5 | K63: 106372000 | L63: 106372000 | M63: 85097600 | N63: =M63-U63 -> 63823200 | Q63: 0 | R63: =Q63 -> 0 | S63: =N63-U63 -> 42548800 | T63: 21274400 | U63: =T63 -> 21274400 | X63: 6914180 | Y63: 6914180 | Z63: =U63 -> 21274400 | AA63: =M63*6.5/100 -> 5531344 | AB63: =N63*6.5/100 -> 4148508 | AC63: =S63*H63% -> 2765672
A64: 56 | B64: 16.02.2010 | C64: NABARD (RIDF-XI) | D64: 9007000 | H64: 6.5 | K64: 9007000 | L64: =D64 -> 9007000 | M64: 7205600 | N64: =M64-U64 -> 5404200 | Q64: 0 | R64: =Q64 -> 0 | S64: =N64-U64 -> 3602800 | T64: 1801400 | U64: =T64 -> 1801400 | X64: 585455 | Y64: 585455 | Z64: =U64 -> 1801400 | AA64: =M64*6.5/100 -> 468364 | AB64: =N64*6.5/100 -> 351273 | AC64: =S64*H64% -> 234182
A65: 57 | B65: 04.03.2010 | C65: NABARD (RIDF-XI) | D65: 23914000 | H65: 6.5 | K65: 23914000 | L65: =D65 -> 23914000 | M65: 19131200 | N65: =M65-U65 -> 14348400 | Q65: 0 | R65: =Q65 -> 0 | S65: =N65-U65 -> 9565600 | T65: 4782800 | U65: =T65 -> 4782800 | X65: 1554410 | Y65: 1554410 | Z65: =U65 -> 4782800 | AA65: =M65*6.5/100 -> 1243528 | AB65: =N65*6.5/100 -> 932646 | AC65: =S65*H65% -> 621764
A66: 58 | B66: 29.03.2010 | C66: NABARD (RIDF-XI) | D66: 87360000 | H66: 6.5 | K66: 87360000 | L66: =D66 -> 87360000 | M66: 69888000 | N66: =M66-U66 -> 52416000 | Q66: 0 | R66: =Q66 -> 0 | S66: =N66-U66 -> 34944000 | T66: 17472000 | U66: =T66 -> 17472000 | X66: 5678400 | Y66: 5678400 | Z66: =U66 -> 17472000 | AA66: =M66*6.5/100 -> 4542720 | AB66: =N66*6.5/100 -> 3407040 | AC66: =S66*H66% -> 2271360
A67: 59 | B67: 30.03.2010 | C67: NABARD (RIDF-XI) | D67: 75764000 | H67: 6.5 | K67: 75764000 | L67: =D67 -> 75764000 | M67: 60611200 | N67: =M67-U67 -> 45458400 | Q67: 0 | R67: =Q67 -> 0 | S67: =N67-U67 -> 30305600 | T67: 15152800 | U67: =T67 -> 15152800 | X67: 4924660 | Y67: 4924660 | Z67: =U67 -> 15152800 | AA67: =M67*6.5/100 -> 3939728 | AB67: =N67*6.5/100 -> 2954796 | AC67: =S67*H67% -> 1969864
A68: 60 | B68: 31.03.2010 | C68: NABARD (RIDF-XI) | D68: 44617000 | H68: 6.5 | K68: 44617000 | L68: =D68 -> 44617000 | M68: 35693600 | N68: =M68-U68 -> 26770200 | Q68: 0 | R68: =Q68 -> 0 | S68: =N68-U68 -> 17846800 | T68: 8923400 | U68: =T68 -> 8923400 | X68: 2900105 | Y68: 2900105 | Z68: =U68 -> 8923400 | AA68: =M68*6.5/100 -> 2320084 | AB68: =N68*6.5/100 -> 1740063 | AC68: =S68*H68% -> 1160042
A69: 61 | B69: 31.03.2010 | C69: NABARD (RIDF-XI) | D69: 3648000 | H69: 6.5 | K69: 3648000 | L69: =D69 -> 3648000 | M69: 2918400 | N69: =M69-U69 -> 2188800 | Q69: 0 | R69: =Q69 -> 0 | S69: =N69-U69 -> 1459200 | T69: 729600 | U69: =T69 -> 729600 | X69: 237120 | Y69: 237120 | Z69: =U69 -> 729600 | AA69: =M69*6.5/100 -> 189696 | AB69: =N69*6.5/100 -> 142272 | AC69: =S69*H69% -> 94848
A70: 62 | B70: 11.05.2010 | C70: NABARD (RIDF-XI) | D70: 31058000 | H70: 6.5 | K70: 0 | L70: =D70 -> 31058000 | M70: 31058000 | N70: =M70-T70 -> 24846400 | Q70: 0 | R70: =Q70 -> 0 | S70: =N70-U70 -> 18634800 | T70: 6211600 | U70: =M70/5 -> 6211600 | X70: 1797535 | Y70: 2108770 | Z70: =U70 -> 6211600 | AA70: =M70*6.5/100 -> 2018770 | AB70: =N70*6.5/100 -> 1615016 | AC70: =S70*H70% -> 1211262
A71: 63 | B71: 18.05.2010 | C71: NABARD (RIDF-XI) | D71: 32516000 | H71: 6.5 | K71: 0 | L71: =D71 -> 32516000 | M71: =L71-R71 -> 32516000 | N71: =M71-T71 -> 26012800 | Q71: 0 | R71: =Q71 -> 0 | S71: =N71-U71 -> 19509600 | T71: 6503200 | U71: =M71/5 -> 6503200 | X71: 1841386 | Y71: 2113540 | Z71: =U71 -> 6503200 | AA71: =M71*6.5/100 -> 2113540 | AB71: =N71*6.5/100 -> 1690832 | AC71: =S71*H71% -> 1268124
A72: 64 | B72: 08.07.2010 | C72: NABARD (RIDF-XI) | D72: 2282000 | H72: 6.5 | K72: 0 | L72: =D72 -> 2282000 | M72: =L72-R72 -> 2282000 | N72: =M72-T72 -> 1825600 | Q72: 0 | R72: =Q72 -> 0 | S72: =N72-U72 -> 1369200 | T72: 456400 | U72: =M72/5 -> 456400 | X72: 108504 | Y72: 148330 | Z72: =U72 -> 456400 | AA72: =M72*6.5/100 -> 148330 | AB72: =N72*6.5/100 -> 118664 | AC72: =S72*H72% -> 88998
A73: 65 | B73: 18.08.2010 | C73: NABARD (RIDF-XI) | D73: 46455000 | H73: 6.5 | K73: 0 | L73: =D73 -> 46455000 | M73: =L73-R73 -> 46455000 | N73: =M73-T73 -> 37164000 | Q73: 0 | R73: =Q73 -> 0 | S73: =N73-U73 -> 27873000 | T73: 9291000 | U73: =M73/5 -> 9291000 | X73: 1869655 | Y73: 3019575 | Z73: =U73 -> 9291000 | AA73: =M73*6.5/100 -> 3019575 | AB73: =N73*6.5/100 -> 2415660 | AC73: =S73*H73% -> 1811745
A74: 66 | B74: 04.11.2010 | C74: NABARD (RIDF-XI) | D74: 16555000 | H74: 6.5 | K74: 0 | L74: =D74 -> 16555000 | M74: =L74-R74 -> 16555000 | N74: =M74-T74 -> 13244000 | Q74: 0 | R74: =Q74 -> 0 | S74: =N74-U74 -> 9933000 | T74: 3311000 | U74: =M74/5 -> 3311000 | X74: 436326 | Y74: 1076075 | Z74: =U74 -> 3311000 | AA74: =M74*6.5/100 -> 1076075 | AB74: =N74*6.5/100 -> 860860 | AC74: =S74*H74% -> 645645
A75: 67 | B75: 18.01.2011 | C75: NABARD (RIDF-XI) | D75: 30686000 | H75: 6.5 | K75: 0 | L75: =D75 -> 30686000 | M75: =L75-R75 -> 30686000 | N75: =M75-T75 -> 24548800 | Q75: 0 | R75: =Q75 -> 0 | S75: =N75-U75 -> 18411600 | T75: 6137200 | U75: =M75/5 -> 6137200 | X75: 398918 | Y75: 1994590 | Z75: =U75 -> 6137200 | AA75: =M75*6.5/100 -> 1994590 | AB75: =N75*6.5/100 -> 1595672 | AC75: =S75*H75% -> 1196754
A76: 68 | B76: 27.01.2011 | C76: NABARD (RIDF-XI) | D76: 37681000 | H76: 6.5 | K76: 0 | L76: =D76 -> 37681000 | M76: =L76-R76 -> 37681000 | N76: =M76-T76 -> 30144800 | Q76: 0 | R76: =Q76 -> 0 | S76: =N76-U76 -> 22608600 | T76: 7536200 | U76: =M76/5 -> 7536200 | X76: 429460 | Y76: 2449265 | Z76: =U76 -> 7536200 | AA76: =M76*6.5/100 -> 2449265 | AB76: =N76*6.5/100 -> 1959412 | AC76: =S76*H76% -> 1469559
A77: 69 | B77: 17.02.2011 | C77: NABARD (RIDF-XI) | D77: 32670000 | H77: 6.5 | K77: 0 | L77: 32670000 | M77: =L77-R77 -> 32670000 | N77: =M77-T77 -> 26136000 | Q77: 0 | R77: 0 | S77: =N77-U77 -> 19602000 | T77: 6534000 | U77: =M77/5 -> 6534000 | X77: 250172 | Y77: 2123550 | Z77: =U77 -> 6534000 | AA77: =M77*6.5/100 -> 2123550 | AB77: =N77*6.5/100 -> 1698840 | AC77: =S77*H77% -> 1274130
A78: 70 | B78: 24.03.2011 | C78: NABARD (RIDF-XI) | D78: 11286000 | H78: 6.5 | K78: 0 | L78: 11286000 | M78: =L78-R78 -> 11286000 | N78: =M78-T78 -> 9028800 | Q78: 0 | R78: 0 | S78: =N78-U78 -> 6771600 | T78: 2257200 | U78: =M78/5 -> 2257200 | X78: 22108 | Y78: 733590 | Z78: =U78 -> 2257200 | AA78: =M78*6.5/100 -> 733590 | AB78: =N78*6.5/100 -> 586872 | AC78: =S78*H78% -> 440154
A79: 71 | B79: 31.03.2011 | C79: NABARD (RIDF-XI) | D79: 15330000 | H79: 6.5 | K79: 0 | L79: 15330000 | M79: =L79-R79 -> 15330000 | N79: =M79-T79 -> 12264000 | Q79: 0 | R79: 0 | S79: =N79-U79 -> 9198000 | T79: 3066000 | U79: =M79/5 -> 3066000 | X79: 2730 | Y79: 996450 | Z79: =U79 -> 3066000 | AA79: =M79*6.5/100 -> 996450 | AB79: =N79*6.5/100 -> 797160 | AC79: =S79*H79% -> 597870
A80: 72 | B80: 31.03.2011 | C80: NABARD (RIDF-XI) | D80: 35866000 | H80: 6.5 | K80: 0 | L80: 35866000 | M80: =L80-R80 -> 35866000 | N80: =M80-T80 -> 28692800 | Q80: 0 | R80: 0 | S80: =N80-U80 -> 21519600 | T80: 7173200 | U80: =M80/5 -> 7173200 | X80: 6387 | Y80: 2331290 | Z80: =U80 -> 7173200 | AA80: =M80*6.5/100 -> 2331290 | AB80: =N80*6.5/100 -> 1865032 | AC80: =S80*H80% -> 1398774
A81: 73 | B81: 31.03.2011 | C81: NABARD (RIDF-XI) | D81: 2333000 | H81: 6.5 | K81: 0 | L81: 2333000 | M81: =L81-R81 -> 2333000 | N81: =M81-T81 -> 1866400 | Q81: 0 | R81: 0 | S81: =N81-U81 -> 1399800 | T81: 466600 | U81: =M81/5 -> 466600 | X81: 415 | Y81: 151645 | Z81: =U81 -> 466600 | AA81: =M81*6.5/100 -> 151645 | AB81: =N81*6.5/100 -> 121316 | AC81: =S81*H81% -> 90987
A82: 74 | B82: 23.11.2011 | C82: NABARD (RIDF-XI) | D82: 34605000 | H82: 6.5 | L82: 0 | M82: 34605000 | N82: =M82-T82 -> 34605000 | R82: 0 | S82: =N82-U82 -> 27684000 | T82: 0 | U82: =D82/5 -> 6921000 | Y82: 788804 | Z82: =U82 -> 6921000 | AA82: 2249325 | AB82: =N82*6.5/100 -> 2249325 | AC82: =S82*H82% -> 1799460
A83: 75 | B83: 23.01.2012 | C83: NABARD (RIDF-XI) | D83: 13042000 | H83: 6.5 | L83: 0 | M83: 13042000 | N83: =M83-T83 -> 13042000 | R83: 0 | S83: =N83-U83 -> 10433600 | T83: 0 | U83: =D83/5 -> 2608400 | Y83: 155611 | Z83: =U83 -> 2608400 | AA83: 847730 | AB83: =N83*6.5/100 -> 847730 | AC83: =S83*H83% -> 678184
A84: 76 | B84: 21.02.2012 | C84: NABARD (RIDF-XI) | D84: 8755000 | H84: 6.5 | L84: 0 | M84: 8755000 | N84: =M84-T84 -> 8755000 | R84: 0 | S84: =N84-U84 -> 7004000 | T84: 0 | U84: =D84/5 -> 1751000 | Y84: 60805 | Z84: =U84 -> 1751000 | AA84: =M84*6.5/100 -> 569075 | AB84: =N84*6.5/100 -> 569075 | AC84: =S84*H84% -> 455260
A85: 77 | B85: 26.03.2012 | C85: NABARD (RIDF-XI) | D85: 9144000 | H85: 6.5 | L85: 0 | M85: 9144000 | N85: =M85-T85 -> 9144000 | R85: 0 | S85: =N85-U85 -> 7315200 | T85: 0 | U85: =D85/5 -> 1828800 | Y85: 9770 | Z85: =U85 -> 1828800 | AA85: 594360 | AB85: =N85*6.5/100 -> 594360 | AC85: =S85*H85% -> 475488
A86: 78 | B86: 30.03.2012 | C86: NABARD (RIDF-XI) | D86: 11984000 | H86: 6.5 | L86: 0 | M86: 11984000 | N86: =M86-T86 -> 11984000 | R86: 0 | S86: =N86-U86 -> 9587200 | T86: 0 | U86: =D86/5 -> 2396800 | Y86: 4268 | Z86: =U86 -> 2396800 | AA86: 778960 | AB86: =N86*6.5/100 -> 778960 | AC86: =S86*H86% -> 623168
A87: 79 | B87: 30.03.2012 | C87: NABARD (RIDF-XI) | D87: 912000 | H87: 6.5 | L87: 0 | M87: 912000 | N87: =M87-T87 -> 912000 | R87: 0 | S87: =N87-U87 -> 729600 | T87: 0 | U87: =D87/5 -> 182400 | Y87: 325 | Z87: =U87 -> 182400 | AA87: 59280 | AB87: =N87*6.5/100 -> 59280 | AC87: =S87*H87% -> 47424
A88: 80 | B88: 22.06.2012 | C88: NABARD (RIDF-XI) | D88: 39320000 | H88: 7.5 | M88: 39320000 | N88: 39320000 | S88: =N88-U88 -> 39320000 | T88: 0 | U88: 0 | Z88: =D88/5 -> 7864000 | AA88: =AB88/365*285 -> 2302643.8 | AB88: =N88*7.5/100 -> 2949000 | AC88: =S88*H88% -> 2949000
C89: ;ksx& | D89: =SUM(D42:D88) -> 3301555000 | E89: =SUM(E42:E53) -> 63 | F89: =SUM(F42:F53) -> 18 | G89: =SUM(G42:G53) -> 0 | I89: =SUM(I42:I53) -> 0 | J89: =SUM(J42:J55) -> 931100000 | K89: =SUM(K42:K83) -> 2889075000 | L89: =SUM(L42:L87) -> 2997573000 | M89: =SUM(M42:M88) -> 2150160800 | N89: =SUM(N42:N88) -> 1513402200 | O89: =SUM(O42:O88) -> 0 | P89: =SUM(P42:P88) -> 0 | Q89: =SUM(Q42:Q88) -> 186220000 | R89: =SUM(R42:R88) -> 387359200 | S89: =SUM(S42:S88) -> 860955200 | T89: =SUM(T42:T88) -> 636758600 | ... AC89: =SUM(AC42:AC88) -> 56355288
A90: 81 | B90: 06.12.2007 | C90: NABARD (RIDF-XII) | D90: 58800000 | E90: 7 | F90: 2 | G90: lwn izR;sd frekgh ds 1yha frfFk dks ,oa ewy/ku okf"kZd Hkqxrs; | H90: 6.5 | I90: 0 | J90: =D90 -> 58800000 | K90: 58800000 | L90: =K90-Q90 -> 47040000 | M90: 23520000 | N90: =M90-U90 -> 11760000 | O90: 0 | P90: 0 | Q90: 11760000 | R90: 11760000 | S90: =N90-U90 -> 0 | T90: =R90 -> 11760000 | U90: =T90 -> 11760000 | V90: 1222530.7 | W90: 3814132.3 | X90: 2869118 | Y90: 2107865 | Z90: 0 | AA90: =M90*6.5/100 -> 1528800 | AB90: =N90*6.5/100 -> 764400 | AC90: =S90*H90% -> 0
A91: 82 | B91: 16.10.2007 | C91: NABARD (RIDF-XII) | D91: 65700000 | E91: 7 | F91: 2 | G91: lwn izR;sd frekgh ds 1yha frfFk dks ,oa ewy/ku okf"kZd Hkqxrs; | H91: 6.5 | J91: =D91 -> 65700000 | K91: 65700000 | L91: =K91-Q91 -> 52560000 | M91: 26280000 | N91: =M91-U91 -> 13140000 | O91: 0 | P91: 0 | Q91: 13140000 | R91: 13140000 | S91: =N91-U91 -> 0 | T91: =R91 -> 13140000 | U91: =T91 -> 13140000 | V91: 1962691 | W91: 4261709 | X91: 3917160 | Y91: 3068335 | Z91: 0 | AA91: =M91*6.5/100 -> 1708200 | AB91: =N91*6.5/100 -> 854100 | AC91: =S91*H91% -> 0
A92: 83 | B92: 20.11.2007 | C92: NABARD (RIDF-XII) | D92: 8600000 | E92: 7 | F92: 2 | G92: lwn izR;sd frekgh ds 1yha frfFk dks ,oa ewy/ku okf"kZd Hkqxrs; | H92: 6.5 | J92: =D92 -> 8600000 | K92: 8600000 | L92: =K92-Q92 -> 6880000 | M92: 3440000 | N92: =M92-U92 -> 1720000 | O92: 0 | P92: 0 | Q92: 1720000 | R92: 1720000 | S92: =N92-U92 -> 0 | T92: =R92 -> 1720000 | U92: =T92 -> 1720000 | V92: 203310 | W92: 557849 | X92: 521938 | Y92: 410828 | Z92: 0 | AA92: =M92*6.5/100 -> 223600 | AB92: =N92*6.5/100 -> 111800 | AC92: =S92*H92% -> 0
A93: 84 | B93: 20.12.2007 | C93: NABARD (RIDF-XII) | D93: 11700000 | E93: 7 | F93: 2 | G93: lwn izR;sd frekgh ds 1yha frfFk dks ,oa ewy/ku okf"kZd Hkqxrs; | H93: 6.5 | I93: 0 | J93: =D93 -> 11700000 | K93: 11700000 | L93: =K93-Q93 -> 9360000 | M93: 4680000 | N93: =M93-U93 -> 2340000 | O93: 0 | P93: 0 | Q93: 2340000 | R93: 2340000 | S93: =N93-U93 -> 0 | T93: =R93 -> 2340000 | U93: =T93 -> 2340000 | V93: 214089 | W93: 758935 | X93: 722996 | Y93: 571835 | Z93: 0 | AA93: =M93*6.5/100 -> 304200 | AB93: =N93*6.5/100 -> 152100 | AC93: =S93*H93% -> 0
A94: 85 | B94: 27.12.2007 | C94: NABARD (RIDF-XII) | D94: 17400000 | E94: 7 | F94: 2 | G94: lwn izR;sd frekgh ds 1yha frfFk dks ,oa ewy/ku okf"kZd Hkqxrs; | H94: 6.5 | I94: 0 | J94: =D94 -> 17400000 | K94: 17400000 | L94: =K94-Q94 -> 13920000 | M94: 6960000 | N94: =M94-U94 -> 3480000 | O94: 0 | P94: 0 | Q94: 3480000 | R94: 3480000 | S94: =N94-U94 -> 0 | T94: =R94 -> 3480000 | U94: =T94 -> 3480000 | V94: 296698 | W94: 1128672 | X94: 1075225 | Y94: 850422 | Z94: 0 | AA94: =M94*6.5/100 -> 452400 | AB94: =N94*6.5/100 -> 226200 | AC94: =S94*H94% -> 0
A95: 86 | B95: 03.01.2008 | C95: NABARD (RIDF-XII) | D95: 194200000 | E95: 7 | F95: 2 | G95: lwn izR;sd frekgh ds 1yha frfFk dks ,oa ewy/ku okf"kZd Hkqxrs; | H95: 6.5 | I95: 0 | J95: 194200000 | K95: 194200000 | L95: =K95-Q95 -> 155360000 | M95: 77680000 | N95: =M95-U95 -> 38840000 | O95: 0 | P95: 0 | Q95: 38840000 | R95: 38840000 | S95: =N95-U95 -> 0 | T95: =R95 -> 38840000 | U95: =T95 -> 38840000 | V95: 3069527 | W95: 12597015 | X95: 12541575 | Y95: 10091597 | Z95: 0 | AA95: =M95*6.5/100 -> 5049200 | AB95: =N95*6.5/100 -> 2524600 | AC95: =S95*H95% -> 0
A96: 87 | B96: 07.03.2008 | C96: NABARD (RIDF-XII) | D96: 82400000 | E96: 7 | F96: 2 | G96: lwn izR;sd frekgh ds 1yha frfFk dks ,oa ewy/ku okf"kZd Hkqxrs; | H96: 6.5 | I96: 0 | J96: =D96 -> 82400000 | K96: 82400000 | L96: =K96-Q96 -> 65920000 | M96: 32960000 | N96: =M96-U96 -> 16480000 | O96: 0 | P96: 0 | Q96: 16480000 | R96: 16480000 | S96: =N96-U96 -> 0 | T96: =R96 -> 16480000 | U96: =T96 -> 16480000 | V96: 365847 | W96: 5344974 | X96: 5356000 | Y96: 4293620 | Z96: 0 | AA96: =M96*6.5/100 -> 2142400 | AB96: =N96*6.5/100 -> 1071200 | AC96: =S96*H96% -> 0
A97: 88 | B97: 28.03.2008 | C97: NABARD (RIDF-XII) | D97: 20600000 | E97: 7 | F97: 2 | G97: lwn izR;sd frekgh ds 1yha frfFk dks ,oa ewy/ku okf"kZd Hkqxrs; | H97: 6.5 | I97: 0 | J97: =D97 -> 20600000 | K97: 20600000 | L97: =K97-Q97 -> 16480000 | M97: 8240000 | N97: =M97-U97 -> 4120000 | O97: 0 | P97: 0 | Q97: 4120000 | R97: 4120000 | S97: =N97-U97 -> 0 | T97: =R97 -> 4120000 | U97: =T97 -> 4120000 | V97: 14634 | W97: 1336244 | X97: 1339000 | Y97: 1073405 | Z97: 0 | AA97: =M97*6.5/100 -> 535600 | AB97: =N97*6.5/100 -> 267800 | AC97: =S97*H97% -> 0
A98: 89 | B98: 10.07.2008 | C98: NABARD (RIDF-XII) | D98: 49300000 | E98: 7 | F98: 2 | G98: lwn izR;sd frekgh ds 1yha frfFk dks ,oa ewy/ku okf"kZd Hkqxrs; | H98: 6.5 | I98: 0 | J98: 0 | K98: 49300000 | L98: =K98-Q98 -> 49300000 | M98: 29580000 | N98: =M98-U98 -> 19720000 | O98: 0 | P98: 0 | Q98: 0 | R98: 9860000 | S98: =N98-U98 -> 9860000 | T98: =R98 -> 9860000 | U98: =T98 -> 9860000 | V98: 0 | W98: 2322358 | X98: 3204500 | Y98: 2783096 | Z98: =U98 -> 9860000 | AA98: =M98*6.5/100 -> 1922700 | AB98: =N98*6.5/100 -> 1281800 | AC98: =S98*H98% -> 640900
A99: 90 | B99: 02.09.2008 | C99: NABARD (RIDF-XII) | D99: 18400000 | E99: 7 | F99: 2 | G99: lwn izR;sd frekgh ds 1yha frfFk dks ,oa ewy/ku okf"kZd Hkqxrs; | H99: 6.5 | I99: 0 | K99: 18400000 | L99: =K99-Q99 -> 18400000 | M99: 11040000 | N99: =M99-U99 -> 7360000 | O99: 0 | P99: 0 | Q99: 0 | R99: 3680000 | S99: =N99-U99 -> 3680000 | T99: =R99 -> 3680000 | U99: =T99 -> 3680000 | V99: 0 | W99: 690303 | X99: 1196000 | Y99: 1059037 | Z99: =U99 -> 3680000 | AA99: =M99*6.5/100 -> 717600 | AB99: =N99*6.5/100 -> 478400 | AC99: =S99*H99% -> 239200
A100: 91 | B100: 22.10.2008 | C100: NABARD (RIDF-XII) | D100: 49900000 | E100: 7 | F100: 2 | G100: lwn izR;sd frekgh ds 1yha frfFk dks ,oa ewy/ku okf"kZd Hkqxrs; | H100: 6.5 | I100: 0 | J100: 0 | K100: 49900000 | L100: =K100-Q100 -> 49900000 | M100: 29940000 | N100: =M100-U100 -> 19960000 | O100: 0 | P100: 0 | Q100: 0 | R100: 9980000 | S100: =N100-U100 -> 9980000 | T100: =R100 -> 9980000 | U100: =T100 -> 9980000 | V100: 0 | W100: 1428971 | X100: 3243500 | Y100: 2980475 | Z100: =U100 -> 9980000 | AA100: =M100*6.5/100 -> 1946100 | AB100: =N100*6.5/100 -> 1297400 | AC100: =S100*H100% -> 648700
...

Sheet Final Power Bond
A1: ikWoj ckW.M~l
A2: dtksZ dk fooj.k | B2: lanHkZ la[;k | C2: frfFk | D2: ewy/ku Hkqxrku dh frfFk | E2: _.k dh jkf'k | F2: lwn Hkqxrku dh frfFk | G2: vo'ks"k | H2: vo'ks"k | K2: ewy/ku dh okilh | M2: C;kt dh okilh
G3: 01.04.2013 | H3: 01.04.2014 | I3: 01.04.2015 | J3: 2013-14 | K3: 2014-15 | L3: 2015-16 | M3: 2013-14 | N3: 2014-15 | O3: 2015-16
A4: 1 | B4: 2 | C4: 3 | D4: 4 | E4: 5 | F4: 6 | G4: 7 | H4: 8 | I4: 9 | J4: 9 | K4: 10 | L4: 11 | M4: 11 | N4: 12 | O4: 13
A5: (8.5%) Power Bond (Interest Payble from 1.10.2001) | F5: 1yha vDVqcj ,oa 1yha vizSy dks izR;sd o"kZ Hkqxrs;
B7: 1547 | C7: 15.09.2003 | D7: vDVqcj-2014 | E7: 796760000 | G7: 796760000 | H7: =G7 -> 796760000 | I7: 0 | K7: 796760000 | L7: 0 | M7: 67724600 | N7: =M7 -> 67724600 | O7: 0
B8: 1548 | C8: 15.09.2003 | D8: vizSy-2015 | E8: 796760000 | G8: 796760000 | H8: =G8 -> 796760000 | I8: 0 | K8: 796760000 | L8: 0 | M8: 67724600 | N8: =M8 -> 67724600 | O8: 0
B9: 1549 | C9: 15.09.2003 | D9: vDVqcj-2015 | E9: 796760000 | G9: 796760000 | H9: =G9 -> 796760000 | I9: =H9 -> 796760000 | L9: =H9 -> 796760000 | M9: 67724600 | N9: =M9*1.5 -> 101586900 | O9: =67724600+O10/2 -> 101586900
B10: 1550 | C10: 15.09.2003 | D10: vizSy-2016 | E10: 796760000 | G10: 796760000 | H10: =G10 -> 796760000 | I10: =H10 -> 796760000 | L10: =H10 -> 796760000 | M10: 67724600 | N10: =M10 -> 67724600 | O10: 67724600
B11: 882 | C11: 31.12.2005 | D11: vDVqcj&2014 | E11: 241045000 | G11: 241045000 | H11: =G11 -> 241045000 | I11: 0 | K11: 241045000 | M11: 20488825 | N11: =M11 -> 20488825 | O11: 0
B12: 883 | C12: 31.12.2005 | D12: vizSy&2015 | E12: 241045000 | G12: 241045000 | H12: =G12 -> 241045000 | I12: 0 | K12: 241045000 | M12: 20488825 | N12: =M12 -> 20488825 | O12: 0
B13: 884 | C13: 31.12.2005 | D13: vDVqcj&2015 | E13: 241045000 | G13: 241045000 | H13: =G13 -> 241045000 | I13: =H13 -> 241045000 | L13: =H13 -> 241045000 | M13: 20488825 | N13: =M13*1.5 -> 30733238 | O13: =20488825+O14/2 -> 30733238
B14: 885 | C14: 31.12.2005 | D14: vizSy&2016 | E14: 241045000 | G14: 241045000 | H14: =G14 -> 241045000 | I14: =H14 -> 241045000 | L14: =H14 -> 241045000 | M14: 20488825 | N14: =M14 -> 20488825 | O14: 20488825
D15: egk;ksx& | E15: =SUM(E7:E14) -> 4151220000 | G15: =SUM(G7:G14) -> 4151220000 | H15: =SUM(H7:H14) -> 4151220000 | I15: =SUM(I7:I14) -> 2075610000 | J15: =SUM(J7:J14) -> 0 | K15: =SUM(K7:K14) -> 2075610000 | L15: =SUM(L7:L14) -> 2075610000 | M15: =SUM(M7:M14) -> 352853700 | N15: =SUM(N7:N14) -> 3.9696041e+08 | O15: =SUM(O7:O14) -> 2.2053356e+08
