Workbook

Sheet Summary of Internal Loans
A1: jkT; ljdkj dk vkarfjd _.k
A2: dtksZ dk fooj.k | C2: vo'ks"k | E2: ewy/ku dh okilh | G2: C;kt dh okilh
C3: 01-04-14 ¼egkys[kkdkj ds vk¡dM+sa ds vuqlkj½ | D3: 01.04.2015 dks o"kZ 2014&15 eas izkfIr ,oa O;; ds lek;kstu ds mijkar | E3: 2014-15 | F3: 2015-16 | G3: 2014-15 | H3: 2015-16
A4: 1 | C4: 2 | D4: 3 | E4: 4 | F4: 5 | G4: 6 | H4: 7
A5: 6003- | B5: jkT; ljdkj dk vkarfjd _.k
A6: 101 | B6: cktkj dtZ
B7: ¼d½ C;kt lfgr cktkj _.k | C7: 312843280000 | D7: ='Market_Loan-Bearing'!L58 -> 389873100000 | E7: ='Market_Loan-Bearing'!N58 -> 14334680000 | F7: ='Market_Loan-Bearing'!O58 -> 12668850000 | G7: ='Market_Loan-Bearing'!Q58 -> 26447510710 | H7: ='Market_Loan-Bearing'!R58 -> 34239717000
B8: ¼[k½ C;kt jfgr cktkj _.k | C8: 2252000 | D8: ='Market_Loan-Not Bearing'!P20 -> 3013900 | E8: =14337696000-E7 -> 3016000 | F8: =12671866000-F7 -> 3016000
B9: tksM+&101 cktkj dtZ | C9: =SUM(C7:C8) -> 312845532000 | D9: =SUM(D7:D8) -> 389876113900 | E9: =SUM(E7:E8) -> 14337696000 | F9: =SUM(F7:F8) -> 12671866000 | G9: =SUM(G7:G8) -> 26447510710 | H9: =SUM(H7:H8) -> 34239717000
A10: 103 | B10: Hkkjrh; thou chek fuxe ls dtZ | C10: 215515000 | D10: =C10 -> 215515000
A11: 104 | B11: Hkkjrh; lkekU; chek fuxe ls dtZ | C11: -12708000 | D11: =C11 -> -12708000
A12: 105 | B12: jk"Vªh; d`f"k vkSj xzkeh.k fodkl cSad ls dtZ | C12: 40119599000 | D12: ='Final Yearwise Summ of NABARD'!S1296 -> 43212668000 | E12: ='Final Yearwise Summ of NABARD'!U1296 -> 5225054800 | F12: ='Final Yearwise Summ of NABARD'!Z1296 -> 6435865400 | G12: ='Final Yearwise Summ of NABARD'!AB1296 -> 3.4421e+09 | H12: ='Final Yearwise Summ of NABARD'!AC1296 -> 4000000000
A13: 106 | B13: izfrdj rFkk vU; ca/k&i=
A14: 0002 | B14: tehankjh mUewyu eqvkotk ca/k&i= | C14: 192736000 | D14: ='Zamindari Bond'!H6 -> 171736000 | E14: ='Zamindari Bond'!I6 -> 21000000 | F14: ='Zamindari Bond'!J6 -> 21000000 | G14: ='Zamindari Bond'!K6 -> 5000000 | H14: ='Zamindari Bond'!L6 -> 5000000
A15: 0003 | B15: ikoj ckW.M | C15: 4151220000 | D15: ='Final Power Bond'!I15 -> 2075610000 | E15: ='Final Power Bond'!K15 -> 2075610000 | F15: ='Final Power Bond'!K15 -> 2075610000 | G15: ='Final Power Bond'!N15 -> 3.9696041e+08 | H15: ='Final Power Bond'!O15 -> 2.2053356e+08
B16: tksM+&106&izfrdj rFkk vU; ca/k&i= | C16: =SUM(C14:C15) -> 4343956000 | D16: =SUM(D14:D15) -> 2247346000 | E16: =SUM(E14:E15) -> 2096610000 | F16: =SUM(F14:F15) -> 2096610000 | G16: =SUM(G14:G15) -> 4.0196041e+08 | H16: =SUM(H14:H15) -> 2.2553356e+08
A17: 107 | B17: Hkkjrh; LVsV cSad rFkk vU; cSadksa ls dtZ&
A18: 0001 | B18: Hkkjrh; LVsV cSad ls dtsZ | C18: -1200000 | D18: -1200000
B19: tksM+&107&Hkkjrh; LVsV cSad rFkk vU; cSadksa ls dtZ | C19: =C18 -> -1200000 | D19: =D18 -> -1200000 | E19: =E18 -> 0 | F19: =F18 -> 0 | G19: =G18 -> 0 | H19: =H18 -> 0
A20: 108 | B20: jk"Vªh; lgdkjh fodkl fuxe ls dtZ&
A21: 0001 | B21: jk"Vªh; lgdkjh fodkl fuxe vkSj dsUnzh; HkaMkj fuxe ls dtsZ | C21: 1081245000 | D21: =1081245000-E21 -> 912466000 | E21: =168779000 -> 168779000 | F21: =190000000 -> 190000000 | G21: =160537000 -> 160537000 | H21: =180000000 -> 180000000
B22: tksM+&108&jk"Vªh; lgdkjh fodkl fuxe vkSj dsUnzh; HkaMkj fuxe ls dtsZ | C22: =C21 -> 1081245000 | D22: =D21 -> 912466000 | E22: =E21 -> 168779000 | F22: =F21 -> 190000000 | G22: =G21 -> 160537000 | H22: =H21 -> 180000000
A23: 109 | B23: vU; laLFkkvksa ls dtZ&
A24: 0002 | B24: vkokl ,oa 'kgjh fodkl fuxe ls dtsZ | C24: -14297000 | D24: -14297000 | E24: 1000 | F24: 1000 | G24: 0 | H24: 0
A25: 0003 | B25: [kknh vkSj xzke m|ksx vk;ksx ls dtsZ | C25: 8000 | D25: =C25 -> 8000
A26: 0004 | B26: fcgkj jkT; HkaMkj fuxe ls dtsZ | C26: 598000 | D26: =C26 -> 598000
A27: 0005 | B27: fcgkj jkT; fo|qr cksMZ ls dtsZ | C27: 175000 | D27: =C27 -> 175000
A28: 0006 | B28: fcgkj jkT; lgdkfjrk ykg foi.ku egkla?k ls dtsZ | C28: 299000 | D28: =C28 -> 299000
A29: 0007 | B29: jk"Vªh; chek fuxe ¼dEiuh½ ls dtsZ | C29: -1255000 | D29: -1255000
A30: 0008 | B30: fjtoZ cSad ds jk"Vªh; d`f"k m/kkj fuf/k ls dtsZ | C30: 24420000 | D30: =C30 -> 24420000
B31: tksM+&109&vU; laLFkkvksa ls dtZ | C31: =SUM(C24:C30) -> 9948000 | D31: =SUM(D24:D30) -> 9948000 | E31: =SUM(E24:E30) -> 1000 | F31: =SUM(F24:F30) -> 1000 | G31: =SUM(G24:G30) -> 0 | H31: =SUM(H24:H30) -> 0
A32: 110 | B32: Hkkjrh; fjtoZ cSad ls vFkksZik; vfxze | C32: 0 | D32: 0
A33: 111 | B33: dsUnzh; ljdkj ds jk"Vªh; y?kq cpr fuf/k dks fuxZr fo'ks"k izfrHkwfr;k¡ | C33: 197564623000 | D33: ='Summary-SamllSaving(NSSF)'!J49 -> 204222051000 | E33: ='Summary-SamllSaving(NSSF)'!L49 -> 7946200000 | F33: ='Summary-SamllSaving(NSSF)'!M49 -> 10371985000 | G33: ='Summary-SamllSaving(NSSF)'!O49 -> 19064438495 | H33: ='Summary-SamllSaving(NSSF)'!P49 -> 19708164495
A34: 800 | B34: vU; dtsZ | C34: 74527000 | D34: =C34 -> 74527000
B35: egktksM+&6003&jkT; ljdkj dk vkarfjd _.k | C35: =C34+C33+C32+C31+C22+C19+C16+C10+C11+C12+C9 -> 556241037000 | D35: =D34+D33+D32+D31+D22+D19+D16+D10+D11+D12+D9 -> 640756726900 | E35: =E34+E33+E32+E31+E22+E19+E16+E10+E11+E12+E9 -> 29774340800 | F35: =F34+F33+F32+F31+F22+F19+F16+F10+F11+F12+F9 -> 31766327400 | G35: =G34+G33+G32+G31+G22+G19+G16+G10+G11+G12+G9 -> 4.9516547e+10 | H35: =H34+H33+H32+H31+H22+H19+H16+H10+H11+H12+H9 -> 5.8353415e+10
A36: uksV%& | B36: iqfLrdk esa iznf'kZr vk¡dM+sa egkys[kkdkj ,oa vkj-ch-vkbZ- ds lR;kiuk/khu gSa] lR;kiuksaijkar ifjofÙkZr gks ldrs gS A

Sheet Market_Loan-Bearing
A1: cktkj _.k
A2: o"kZ | B2: _.k la0 | C2: C;kt ns; _.k | D2: Kkikad@frfFk | E2: fuxZe dh frfFk | F2: lwn Hkqxrku dh frfFk | G2: _.k Hkqxrku dh frfFk | H2: _.k dh jkf'k | I2: C;kt dh nj ¼%½ | J2: vo'ks"k | M2: ewy/ku dh okilh | P2: C;kt dh okilh
J3: 01.04.2013 | K3: 01.04.2014 | L3: 01.04.2015 | M3: 2013-14 | N3: 2014-15 | O3: 2015-16 | P3: 2013-14 | Q3: 2014-15 | R3: 2015-16
A4: 1 | C4: 2 | D4: 3 | E4: 4 | F4: 5 | G4: 6 | H4: 7 | I4: 8 | J4: 9 | K4: 9 | L4: 10 | M4: 11 | N4: 11 | O4: 12 | P4: 13 | Q4: 13 | R4: 14
A5: 2003-04 | B5: M0037 | C5: 6.20% fcgkj jkT; fodkl _.k 2015 | D5: 1450/19.08.2003 | E5: 25.08.2003 | F5: 25 Qjojh@vxLr | G5: 25.08.2015 | H5: 3372000000 | I5: 0.062 | J5: 3372000000 | K5: =J5-M5 -> 3372000000 | L5: =K5 -> 3372000000 | O5: =K5 -> 3372000000 | P5: 209064000 | Q5: 209064000 | R5: =Q5/2 -> 104532000
A6: 2003-04 | B6: M0038 | C6: 5.85% fcgkj jkT; fodkl _.k 2015 | D6: 1606/08.10.2003 | E6: 13.10.2003 | F6: 13 vizSy@vDVqcj | G6: 13.10.2015 | H6: 2020550000 | I6: 0.0585 | J6: 2020550000 | K6: =J6-M6 -> 2020550000 | L6: =K6 -> 2020550000 | O6: =K6 -> 2020550000 | P6: 118202175 | Q6: 118202175 | R6: =Q6 -> 118202175
A7: 2003-04 | B7: M0040 | C7: 5.90% fcgkj jkT; fodkl _.k 2017 | D7: 37/14.01.2004 | E7: 21.01.2004 | F7: 21 tqykbZ@tuojh | G7: 21.01.2017 | H7: 5685000000 | I7: 0.059 | J7: 5685000000 | K7: =J7-M7 -> 5685000000 | L7: =K7 -> 5685000000 | N7: 0 | O7: 0 | P7: 335415000 | Q7: 335415000 | R7: =Q7 -> 335415000
A8: 2003-04 | B8: M0039 | C8: 5.85% fcgkj jkT; fodkl _.k 2015 ¼f}rh; J`[kyk½ | D8: 176/12.02.2004 | E8: 21.02.2004 | F8: 21 vxLr@Qjojh | G8: 21.02.2015 | H8: 218280000 | I8: 0.0585 | J8: 218280000 | K8: =J8-M8 -> 218280000 | L8: 0 | N8: 218280000 | O8: 0 | P8: 12769380 | Q8: 12769380 | R8: 0
A9: 2004-05 | B9: M0042 | C9: 5.60% fcgkj jkT; fodkl _.k 2014 | D9: 3255/13.01.2004 | E9: 23.04.2004 | F9: 23 vDVqcj@vizSy | G9: 23.04.2014 | H9: 3590000000 | I9: 0.056 | J9: 3590000000 | K9: =J9-M9 -> 3590000000 | L9: 0 | N9: 3590000000 | O9: 0 | P9: 201040000 | Q9: =201040000/2 -> 100520000 | R9: 0
A10: 2004-05 | B10: M0043 | C10: 5.70% fcgkj jkT; fodkl _.k 2014 | D10: 5435/19.05.2004 | E10: 28.05.2004 | F10: 28 uoEcj@ebZ | G10: 28.05.2014 | H10: 2650600000 | I10: 0.057 | J10: 2650600000 | K10: =J10-M10 -> 2650600000 | L10: 0 | N10: 2650600000 | O10: 0 | P10: 151084200 | Q10: =151084200/2 -> 75542100 | R10: 0
A11: 2004-05 | B11: M0045 | C11: 7.36% fcgkj jkT; fodkl _.k 2014 | D11: 151/2004-790 DT.28.10.04 | E11: 04.11.2004 | F11: 04 ebZ@uoEcj | G11: 04.11.2014 | H11: 2660500000 | I11: 0.0736 | J11: 2660500000 | K11: =J11-M11 -> 2660500000 | L11: 0 | N11: 2660500000 | O11: 0 | P11: 195812800 | Q11: 195812800 | R11: 0
A12: 2004-05 | B12: M0044 | C12: 7.32% fcgkj jkT; fodkl _.k 2014 | D12: WM-165/2004/880 DT.-06.12.2004 | E12: 10.12.2004 | F12: 10 twu@fnlEcj | G12: 10.12.2014 | H12: 3085300000 | I12: 0.0732 | J12: 3085300000 | K12: =J12-M12 -> 3085300000 | L12: 0 | N12: 3085300000 | O12: 0 | P12: 225843960 | Q12: 225843960 | R12: 0
A13: 2004-05 | B13: M0046 | C13: 7.02% fcgkj jkT; fodkl _.k 2015 | D13: WM-06/2004/05 DT.-07.01.2005 | E13: 13.01.2005 | F13: 13 tqykbZ@tuojh | G13: 13.01.2015 | H13: 2130000000 | I13: 0.0702 | J13: 2130000000 | K13: =J13-M13 -> 2130000000 | L13: 0 | N13: 2130000000 | O13: 0 | P13: 149526000 | Q13: 149526000 | R13: 0
A14: 2004-05 | B14: M0048 | C14: 7.17% fcgkj jkT; fodkl _.k 2017 | D14: WM-17/2005-76F dt.-17.02.2005 | E14: 24.02.2005 | F14: 24 vxLr@Qjojh | G14: 24.02.2017 | H14: 3265450000 | I14: 0.0717 | J14: 3265450000 | K14: =J14-M14 -> 3265450000 | L14: =K14 -> 3265450000 | N14: 0 | O14: 0 | P14: 234132765 | Q14: 234132765 | R14: =Q14 -> 234132765
A15: 2005-06 | B15: M0050 | C15: 7.77% fcgkj jkT; fodkl _.k 2015 | D15: WM-57/2005-291F dt.-13.05.2005 | E15: 29.05.2005 | F15: 29 uoEcj@ebZ | G15: 29.05.2015 | H15: 4941400000 | I15: 0.0777 | J15: 4941400000 | K15: =J15-M15 -> 4941400000 | L15: =K15 -> 4941400000 | N15: 0 | O15: =L15 -> 4941400000 | P15: 383946780 | Q15: 383946780 | R15: =Q15/2 -> 191973390
A16: 2005-06 | B16: M0049 | C16: 7.39% fcgkj jkT; fodkl _.k 2015 ¼fuykeh½ | D16: WM-57/2005-349F dt.-10.06.2005 | E16: 15.06.2005 | F16: 15 fnlEcj@twu | G16: 15.06.2015 | H16: 2334900000 | I16: 0.0739 | J16: 2334900000 | K16: =J16-M16 -> 2334900000 | L16: =K16 -> 2334900000 | N16: 0 | O16: =L16 -> 2334900000 | P16: 1.7254911e+08 | Q16: 1.7254911e+08 | R16: =Q16/2 -> 86274555
A17: 2007-08 | B17: M0051 | C17: 8.25% fcgkj thŒ,lŒ] _.k 2018 | D17: IDMD. No. 4156/08.03.11/2007-08 dt. 25.02.2008 | E17: 25.02.2008 | F17: 25 vxLr@Qjojh | G17: 25.02.2018 | H17: 10920000000 | I17: 0.0825 | J17: 10920000000 | K17: =J17-M17 -> 10920000000 | L17: =K17 -> 10920000000 | P17: =J17*8.25% -> 900900000 | Q17: =K17*8.25% -> 900900000 | R17: =Q17 -> 900900000
A18: 2008-09 | B18: M0052 | C18: 6.45% fcgkj thŒ,lŒ] _.k 2018 | D18: IDMD. No. 2736/08.03.011/ 2008-09 dt. 24.12.2008 | E18: 24.12.2008 | F18: 24twu@fnlEcj | G18: 24.12.2018 | H18: 7500000000 | I18: 0.0645 | J18: 7500000000 | K18: =J18-M18 -> 7500000000 | L18: =K18 -> 7500000000 | P18: 483750000 | Q18: 483750000 | R18: =Q18 -> 483750000
A19: 2008-09 | B19: M0053 | C19: 7.10% fcgkj thŒ,lŒ] _.k 2019 | D19: IDMD. No. /08.03.011/ 2008-09 dt. 23.01.2009 | E19: 23.01.2009 | F19: 23twykbZ@tuojh | G19: 23.01.2019 | H19: 7309300000 | I19: 0.071 | J19: 7309300000 | K19: =J19-M19 -> 7309300000 | L19: =K19 -> 7309300000 | P19: 518960300 | Q19: 518960300 | R19: =Q19 -> 518960300
A20: 2008-09 | B20: M0054 | C20: 8.78% fcgkj thŒ,lŒ] _.k 2019 | D20: IDMD. No. 4195/08.03.011/ 2008-09 dt. 12.03.2009 | E20: 12.03.2009 | F20: 12flrEcj@ekpZ | G20: 12.03.2019 | H20: 11350000000 | I20: 0.0878 | J20: 11350000000 | K20: =J20-M20 -> 11350000000 | L20: =K20 -> 11350000000 | P20: 996530000 | Q20: 996530000 | R20: =Q20 -> 996530000
A21: 2008-09 | B21: M0055 | C21: 8.45% fcgkj thŒ,lŒ] _.k 2019 | D21: IDMD. No. /08.03.011/ 2008-09 dt. 25.03.2009 | E21: 25.03.2009 | F21: 25flrEcj@25ekpZ | G21: 25.03.2019 | H21: 7810000000 | I21: 0.0845 | J21: 7810000000 | K21: =J21-M21 -> 7810000000 | L21: =K21 -> 7810000000 | P21: 659945000 | Q21: 659945000 | R21: =Q21 -> 659945000
A22: 2009-10 | B22: M0056 | C22: 7.89% fcgkj thŒ,lŒ] _.k 2019 | D22: IDMD. No. 6240/08.03.011/ 2008-09 dt. 16.06.2009 | E22: 23.06.2009 | F22: 23fnlEcj@23tqu | G22: 23.06.2019 | H22: 10000000000 | I22: 0.0789 | J22: 10000000000 | K22: =J22-M22 -> 10000000000 | L22: =K22 -> 10000000000 | P22: =394500000*2 -> 789000000 | Q22: =394500000*2 -> 789000000 | R22: =Q22 -> 789000000
A23: 2009-10 | B23: M0058 | C23: 8.49% fcgkj thŒ,lŒ] _.k 2019 | D23: IDMD. No. 1488/08.03.011/ 2009-10 dt. 30.09.2009 | E23: 07.10.2009 | F23: 07vizSy@07vDVwcj | G23: 07.10.2019 | H23: 7928100000 | I23: 0.0849 | J23: 7928100000 | K23: =J23-M23 -> 7928100000 | L23: =K23 -> 7928100000 | P23: 673095690 | Q23: 673095690 | R23: =Q23 -> 673095690
A24: 2009-10 | B24: M0057 | C24: 8.25% fcgkj thŒ,lŒ] _.k 2019 | D24: IDMD. No. 2042/08.03.011/ 2009-10 dt. 04.11.2009 | E24: 11.11.2009 | F24: 11ebZ@ 11uoEcj | G24: 11.11.2019 | H24: 6000000000 | I24: 0.0825 | J24: 6000000000 | K24: =J24-M24 -> 6000000000 | L24: =K24 -> 6000000000 | P24: 495000000 | Q24: 495000000 | R24: =Q24 -> 495000000
A25: 2009-10 | B25: M0059 | C25: 8.35% fcgkj thŒ,lŒ] _.k 2019 | D25: IDMD. No. 2427/08.03.011/ 2009-10 dt. 02.12.2009 | E25: 09.12.2009 | F25: 09twu@ 09fnlEcj | G25: 09.12.2019 | H25: 6071900000 | I25: 0.0835 | J25: 6071900000 | K25: =J25-M25 -> 6071900000 | L25: =K25 -> 6071900000 | P25: 507003650 | Q25: 507003650 | R25: =Q25 -> 507003650
A26: 2010-11 | B26: M0060 | C26: 8.53% fcgkj thŒ,lŒ] _.k 2020 | D26: 1354 dated 30-4-10 | E26: 28.04.2010 | F26: 28vDVwcj@28vizSy | G26: 28.04.2020 | H26: 10000000000 | I26: 0.0853 | J26: 10000000000 | K26: =J26-M26 -> 10000000000 | L26: =K26 -> 10000000000 | P26: 853000000 | Q26: 853000000 | R26: =Q26 -> 853000000
A27: 2010-11 | B27: M0061 | C27: 8.55% fcgkj thŒ,lŒ] _.k 2021 | D27: IDMD. No. 3178/08.03.011/ 2010-11 dt. 18.01.2011 | E27: 19.01.2011 | F27: 19tqykbZ@19tuojh | G27: 19.01.2021 | H27: 10000000000 | I27: 0.0855 | J27: 10000000000 | K27: =J27-M27 -> 10000000000 | L27: =K27 -> 10000000000 | P27: 855000000 | Q27: 855000000 | R27: =Q27 -> 855000000
A28: 2010-11 | B28: M0062 | C28: 8.38% fcgkj thŒ,lŒ] _.k 2021 | E28: 16.03.2011 | F28: 16flrEcj@16ekpZ | G28: 16.03.2021 | H28: 6000000000 | I28: 0.0838 | J28: 6000000000 | K28: =J28-M28 -> 6000000000 | L28: =K28 -> 6000000000 | P28: 502800000 | Q28: 502800000 | R28: =Q28 -> 502800000
A29: 2011-12 | B29: M0063 | C29: 8.89% fcgkj thŒ,lŒ] _.k 2021 | D29: IDMD. No. 1555/08.03.011/ 2011-12 dt. 04.10.2011 | E29: 05.10.2011 | F29: 05vizSy@05vDVwcj | G29: 05.10.2021 | H29: 10000000000 | I29: 0.0889 | J29: 10000000000 | K29: =J29-M29 -> 10000000000 | L29: =K29 -> 10000000000 | P29: 889000000 | Q29: 889000000 | R29: =Q29 -> 889000000
A30: 2011-12 | B30: M0064 | C30: 8.80% fcgkj thŒ,lŒ] _.k 2021 | D30: IDMD. No. 2521/08.03.011/ 2011-12 dt. 20.12.2011 | E30: 21.12.2011 | F30: 21twu@21fnlEcj | G30: 21.12.2021 | H30: 7190000000 | I30: 0.088 | J30: 7190000000 | K30: =J30-M30 -> 7190000000 | L30: =K30 -> 7190000000 | P30: 632720000 | Q30: 632720000 | R30: =Q30 -> 632720000
A31: 2011-12 | B31: M0065 | C31: 8.72% fcgkj thŒ,lŒ] _.k 2022 | D31: IDMD. No. 2973/08.03.011/ 2011-12 dt. 24.01.2012 | E31: 25.01.2012 | F31: 25twykbZ@25tuojh | G31: 25.01.2022 | H31: 12810000000 | I31: 0.0872 | J31: 12810000000 | K31: =J31-M31 -> 12810000000 | L31: =K31 -> 12810000000 | P31: 1117032000 | Q31: 1117032000 | R31: =Q31 -> 1117032000
A32: 2011-12 | B32: M0066 | C32: 8.99% fcgkj thŒ,lŒ] _.k 2022 | D32: IDMD. No. 3415/08.03.011/ 2011-12 dt. 06.03.2012 | E32: 07.03.2012 | F32: 7flrEcj@7ekpZ | G32: 07.03.2022 | H32: 5000000000 | I32: 0.0899 | J32: 5000000000 | K32: =J32-M32 -> 5000000000 | L32: =K32 -> 5000000000 | P32: 449500000 | Q32: 449500000 | R32: =Q32 -> 449500000
A33: 2011-12 | B33: M0067 | C33: 9.03% fcgkj thŒ,lŒ] _.k 2022 | D33: IDMD. No. 3608/08.03.011/ 2011-12 dt. 20.03.2012 | E33: 21.03.2012 | F33: 21flrEcj@21ekpZ | G33: 21.03.2022 | H33: 5000000000 | I33: 0.0903 | J33: 5000000000 | K33: =J33-M33 -> 5000000000 | L33: =K33 -> 5000000000 | P33: 451500000 | Q33: 451500000 | R33: =Q33 -> 451500000
A34: 2012-13 | B34: M0068 | C34: 9.16% fcgkj thŒ,lŒ] _.k 2022 | D34: IDMD. No. 4257/08.03.011/ 2011-12 dt. 08.05.2012 | E34: 09.05.2012 | F34: 9uoEcj@ebZ | G34: 09.05.2022 | H34: 7500000000 | I34: 0.0916 | J34: =K34-M34 -> 7500000000 | K34: =H34-N34 -> 7500000000 | L34: =K34 -> 7500000000 | P34: =J34*9.16/100 -> 687000000 | Q34: =K34*9.16/100 -> 687000000 | R34: =Q34 -> 687000000
A35: 2012-13 | B35: M0069 | C35: 8.89% fcgkj thŒ,lŒ] _.k 2022 | D35: IDMD. No. 1482/08.03.011/ 2011-12 dt. 06.11..2012 | E35: 07.11.2012 | F35: 7ebZ@uoEcj | G35: 07.11.2022 | H35: 10000000000 | I35: 0.0889 | J35: =K35-M35 -> 10000000000 | K35: =H35-N35 -> 10000000000 | L35: =K35 -> 10000000000 | P35: =J35*8.89/100 -> 889000000 | Q35: =K35*8.89/100 -> 889000000 | R35: =Q35 -> 889000000
A36: 2012-13 | B36: M0070 | C36: 8.97% fcgkj thŒ,lŒ] _.k 2022 | D36: IDMD. No. 1584/08.03.011/ 2011-12 dt. 20.11.2012 | E36: 21.11.2012 | F36: 21ebZ@uoEcj | G36: 21.11.2022 | H36: 12500000000 | I36: 0.0897 | J36: =K36-M36 -> 12500000000 | K36: =H36-N36 -> 12500000000 | L36: =K36 -> 12500000000 | P36: =J36*8.97/100 -> 1.12125e+09 | Q36: =K36*8.97/100 -> 1.12125e+09 | R36: =Q36 -> 1.12125e+09
A37: 2012-13 | B37: M0071 | C37: 8.99% fcgkj thŒ,lŒ] _.k 2022 | D37: IDMD. No. 1853/08.03.011/ 2011-12 dt. 18.12.2012 | E37: 19.12.2012 | F37: 19twu@fnlEcj | G37: 19.12.2022 | H37: 10000000000 | I37: 0.0899 | J37: =K37-M37 -> 10000000000 | K37: =H37-N37 -> 10000000000 | L37: =K37 -> 10000000000 | P37: =J37*8.99/100 -> 899000000 | Q37: =K37*8.99/100 -> 899000000 | R37: =Q37 -> 899000000
A38: 2012-13 | B38: M0072 | C38: 8.68% fcgkj thŒ,lŒ] _.k 2023 | D38: IDMD. No. 2018/08.03.011/ 2011-12 dt. 08.01.2013 | E38: 09.01.2013 | F38: 9tqykbZ@tuojh | G38: 09.01.2023 | H38: 13000000000 | I38: 0.0868 | J38: =K38-M38 -> 13000000000 | K38: =H38-N38 -> 13000000000 | L38: =K38 -> 13000000000 | P38: =J38*8.68/100 -> 1128400000 | Q38: =K38*8.68/100 -> 1128400000 | R38: =Q38 -> 1128400000
A39: 2012-13 | B39: M0073 | C39: 8.69% fcgkj thŒ,lŒ] _.k 2023 | D39: IDMD. No. 2228/08.03.011/ 2012-13 dt. 01.02.2013 | E39: 06.02.2013 | F39: 6vxLr@Qjojh | G39: 06.02.2023 | H39: 5000000000 | I39: 0.0869 | J39: =K39-M39 -> 5000000000 | K39: =H39-N39 -> 5000000000 | L39: =K39 -> 5000000000 | P39: =J39*8.69/100 -> 434500000 | Q39: =K39*8.69/100 -> 434500000 | R39: =Q39 -> 434500000
A40: 2012-13 | B40: M0074 | C40: 8.62% fcgkj thŒ,lŒ] _.k 2023 | D40: IDMD. No. 2467/08.03.011/ 2012-13 dt. 01.03.2013 | E40: 06.03.2013 | F40: 6flrEcj@ekpZ | G40: 06.03.2023 | H40: 2000000000 | I40: 0.0862 | J40: =K40-M40 -> 2000000000 | K40: =H40-N40 -> 2000000000 | L40: =K40 -> 2000000000 | P40: =K40*8.62% -> 172400000 | Q40: 172400000 | R40: =Q40 -> 172400000
...

Sheet Market_Loan-Not Bearing
A1: vC;kt ns; cktkj _.k
A2: ØŒ laŒ | B2: _.k laŒ | C2: vC;kt ns; _.k | D2: 01-04-02 dk vo'ks"k | E2: 01-04-03 dk vo'ks"k | F2: 01-04-04 dk vo'ks"k | G2: 01-04-05 dk vo'ks"k | H2: 01-04-06 dk vo'ks"k | I2: 01-04-07 dk vo'ks"k | J2: 01-04-08 dk vo'ks"k | K2: 30-09-09 dk vo'ks"k | L2: 30-09-10 dk vo'ks"k | M2: 30-09-11 dk vo'ks"k | N2: 30-09-12 dk vo'ks"k | O2: 30-09-13 dk vo'ks"k | P2: 30-09-14 dk vo'ks"k
A4: 1 | C4: 2 | D4: 3 | E4: 3 | F4: 4 | G4: 5 | H4: 6 | I4: 7 | J4: 8 | K4: 9 | L4: 10 | M4: 11 | N4: 12 | O4: 13 | P4: 14
A5: 1 | B5: N0027 | C5: 6.75% fcgkj jkT; fodkl _.k 1992 | D5: 119834.84 | E5: 119834.84 | F5: 119834.84 | G5: 119834.84 | H5: 119834.84 | I5: 119834.84 | J5: 119834.84 | K5: 160400 | L5: 160400 | M5: 160400 | N5: =M5 -> 160400 | O5: 60400 | P5: 60400
A6: 2 | B6: N0028 | C6: 7% fcgkj jkT; fodkl _.k 1993 | D6: 155695.64 | E6: 155695.64 | F6: 155695.64 | G6: 148224.64 | H6: 148224.64 | I6: 148224.64 | J6: 148224.64 | K6: 198400 | L6: 198400 | M6: 198400 | N6: =M6 -> 198400 | O6: 198400 | P6: 198400
A7: 3 | B7: N0030 | C7: 7.50% fcgkj jkT; fodkl _.k 1997 | D7: 8965 | E7: 8965 | F7: 8965 | G7: 8965 | H7: 8965.2 | I7: 8965.2 | J7: 8965.2 | K7: 12000 | L7: 12000 | M7: 12000 | N7: =M7 -> 12000 | O7: 12000 | P7: 12000
A8: 4 | B8: N0031 | C8: 9.75% fcgkj jkT; fodkl _.k 1998 | D8: 23907.2 | E8: 23907.2 | F8: 23907.2 | G8: 23907.2 | H8: 23907.2 | I8: 23907.2 | J8: 23907.2 | K8: 2000 | L8: 2000 | M8: 2000 | N8: =M8 -> 2000 | O8: 2000 | P8: 2000
A9: 5 | B9: N0032 | C9: 9% fcgkj jkT; fodkl _.k 1999 | D9: 739854 | E9: 739854 | F9: 739854 | G9: 728945.47 | H9: 728945.47 | I9: 728945.47 | J9: 728945.47 | K9: 975700 | L9: 975700 | M9: 975700 | N9: =M9 -> 975700 | O9: 975700 | P9: 975700
A10: 6 | B10: N0029 | C10: 8.75% fcgkj jkT; fodkl _.k 2000 | D10: 225615 | E10: 225615 | F10: 225615 | G10: 157189.84 | H10: 157189.84 | I10: 157189.84 | J10: 157189.84 | K10: 205400 | L10: 205400 | M10: 205400 | N10: =M10 -> 205400 | O10: 205400 | P10: 205400
A11: 7 | B11: N0039 | C11: 11% fcgkj jkT; fodkl _.k 2001 | E11: 373000 | F11: 373000 | G11: 128501.2 | H11: 92640.4 | I11: 92640.4 | J11: 92640.4 | K11: 53000 | L11: 53000 | M11: 53000 | N11: =M11 -> 53000 | O11: 53000 | P11: 53000
A12: 8 | B12: N0040 | C12: 11% fcgkj jkT; fodkl _.k 2002 | E12: 695000 | F12: 695000 | G12: 511763.5 | H12: 511763.5 | I12: 511763.5 | J12: 511763.5 | K12: 15000 | L12: 15000 | M12: 15000 | N12: =M12 -> 15000 | O12: 15000 | P12: 15000
A13: 9 | B13: N0006 | C13: 13.50% fcgkj jkT; fodkl _.k 2003 | E13: 5185000 | F13: 5185000 | G13: 1044445.8 | H13: 745605.8 | I13: 745605.8 | J13: 745605.8 | K13: 839000 | L13: 839000 | M13: 839000 | N13: =M13 -> 839000 | O13: 839000 | P13: 839000
A14: 10 | B14: N0042 | C14: 14% fcgkj jkT; fodkl _.k 2005 | H14: 971230 | I14: 522970 | J14: 522970 | K14: 200000 | L14: 200000 | M14: 200000 | N14: =M14 -> 200000 | O14: 200000 | P14: 200000
A15: 11 | B15: N0044 | C15: 13% fcgkj jkT; fodkl _.k 2007 | K15: 34000 | L15: 34000 | M15: 20000 | N15: =M15 -> 20000 | O15: 20000 | P15: 20000
A16: 12 | B16: N0033 | C16: 11.50% fcgkj jkT; fodkl _.k 2009 | K16: 377000 | L16: 247000 | M16: 209000 | N16: =M16 -> 209000 | O16: 209000 | P16: 209000
A17: 13 | B17: N0034 | C17: 11.50% fcgkj jkT; fodkl _.k 2010 | L17: 744000 | M17: 19000 | N17: =M17 -> 19000 | O17: 19000 | P17: 19000
A18: 14 | B18: N0048 | C18: 11.50% fcgkj jkT; fodkl _.k 2011 | M18: 2600000 | N18: 75000 | O18: 75000 | P18: 75000
A19: 15 | B19: N0049 | C19: 12.00% fcgkj jkT; fodkl _.k 2011 | N19: 130000 | O19: 130000 | P19: 130000
A20: 16 | C20: ;ksx& | D20: =SUM(D5:D17) -> 1273871.7 | E20: =SUM(E5:E18) -> 7526871.7 | F20: =SUM(F5:F18) -> 7526871.7 | G20: =SUM(G5:G18) -> 2871777.5 | H20: =SUM(H5:H18) -> 3508306.9 | I20: =SUM(I5:I18) -> 3060046.9 | J20: =SUM(J5:J18) -> 3060046.9 | K20: =SUM(K5:K18) -> 3071900 | L20: =SUM(L5:L18) -> 3685900 | M20: =SUM(M5:M18) -> 5508900 | N20: =SUM(N5:N19) -> 3113900 | O20: =SUM(O5:O19) -> 3013900 | P20: =SUM(P5:P19) -> 3013900
C21: lzksr& | D21: Hkkjrh; fjtoZ cSad] eqEcbZ ds i=kad 2140 fnuakd 05-11-2014

Sheet Zamindari Bond
A1: fcgkj tehankjh&mUewyu {kfriwjd ca/k&i=
A2: C;kt ns; _.k | B2: fuxZe dh frfFk | C2: lwn Hkqxrku dh frfFk | D2: _.k Hkqxrku dh frfFk | E2: C;kt nj ¼%½ | F2: _.k dh jkf'k ¼jkT; foHkktu ds ckn½ | G2: vo'ks"k | I2: ewy/ku dh okilh | K2: C;kt dh okilh
G3: 01.04.2014 | H3: 01.04.2015 | I3: 2014-15 | J3: 2015-16 | K3: 2014-15 | L3: 2015-16
A4: 1 | B4: 2 | C4: 3 | D4: 4 | E4: 5 | F4: 6 | G4: 7 | H4: 8 | I4: 9 | J4: 10 | K4: 11 | L4: 12
A5: 2.50% fcgkj tehankjh&mUewyu {kfriwjd ca/k&i= | C5: 40 o"kZ | D5: 40 o"kZ | E5: 2.5 | F5: 313902216 | G5: 192736000 | H5: =G5-I5 -> 171736000 | I5: 21000000 | J5: 21000000 | K5: 5000000 | L5: 5000000
A6: ;ksx & | F6: =F5 -> 313902216 | G6: =G5 -> 192736000 | H6: =H5 -> 171736000 | I6: =I5 -> 21000000 | J6: =J5 -> 21000000 | K6: =K5 -> 5000000 | L6: =L5 -> 5000000

Sheet Summary-SamllSaving(NSSF)
A1: y?kq cpr laxzg.k dk fgLlk&xSj ;kstuk _.k
A2: dtksZ dk fooj.k | B2: _.k dh jkf'k | C2: _.k dh jkf'k esa fcgkj dk fgLlk | D2: Hkqxrku dh vof/k | E2: vf/kLFkxu dky | F2: Hkqxrku dh 'kÙksZa | G2: C;kt nj ¼%½ | H2: vo'ks"k | K2: ewy/ku dh okilh | N2: C;kt dh okilh
H3: 01.04.2013 | I3: 01.04.2014 | J3: 01.04.2015 | K3: 2013-14 | L3: 2014-15 | M3: 2015-16 | N3: 2013-14 | O3: 2014-15 | P3: 2015-16
A4: 1 | B4: 2 | C4: 3 | D4: 4 | E4: 5 | F4: 6 | G4: 7 | H4: 8 | I4: 8 | J4: 9 | K4: 10 | L4: 10 | M4: 11 | N4: 12 | O4: 12 | P4: 13
A5: Hkkx&, ¼vfoHkkftr fcgkj½
A6: o"kZ 1999&00
A7: F5/1/NSII/99-2000 | B7: 14639300000 | C7: 10937000000 | D7: 25 | E7: 5 | F7: ewy/ku ,oa lwn 15 twu ,oa 15 ekpZ izR;sd o"kZ Hkqxrs; | G7: 10.5 | H7: 6562200000 | I7: =H7-L7 -> 6015350000 | J7: =I7-M7 -> 5468500000 | K7: 546850000 | L7: 546850000 | M7: 546850000 | N7: 689031000 | O7: 631611750 | P7: =J7*10.5% -> 574192500
A8: ;ksx ¼1999&00½ & | B8: 14639300000 | C8: 10937000000 | H8: =SUM(H7) -> 6562200000 | I8: =SUM(I7) -> 6015350000 | J8: =SUM(J7) -> 5468500000 | K8: =SUM(K7) -> 546850000 | L8: =SUM(L7) -> 546850000 | M8: =SUM(M7) -> 546850000 | N8: =SUM(N7) -> 689031000 | O8: =SUM(O7) -> 631611750 | P8: =SUM(P7) -> 574192500
A9: o"kZ 2000&01
A10: F5/1/99-NS-I-1.10.2000 | B10: 17372239325 | C10: 12978800000 | D10: 25 | E10: 5 | F10: ewy/ku ,oa lwn 15 twu ,oa 15 ekpZ izR;sd o"kZ Hkqxrs; | G10: 10.5 | H10: 8436220000 | I10: =H10-L10 -> 7787280000 | J10: =I10-M10 -> 7138340000 | K10: 648940000 | L10: 648940000 | M10: 648940000 | N10: 885803100 | O10: 817664400 | P10: =J10*10.5% -> 749525700
A11: ;ksx ¼2000&01½ & | B11: 17372239325 | C11: 12978800000 | H11: =SUM(H10) -> 8436220000 | I11: =SUM(I10) -> 7787280000 | J11: =SUM(J10) -> 7138340000 | K11: =SUM(K10) -> 648940000 | L11: =SUM(L10) -> 648940000 | M11: =SUM(M10) -> 648940000 | N11: =SUM(N10) -> 885803100 | O11: =SUM(O10) -> 817664400 | P11: =SUM(P10) -> 749525700
A12: Hkkx&ch ¼foHkkftr fcgkj½
A13: o"kZ 2001&02
A14: F5/1/99-NS-I-1.10.2001 | B14: 13102100000 | C14: 13102100000 | D14: 25 | E14: 5 | F14: ewy/ku ,oa lwn 15 twu ,oa 15 ekpZ izR;sd o"kZ Hkqxrs; | G14: 10.5 | H14: 9171470000 | I14: =H14-L14 -> 8516365000 | J14: =I14-M14 -> 7861260000 | K14: 655105000 | L14: 655105000 | M14: 655105000 | N14: 963004350 | O14: 894218325 | P14: =J14*10.5% -> 825432300
A15: ;ksx ¼2001&02½ & | B15: 13102100000 | C15: 13102100000 | H15: =SUM(H14) -> 9171470000 | I15: =SUM(I14) -> 8516365000 | J15: =SUM(J14) -> 7861260000 | K15: =SUM(K14) -> 655105000 | L15: =SUM(L14) -> 655105000 | M15: =SUM(M14) -> 655105000 | N15: =SUM(N14) -> 963004350 | O15: =SUM(O14) -> 894218325 | P15: =SUM(P14) -> 825432300
A16: o"kZ 2002&03
A17: F5/1/99-NS-I-1.10.2002 | B17: 15752100000 | C17: 15752100000 | D17: 25 | E17: 5 | F17: ewy/ku ,oa lwn 15 twu ,oa 15 ekpZ izR;sd o"kZ Hkqxrs; | G17: 10.5 | H17: 11814075000 | I17: =H17-L17 -> 11026470000 | J17: =I17-M17 -> 10238865000 | K17: 787605000 | L17: 787605000 | M17: 787605000 | N17: 1240477875 | O17: 1157779350 | P17: =J17*10.5% -> 1075080825
A18: ;ksx ¼2002&03½ & | B18: 15752100000 | C18: 15752100000 | H18: =SUM(H17) -> 11814075000 | I18: =SUM(I17) -> 11026470000 | J18: =SUM(J17) -> 10238865000 | K18: =SUM(K17) -> 787605000 | L18: =SUM(L17) -> 787605000 | M18: =SUM(M17) -> 787605000 | N18: =SUM(N17) -> 1240477875 | O18: =SUM(O17) -> 1157779350 | P18: =SUM(P17) -> 1075080825
A19: o"kZ 2003&04
A20: F5/1/99-NS-I-1.10.2003 | B20: 20685500000 | C20: 20685500000 | D20: 25 | E20: 5 | F20: ewy/ku ,oa lwn 15 twu ,oa 15 ekpZ izR;sd o"kZ Hkqxrs; | G20: 9.5 | H20: 16548400000 | I20: =H20-L20 -> 15514125000 | J20: =I20-M20 -> 14479850000 | K20: 1034275000 | L20: 1034275000 | M20: 1034275000 | N20: 1572098000 | O20: 1473841875 | P20: =J20*9.5% -> 1375585750
A21: ;ksx ¼2003&04½ & | B21: 20685500000 | C21: 20685500000 | H21: =SUM(H20) -> 16548400000 | I21: =SUM(I20) -> 15514125000 | J21: =SUM(J20) -> 14479850000 | K21: =SUM(K20) -> 1034275000 | L21: =SUM(L20) -> 1034275000 | M21: =SUM(M20) -> 1034275000 | N21: =SUM(N20) -> 1572098000 | O21: =SUM(O20) -> 1473841875 | P21: =SUM(P20) -> 1375585750
A22: o"kZ 2004&05
A23: F5/1/99-NS-I | B23: 23003800000 | C23: 23003800000 | D23: 25 | E23: 5 | F23: ewy/ku ,oa lwn 15 twu ,oa 15 ekpZ izR;sd o"kZ Hkqxrs; | G23: 9.5 | H23: 19553230000 | I23: =H23-K23 -> 18403040000 | J23: =I23-M23 -> 17252850000 | K23: 1150190000 | L23: 1150190000 | M23: 1150190000 | N23: 1857556850 | O23: 1748288800 | P23: =J23*9.5% -> 1639020750
A24: ;ksx ¼2004&05½ & | B24: 23003800000 | C24: 23003800000 | H24: =SUM(H23) -> 19553230000 | I24: =SUM(I23) -> 18403040000 | J24: =SUM(J23) -> 17252850000 | K24: =SUM(K23) -> 1150190000 | L24: =SUM(L23) -> 1150190000 | M24: =SUM(M23) -> 1150190000 | N24: =SUM(N23) -> 1857556850 | O24: =SUM(O23) -> 1748288800 | P24: =SUM(P23) -> 1639020750
A25: o"kZ 2005&06
A26: 2005-2006 | B26: 24936700000 | C26: 24936700000 | D26: 25 | E26: 5 | F26: ewy/ku ,oa lwn 15 twu ,oa 15 ekpZ izR;sd o"kZ Hkqxrs; | G26: 9.5 | H26: 22443030000 | I26: =H26-K26 -> 21196195000 | J26: =I26-M26 -> 19949360000 | K26: 1246835000 | L26: 1246835000 | M26: 1246835000 | N26: 2132087850 | O26: 2013638525 | P26: =J26*9.5% -> 1895189200
A27: ;ksx ¼2005&06½ & | B27: =B26 -> 24936700000 | C27: =C26 -> 24936700000 | H27: =SUM(H26) -> 22443030000 | I27: =SUM(I26) -> 21196195000 | J27: =SUM(J26) -> 19949360000 | K27: =SUM(K26) -> 1246835000 | L27: =SUM(L26) -> 1246835000 | M27: =SUM(M26) -> 1246835000 | N27: =SUM(N26) -> 2132087850 | O27: =SUM(O26) -> 2013638525 | P27: =SUM(P26) -> 1895189200
A28: o"kZ 2006-2007 | B28: 21131900000 | C28: 21131900000 | D28: 25 | E28: 5 | F28: ewy/ku ,oa lwn 15 twu ,oa 15 ekpZ izR;sd o"kZ Hkqxrs; | G28: 9.5 | H28: 20075305000 | I28: =H28-K28 -> 19018710000 | J28: =I28-M28 -> 17962115000 | K28: 1056595000 | L28: 1056595000 | M28: 1056595000 | N28: 1907153975 | O28: 1806777450 | P28: =J28*9.5% -> 1706400925
A29: ;ksx ¼2006&07½ & | B29: =B28 -> 21131900000 | C29: =C28 -> 21131900000 | H29: =SUM(H28) -> 20075305000 | I29: =SUM(I28) -> 19018710000 | J29: =SUM(J28) -> 17962115000 | K29: =SUM(K28) -> 1056595000 | L29: =SUM(L28) -> 1056595000 | M29: =SUM(M28) -> 1056595000 | N29: =SUM(N28) -> 1907153975 | O29: =SUM(O28) -> 1806777450 | P29: =SUM(P28) -> 1706400925
A30: o"kZ 2007-2008 | B30: 8466800000 | C30: =B30 -> 8466800000 | D30: 25 | E30: 5 | F30: ewy/ku ,oa lwn 15 twu ,oa 15 ekpZ izR;sd o"kZ Hkqxrs; | G30: 9.5 | H30: 8466800000 | I30: =H30-K30 -> 8043460000 | J30: =I30-M30 -> 7620120000 | K30: 423340000 | L30: 423340000 | M30: 423340000 | N30: 804346000 | O30: 764128700 | P30: =J30*9.5% -> 723911400
A31: ;ksx ¼2007&08½ & | B31: =B30 -> 8466800000 | C31: =C30 -> 8466800000 | H31: =H30 -> 8466800000 | I31: =I30 -> 8043460000 | J31: =J30 -> 7620120000 | K31: =K30 -> 423340000 | L31: =L30 -> 423340000 | M31: =M30 -> 423340000 | N31: =N30 -> 804346000 | O31: =O30 -> 764128700 | P31: =P30 -> 723911400
A32: o"kZ 2008&09 & | B32: 7929300000 | C32: 7929300000 | D32: 25 | E32: 5 | F32: ewy/ku ,oa lwn 15 twu ,oa 15 ekpZ izR;sd o"kZ Hkqxrs; | G32: 9.5 | H32: 7929300000 | I32: 7929300000 | J32: =I32-M32 -> 7532835000 | K32: 0 | L32: =I32/20 -> 396465000 | M32: 396465000 | N32: 753283500 | O32: 753283500 | P32: =J32*9.5% -> 715619325
A33: ;ksx ¼2008&09½ | B33: =B32 -> 7929300000 | C33: =C32 -> 7929300000 | H33: =H32 -> 7929300000 | I33: =I32 -> 7929300000 | J33: =J32 -> 7532835000 | K33: =K32 -> 0 | L33: =L32 -> 396465000 | M33: =M32 -> 396465000 | N33: =N32 -> 753283500 | O33: =O32 -> 753283500 | P33: =P32 -> 715619325
A34: o"kZ 2009&10 & | B34: 18515700000 | C34: =B34 -> 18515700000 | D34: 25 | E34: 5 | F34: ewy/ku ,oa lwn 15 twu ,oa 15 ekpZ izR;sd o"kZ Hkqxrs; | G34: 9.5 | H34: 18515700000 | I34: =C34 -> 18515700000 | J34: 18515700000 | K34: 0 | L34: 0 | M34: 925785000 | N34: =(H34-K34)*G34/100 -> 1758991500 | O34: =(I34-L34)*G34/100 -> 1758991500 | P34: =J34*9.5% -> 1758991500
A35: ;ksx ¼2009&10½ | B35: =B34 -> 18515700000 | C35: =C34 -> 18515700000 | H35: =H34 -> 18515700000 | I35: =I34 -> 18515700000 | J35: =J34 -> 18515700000 | K35: =K34 -> 0 | L35: =L34 -> 0 | M35: =M34 -> 925785000 | N35: =N34 -> 1758991500 | O35: =O34 -> 1758991500 | P35: =P34 -> 1758991500
A36: o"kZ 2010&11 & | B36: 20156900000 | C36: =B36 -> 20156900000 | D36: 25 | E36: 5 | F36: ewy/ku ,oa lwn 15 twu ,oa 15 ekpZ izR;sd o"kZ Hkqxrs; | G36: 9.5 | H36: 20156900000 | I36: 20156900000 | J36: 20156900000 | K36: 0 | L36: 0 | M36: 0 | N36: =(H36-K36)*G36/100 -> 1914905500 | O36: =(I36-L36)*G36/100 -> 1914905500 | P36: =J36*9.5% -> 1914905500
A37: ;ksx& ¼2010&11½ | B37: =SUM(B36) -> 20156900000 | C37: =SUM(C36) -> 20156900000 | H37: =SUM(H36) -> 20156900000 | I37: =SUM(I36) -> 20156900000 | J37: =SUM(J36) -> 20156900000 | L37: =SUM(L36) -> 0 | M37: =SUM(M36) -> 0 | N37: =SUM(N36) -> 1914905500 | O37: =SUM(O36) -> 1914905500 | P37: =SUM(P36) -> 1914905500
A38: laHkkfor izkfIr
A39: o"kZ 2011&12 & | B39: 11125400000 | C39: =B39 -> 11125400000 | D39: 25 | E39: 5 | F39: ewy/ku ,oa lwn 15 twu ,oa 15 ekpZ izR;sd o"kZ Hkqxrs; | G39: 9.5 | H39: 11125400000 | I39: 11125400000 | J39: 11125400000 | K39: 0 | L39: 0 | M39: 0 | N39: =(H39-K39)*G39/100 -> 1056913000 | O39: =I39*9.5/100 -> 1056913000 | P39: =J39*9.5% -> 1056913000
A40: ;ksx& ¼2011&12½ | B40: =SUM(B39) -> 11125400000 | C40: =SUM(C39) -> 11125400000 | H40: =SUM(H39) -> 11125400000 | I40: =SUM(I39) -> 11125400000 | J40: =SUM(J39) -> 11125400000 | K40: =SUM(K39) -> 0 | L40: =SUM(L39) -> 0 | M40: =SUM(M39) -> 0 | N40: =SUM(N39) -> 1056913000 | O40: =SUM(O39) -> 1056913000 | P40: =SUM(P39) -> 1056913000
...

Sheet Final Yearwise Summ of NABARD
A1: ukckMZ ls izkIr _.k dk lkjka'k
A2: Øe laŒ | B2: fuxZe dh frfFk | C2: dtksZ dk fooj.k | D2: _.k dh jkf'k | E2: Hkqxrku dh vof/k | F2: vf/kLFkxu dky | G2: Hkqxrku dh 'kÙksZa | H2: C;kt nj ¼%½ | I2: vo'ks"k | U2: ewy/ku dh okilh | AA2: C;kt dh okilh
I3: 01.04.07 | J3: 01.04.2008 | K3: 01.04.2010 | L3: 01.04.2011 | M3: 01.04.2013 | N3: 01.04.2014 | O3: 2007-08 | P3: 2008-09 | Q3: 2010-11 | R3: 2011-12 | S3: 01.04.2015 | T3: 2013-14 | U3: 2014-15 | V3: 2007-08 | W3: 2008-09 | X3: 2010-11 | Y3: 2011-12 | Z3: 2015-16 | AA3: 2013-14 | AB3: 2014-15 | AC3: 2015-16
A4: 1 | B4: 2 | C4: 3 | D4: 4 | E4: 5 | F4: 6 | G4: 7 | H4: 5 | I4: 6 | J4: 6 | K4: 6 | L4: 6 | M4: 6 | N4: 7 | Q4: 8 | R4: 8 | T4: 8 | U4: 9 | V4: 13 | W4: 10 | X4: 10 | Y4: 10 | AA4: 10 | AB4: 11
A5: 1 | B5: 11.09.2007 | C5: NABARD (RIDF-VII) | D5: 18200000 | E5: 7 | F5: 2 | G5: lwn izR;sd frekgh ds 1yha frfFk dks ,oa ewy/ku okf"kZd Hkqxrs; | H5: 7 | I5: 0 | J5: 18200000 | K5: 18200000 | L5: =K5-Q5 -> 14560000 | M5: 7280000 | N5: =M5-U5 -> 3640000 | O5: 0 | P5: 0 | Q5: 3640000 | R5: 3640000 | S5: =N5-U5 -> 0 | T5: =R5 -> 3640000 | U5: =T5 -> 3640000 | V5: =D5*H5%/365*112+D5*H5%/366*91 -> 707685.59 | W5: =D5*H5%/366*275+D5*H5%/365*90 -> 1271377.4 | X5: 1146949 | Y5: 893723 | Z5: 0 | AA5: =M5*7/100 -> 509600 | AB5: =T5*7/100 -> 254800 | AC5: =S5*H5% -> 0
A6: 2 | B6: 28.03.2008 | C6: NABARD (RIDF-VII) | D6: 2400000 | E6: 7 | F6: 2 | G6: lwn izR;sd frekgh ds 1yha frfFk dks ,oa ewy/ku okf"kZd Hkqxrs; | H6: 7 | I6: 0 | J6: 2400000 | K6: 2400000 | L6: =K6-Q6 -> 1920000 | M6: 960000 | N6: =M6-U6 -> 480000 | O6: 0 | P6: 0 | Q6: 480000 | R6: 480000 | S6: =N6-U6 -> 0 | T6: =R6 -> 480000 | U6: =T6 -> 480000 | V6: 1836 | W6: 167654 | X6: 168000 | Y6: 134677 | Z6: 0 | AA6: =M6*7/100 -> 67200 | AB6: =T6*7/100 -> 33600 | AC6: =S6*H6% -> 0
A7: 3 | B7: 28.03.2008 | C7: NABARD (RIDF-VII) | D7: 7600000 | E7: 7 | F7: 2 | G7: lwn izR;sd frekgh ds 1yha frfFk dks ,oa ewy/ku okf"kZd Hkqxrs; | H7: 7 | I7: 0 | J7: 7600000 | K7: =J7-P7 -> 7600000 | L7: =K7-Q7 -> 6080000 | M7: 3040000 | N7: =M7-U7 -> 1520000 | O7: 0 | P7: 0 | Q7: 1520000 | R7: 1520000 | S7: =N7-U7 -> 0 | T7: =R7 -> 1520000 | U7: =T7 -> 1520000 | V7: 5814 | W7: 530905 | X7: 532000 | Y7: 426476 | Z7: 0 | AA7: =M7*7/100 -> 212800 | AB7: =T7*7/100 -> 106400 | AC7: =S7*H7% -> 0
A8: 4 | B8: 28.03.2008 | C8: NABARD (RIDF-VII) | D8: 18900000 | E8: 7 | F8: 2 | G8: lwn izR;sd frekgh ds 1yha frfFk dks ,oa ewy/ku okf"kZd Hkqxrs; | H8: 7 | I8: 0 | J8: 18900000 | K8: =J8-P8 -> 18900000 | L8: =K8-Q8 -> 15120000 | M8: 7560000 | N8: =M8-U8 -> 3780000 | O8: 0 | P8: 0 | Q8: 3780000 | R8: 3780000 | S8: =N8-U8 -> 0 | T8: =R8 -> 3780000 | U8: =T8 -> 3780000 | V8: 14459 | W8: 1320277 | X8: 1323000 | Y8: 1060579 | Z8: 0 | AA8: =M8*7/100 -> 529200 | AB8: =T8*7/100 -> 264600 | AC8: =S8*H8% -> 0
C9: ;ksx& | D9: =SUM(D5:D8) -> 47100000 | E9: =SUM(E5:E8) -> 28 | F9: =SUM(F5:F8) -> 8 | G9: =SUM(G5:G8) -> 0 | I9: =SUM(I5:I8) -> 0 | J9: =SUM(J5:J8) -> 47100000 | K9: =SUM(K5:K8) -> 47100000 | L9: =SUM(L5:L8) -> 37680000 | M9: =SUM(M5:M8) -> 18840000 | N9: =SUM(N5:N8) -> 9420000 | O9: =SUM(O5:O8) -> 0 | P9: =SUM(P5:P8) -> 0 | ... AC9: =SUM(AC5:AC8) -> 0
A10: 5 | B10: 07.08.2007 | C10: NABARD (RIDF-VIII) | D10: 27400000 | E10: 7 | F10: 2 | G10: lwn izR;sd frekgh ds 1yha frfFk dks ,oa ewy/ku okf"kZd Hkqxrs; | H10: 6.5 | I10: 0 | J10: =D10 -> 27400000 | K10: 27400000 | L10: =K10-Q10 -> 21920000 | M10: 10960000 | N10: =M10-U10 -> 5480000 | O10: 0 | P10: 0 | Q10: 5480000 | R10: 5480000 | S10: =N10-U10 -> 0 | T10: =R10 -> 5480000 | U10: =T10 -> 5480000 | V10: 1160096 | W10: =D10*H10%/366*275+D10*H10%/365*90 -> 1777333.7 | X10: 1574111 | Y10: 1220111 | Z10: 0 | AA10: =M10*6.5/100 -> 712400 | AB10: =N10*6.5/100 -> 356200 | AC10: =S10*H10% -> 0
A11: 6 | B11: 11.09.2007 | C11: NABARD (RIDF-VIII) | D11: 20700000 | E11: 7 | F11: 2 | G11: lwn izR;sd frekgh ds 1yha frfFk dks ,oa ewy/ku okf"kZd Hkqxrs; | H11: 6.5 | I11: 0 | J11: =D11 -> 20700000 | K11: 20700000 | L11: =K11-Q11 -> 16560000 | M11: 8280000 | N11: =M11-U11 -> 4140000 | O11: 0 | P11: 0 | Q11: 4140000 | R11: 4140000 | S11: =N11-U11 -> 0 | T11: =R11 -> 4140000 | U11: =T11 -> 4140000 | V11: 747403 | W11: =D11*H11%/366*275+D11*H11%/365*90 -> 1342730.2 | X11: 1211319 | Y11: 943880 | Z11: 0 | AA11: =M11*6.5/100 -> 538200 | AB11: =N11*6.5/100 -> 269100 | AC11: =S11*H11% -> 0
A12: 7 | B12: 11.10.2007 | C12: NABARD (RIDF-VIII) | D12: 28500000 | E12: 7 | F12: 2 | G12: lwn izR;sd frekgh ds 1yha frfFk dks ,oa ewy/ku okf"kZd Hkqxrs; | H12: 6.5 | I12: 0 | J12: 28500000 | K12: 28500000 | L12: =K12-Q12 -> 22800000 | M12: 11400000 | N12: =M12-U12 -> 5700000 | O12: 0 | P12: 0 | Q12: 5700000 | R12: 5700000 | S12: =N12-U12 -> 0 | T12: =R12 -> 5700000 | U12: =T12 -> 5700000 | V12: 876772 | W12: 1848687 | X12: 1699225 | Y12: 1331013 | Z12: 0 | AA12: =M12*6.5/100 -> 741000 | AB12: =N12*6.5/100 -> 370500 | AC12: =S12*H12% -> 0
A13: 8 | B13: 11.12.2007 | C13: NABARD (RIDF-VIII) | D13: 17200000 | E13: 7 | F13: 2 | G13: lwn izR;sd frekgh ds 1yha frfFk dks ,oa ewy/ku okf"kZd Hkqxrs; | H13: 6.5 | I13: 0 | J13: =D13 -> 17200000 | K13: 17200000 | L13: =K13-Q13 -> 13760000 | M13: 6880000 | N13: =M13-U13 -> 3440000 | O13: 0 | P13: 0 | Q13: 3440000 | R13: 3440000 | S13: =N13-U13 -> 0 | T13: =R13 -> 3440000 | U13: =T13 -> 3440000 | V13: 342296 | W13: 1115699 | X13: 1062866 | Y13: 840647 | Z13: 0 | AA13: =M13*6.5/100 -> 447200 | AB13: =N13*6.5/100 -> 223600 | AC13: =S13*H13% -> 0
A14: 9 | B14: 07.03.2008 | C14: NABARD (RIDF-VIII) | D14: 26200000 | E14: 7 | F14: 2 | G14: lwn izR;sd frekgh ds 1yha frfFk dks ,oa ewy/ku okf"kZd Hkqxrs; | H14: 6.5 | I14: 0 | J14: =D14 -> 26200000 | K14: 26200000 | L14: =K14-Q14 -> 20960000 | M14: 10480000 | N14: =M14-U14 -> 5240000 | O14: 0 | P14: 0 | Q14: 5240000 | R14: 5240000 | S14: =N14-U14 -> 0 | T14: =R14 -> 5240000 | U14: =T14 -> 5240000 | V14: 116325 | W14: 1699494 | X14: 1703000 | Y14: 1365205 | Z14: 0 | AA14: =M14*6.5/100 -> 681200 | AB14: =N14*6.5/100 -> 340600 | AC14: =S14*H14% -> 0
A15: 10 | B15: 28.03.2008 | C15: NABARD (RIDF-VIII) | D15: 15800000 | E15: 7 | F15: 2 | G15: lwn izR;sd frekgh ds 1yha frfFk dks ,oa ewy/ku okf"kZd Hkqxrs; | H15: 6.5 | I15: 0 | J15: =D15 -> 15800000 | K15: 15800000 | L15: =K15-Q15 -> 12640000 | M15: 6320000 | N15: =M15-U15 -> 3160000 | O15: 0 | P15: 0 | Q15: 3160000 | R15: 3160000 | S15: =N15-U15 -> 0 | T15: =R15 -> 3160000 | U15: =T15 -> 3160000 | V15: 11224 | W15: 1024886 | X15: 1027000 | Y15: 823291 | Z15: 0 | AA15: =M15*6.5/100 -> 410800 | AB15: =N15*6.5/100 -> 205400 | AC15: =S15*H15% -> 0
A16: 11 | B16: 28.03.2008 | C16: NABARD (RIDF-VIII) | D16: 1600000 | E16: 7 | F16: 2 | G16: lwn izR;sd frekgh ds 1yha frfFk dks ,oa ewy/ku okf"kZd Hkqxrs; | H16: 6.5 | I16: 0 | J16: =D16 -> 1600000 | K16: 1600000 | L16: =K16-Q16 -> 1280000 | M16: 640000 | N16: =M16-U16 -> 320000 | O16: 0 | P16: 0 | Q16: 320000 | R16: 320000 | S16: =N16-U16 -> 0 | T16: =R16 -> 320000 | U16: =T16 -> 320000 | V16: 1137 | W16: 103786 | X16: 104000 | Y16: 83371 | Z16: 0 | AA16: =M16*6.5/100 -> 41600 | AB16: =N16*6.5/100 -> 20800 | AC16: =S16*H16% -> 0
A17: 12 | B17: 30.12.2008 | C17: NABARD (RIDF-VIII) | D17: 21800000 | H17: 6.5 | K17: 21800000 | L17: =K17-Q17 -> 21800000 | M17: 13080000 | N17: =M17-U17 -> 8720000 | P17: 0 | Q17: 0 | R17: 4360000 | S17: =N17-U17 -> 4360000 | T17: =R17 -> 4360000 | U17: =T17 -> 4360000 | W17: 357140 | X17: 1417000 | Y17: 1349454 | Z17: =S17 -> 4360000 | AA17: =M17*6.5/100 -> 850200 | AB17: =N17*6.5/100 -> 566800 | AC17: =S17*H17% -> 283400
A18: 13 | B18: 17.02.2009 | C18: NABARD (RIDF-VIII) | D18: 12755000 | H18: 6.5 | K18: 12755000 | L18: =K18-Q18 -> 12755000 | M18: 7653000 | N18: =M18-U18 -> 5102000 | P18: 0 | Q18: 0 | R18: 2551000 | S18: =N18-U18 -> 2551000 | T18: =R18 -> 2551000 | U18: =T18 -> 2551000 | W18: 120386 | X18: 829075 | Y18: 830782 | Z18: =S18 -> 2551000 | AA18: =M18*6.5/100 -> 497445 | AB18: =N18*6.5/100 -> 331630 | AC18: =S18*H18% -> 165815
A19: 14 | B19: 03.03.2009 | C19: NABARD (RIDF-VIII) | D19: 5993000 | H19: 6.5 | K19: =D19 -> 5993000 | L19: =K19-Q19 -> 5993000 | M19: 3595800 | N19: =M19-U19 -> 2397200 | P19: 0 | Q19: 0 | R19: 1198600 | S19: =N19-U19 -> 1198600 | T19: =R19 -> 1198600 | U19: =T19 -> 1198600 | W19: 30950 | X19: 389545 | Y19: 390347 | Z19: =S19 -> 1198600 | AA19: =M19*6.5/100 -> 233727 | AB19: =N19*6.5/100 -> 155818 | AC19: =S19*H19% -> 77909
A20: 15 | B20: 03.03.2009 | C20: NABARD (RIDF-VIII) | D20: 19494000 | H20: 6.5 | K20: =D20 -> 19494000 | L20: =K20-Q20 -> 19494000 | M20: 11696400 | N20: =M20-U20 -> 7797600 | P20: 0 | Q20: 0 | R20: 3898800 | S20: =N20-U20 -> 3898800 | T20: =R20 -> 3898800 | U20: =T20 -> 3898800 | W20: 100674 | X20: 1267110 | Y20: 1269718 | Z20: =S20 -> 3898800 | AA20: =M20*6.5/100 -> 760266 | AB20: =N20*6.5/100 -> 506844 | AC20: =S20*H20% -> 253422
A21: 16 | B21: 31.03.2009 | C21: NABARD (RIDF-VIII) | D21: 3020000 | H21: 6.5 | K21: =D21 -> 3020000 | L21: =K21-Q21 -> 3020000 | M21: 1812000 | N21: =M21-U21 -> 1208000 | P21: 0 | Q21: 0 | R21: 604000 | S21: =N21-U21 -> 604000 | T21: =R21 -> 604000 | U21: =T21 -> 604000 | W21: 538 | X21: 196300 | Y21: 196704 | Z21: =S21 -> 604000 | AA21: =M21*6.5/100 -> 117780 | AB21: =N21*6.5/100 -> 78520 | AC21: =S21*H21% -> 39260
C22: ;ksx& | D22: =SUM(D10:D21) -> 200462000 | E22: =SUM(E10:E16) -> 49 | F22: =SUM(F10:F16) -> 14 | G22: =SUM(G10:G16) -> 0 | I22: =SUM(I10:I16) -> 0 | J22: =SUM(J10:J21) -> 137400000 | K22: =SUM(K10:K21) -> 200462000 | L22: =SUM(L10:L21) -> 172982000 | M22: =SUM(M10:M21) -> 92797200 | N22: =SUM(N10:N21) -> 52704800 | O22: =SUM(O10:O21) -> 0 | P22: =SUM(P10:P21) -> 0 | Q22: =SUM(Q10:Q21) -> 27480000 | ... AC22: =SUM(AC10:AC21) -> 819806
A23: 17 | B23: 11.09.2007 | C23: NABARD (RIDF-IX) | D23: 14500000 | E23: 7 | F23: 2 | G23: lwn izR;sd frekgh ds 1yha frfFk dks ,oa ewy/ku okf"kZd Hkqxrs; | H23: 6.5 | I23: 0 | J23: =D23 -> 14500000 | K23: 14500000 | L23: =K23-Q23 -> 11600000 | M23: 5800000 | N23: =M23-U23 -> 2900000 | O23: 0 | P23: 0 | Q23: 2900000 | R23: 2900000 | S23: =N23-U23 -> 0 | T23: =R23 -> 2900000 | U23: =T23 -> 2900000 | V23: 523543 | W23: 940560 | X23: 848508 | Y23: 661172 | AA23: =M23*6.5/100 -> 377000 | AB23: =N23*6.5/100 -> 188500 | AC23: =S23*H23% -> 0
A24: 18 | B24: 11.10.2007 | C24: NABARD (RIDF-IX) | D24: 14000000 | E24: 7 | F24: 2 | G24: lwn izR;sd frekgh ds 1yha frfFk dks ,oa ewy/ku okf"kZd Hkqxrs; | H24: 6.5 | I24: 0 | J24: 14000000 | K24: 14000000 | L24: =K24-Q24 -> 11200000 | M24: 5600000 | N24: =M24-U24 -> 2800000 | O24: 0 | P24: 0 | Q24: 2800000 | R24: 2800000 | S24: =N24-U24 -> 0 | T24: =R24 -> 2800000 | U24: =T24 -> 2800000 | V24: 430695 | W24: 908127 | X24: 834707 | Y24: 653831 | AA24: =M24*6.5/100 -> 364000 | AB24: =N24*6.5/100 -> 182000 | AC24: =S24*H24% -> 0
A25: 19 | B25: 08.11.2007 | C25: NABARD (RIDF-IX) | D25: 16100000 | E25: 7 | F25: 2 | G25: lwn izR;sd frekgh ds 1yha frfFk dks ,oa ewy/ku okf"kZd Hkqxrs; | H25: 6.5 | J25: 16100000 | K25: 16100000 | L25: =K25-Q25 -> 12880000 | M25: 6440000 | N25: =M25-U25 -> 3220000 | O25: 0 | P25: 0 | Q25: 3220000 | R25: 3220000 | S25: =N25-U25 -> 0 | T25: =R25 -> 3220000 | U25: =T25 -> 3220000 | V25: 415020 | W25: 1044346 | X25: 977116 | Y25: 769108 | AA25: =M25*6.5/100 -> 418600 | AB25: =N25*6.5/100 -> 209300 | AC25: =S25*H25% -> 0
A26: 20 | B26: 26.06.2008 | C26: NABARD (RIDF-IX) | D26: 14800000 | E26: 7 | F26: 2 | G26: lwn izR;sd frekgh ds 1yha frfFk dks ,oa ewy/ku okf"kZd Hkqxrs; | H26: 6.5 | I26: 0 | J26: 0 | K26: 14800000 | L26: =K26-Q26 -> 14800000 | M26: 8880000 | N26: =M26-U26 -> 5920000 | O26: 0 | P26: 0 | Q26: 0 | R26: 2960000 | S26: =N26-U26 -> 2960000 | T26: =R26 -> 2960000 | U26: =T26 -> 2960000 | V26: 0 | W26: 733976 | X26: 962000 | Y26: 819152 | Z26: =S26 -> 2960000 | AA26: =M26*6.5/100 -> 577200 | AB26: =N26*6.5/100 -> 384800 | AC26: =S26*H26% -> 192400
A27: 21 | B27: 22.01.2009 | C27: NABARD (RIDF-IX) | D27: 60027000 | E27: 7 | F27: 2 | G27: lwn izR;sd frekgh ds 1yha frfFk dks ,oa ewy/ku okf"kZd Hkqxrs; | H27: 6.5 | I27: 0 | J27: 0 | K27: 60027000 | L27: =K27-Q27 -> 60027000 | M27: 36017000 | N27: =M27-U27 -> 24012000 | O27: 0 | P27: 0 | Q27: 0 | R27: 12005000 | S27: =N27-U27 -> 12007000 | T27: =R27 -> 12005000 | U27: =T27 -> 12005000 | V27: 0 | W27: 737592 | X27: 3901755 | Y27: 3781865 | Z27: =S27 -> 12007000 | AA27: =M27*6.5/100 -> 2341105 | AB27: =N27*6.5/100 -> 1560780 | AC27: =S27*H27% -> 780455
A28: 22 | B28: 30.03.2009 | C28: NABARD (RIDF-IX) | D28: 1310000 | H28: 6.5 | J28: 0 | K28: 1310000 | L28: =K28-Q28 -> 1310000 | M28: 786000 | N28: =M28-U28 -> 524000 | P28: 0 | Q28: 0 | R28: 262000 | S28: =N28-U28 -> 262000 | T28: =R28 -> 262000 | U28: =T28 -> 262000 | W28: 467 | X28: 85150 | Y28: 85325 | Z28: =S28 -> 262000 | AA28: =M28*6.5/100 -> 51090 | AB28: =N28*6.5/100 -> 34060 | AC28: =S28*H28% -> 17030
A29: 23 | B29: 21.05.2009 | C29: NABARD (RIDF-IX) | D29: 944000 | H29: 6.5 | K29: 944000 | L29: 944000 | M29: 755200 | N29: =M29-U29 -> 566400 | Q29: 0 | R29: 0 | S29: =N29-U29 -> 377600 | T29: 188800 | U29: =T29 -> 188800 | X29: 61360 | Y29: 61360 | Z29: =D29/5 -> 188800 | AA29: =M29*6.5/100 -> 49088 | AB29: =N29*6.5/100 -> 36816 | AC29: =S29*H29% -> 24544
A30: 24 | B30: 21.05.2009 | C30: NABARD (RIDF-IX) | D30: 16848000 | H30: 6.5 | K30: 16848000 | L30: 16848000 | M30: 13478400 | N30: =M30-U30 -> 10108800 | Q30: 0 | R30: 0 | S30: =N30-U30 -> 6739200 | T30: 3369600 | U30: =T30 -> 3369600 | X30: 1095120 | Y30: 1095120 | Z30: =D30/5 -> 3369600 | AA30: =M30*6.5/100 -> 876096 | AB30: =N30*6.5/100 -> 657072 | AC30: =S30*H30% -> 438048
A31: 25 | B31: 25.06.2009 | C31: NABARD (RIDF-IX) | D31: 9749000 | H31: 6.5 | K31: 9749000 | L31: 9749000 | M31: 7799200 | N31: =M31-U31 -> 5849400 | Q31: 0 | R31: 0 | S31: =N31-U31 -> 3899600 | T31: 1949800 | U31: =T31 -> 1949800 | X31: 633685 | Y31: 633685 | Z31: =D31/5 -> 1949800 | AA31: =M31*6.5/100 -> 506948 | AB31: =N31*6.5/100 -> 380211 | AC31: =S31*H31% -> 253474
C32: ;ksx& | D32: =SUM(D23:D31) -> 148278000 | E32: =SUM(E23:E27) -> 35 | F32: =SUM(F23:F27) -> 10 | G32: =SUM(G23:G27) -> 0 | I32: =SUM(I23:I27) -> 0 | J32: =SUM(J23:J28) -> 44600000 | K32: =SUM(K23:K31) -> 148278000 | L32: =SUM(L23:L31) -> 139358000 | M32: =SUM(M23:M31) -> 85555800 | N32: =SUM(N23:N31) -> 55900600 | O32: =SUM(O23:O31) -> 0 | P32: =SUM(P23:P31) -> 0 | Q32: =SUM(Q23:Q31) -> 8920000 | R32: =SUM(R23:R31) -> 24147000 | ... AC32: =SUM(AC23:AC31) -> 1705951
A33: 26 | B33: 17.07.2007 | C33: NABARD (RIDF-X) | D33: 48500000 | E33: 7 | F33: 2 | G33: lwn izR;sd frekgh ds 1yha frfFk dks ,oa ewy/ku okf"kZd Hkqxrs; | H33: 6.5 | I33: =D33 -> 48500000 | J33: =I33-O33 -> 48500000 | K33: 48500000 | L33: =K33-Q33 -> 38800000 | M33: 19400000 | N33: =M33-U33 -> 9700000 | O33: 0 | P33: 0 | Q33: 9700000 | R33: 9700000 | S33: =N33-U33 -> 0 | T33: =R33 -> 9700000 | U33: =T33 -> 9700000 | V33: 3029435 | W33: 3146010 | X33: 2732742 | Y33: 2052587 | AA33: =M33*6.5/100 -> 1261000 | AB33: =N33*6.5/100 -> 630500 | AC33: =S33*H33% -> 0
A34: 27 | B34: 20.12.2007 | C34: NABARD (RIDF-X) | D34: 65000000 | E34: 7 | F34: 2 | G34: lwn izR;sd frekgh ds 1yha frfFk dks ,oa ewy/ku okf"kZd Hkqxrs; | H34: 6.5 | I34: 0 | J34: =D34 -> 65000000 | K34: 65000000 | L34: =K34-Q34 -> 52000000 | M34: 26000000 | N34: =M34-U34 -> 13000000 | O34: 0 | P34: 0 | Q34: 13000000 | R34: 13000000 | S34: =N34-U34 -> 0 | T34: =R34 -> 13000000 | U34: =T34 -> 13000000 | V34: 1189382 | W34: 4216303 | X34: 4016644 | Y34: 3176862 | AA34: =M34*6.5/100 -> 1690000 | AB34: =N34*6.5/100 -> 845000 | AC34: =S34*H34% -> 0
A35: 28 | B35: 18.03.2008 | C35: NABARD (RIDF-X) | D35: 51900000 | E35: 7 | F35: 2 | G35: lwn izR;sd frekgh ds 1yha frfFk dks ,oa ewy/ku okf"kZd Hkqxrs; | H35: 6.5 | I35: 0 | J35: =D35 -> 51900000 | K35: 51900000 | L35: =K35-Q35 -> 41520000 | M35: 20760000 | N35: =M35-U35 -> 10380000 | O35: 0 | P35: 0 | Q35: 10380000 | R35: 10380000 | S35: =N35-U35 -> 0 | T35: =R35 -> 10380000 | U35: =T35 -> 10380000 | V35: 129041 | W35: 3366556 | X35: 3373500 | Y35: 2704356 | AA35: =M35*6.5/100 -> 1349400 | AB35: =N35*6.5/100 -> 674700 | AC35: =S35*H35% -> 0
A36: 29 | B36: 10.07.2008 | C36: NABARD (RIDF-X) | D36: 37800000 | E36: 7 | F36: 2 | G36: lwn izR;sd frekgh ds 1yha frfFk dks ,oa ewy/ku okf"kZd Hkqxrs; | H36: 6.5 | I36: 0 | J36: 0 | K36: 37800000 | L36: =K36-Q36 -> 37800000 | M36: 22680000 | N36: =M36-U36 -> 15120000 | O36: 0 | P36: 0 | Q36: 0 | R36: 7560000 | S36: =N36-U36 -> 7560000 | T36: =R36 -> 7560000 | U36: =T36 -> 7560000 | V36: 0 | W36: 1780632 | X36: 2457000 | Y36: 2133895 | Z36: =S36 -> 7560000 | AA36: =M36*6.5/100 -> 1474200 | AB36: =N36*6.5/100 -> 982800 | AC36: =S36*H36% -> 491400
A37: 30 | B37: 22.01.2009 | C37: NABARD (RIDF-X) | D37: 37748000 | E37: 7 | F37: 2 | G37: lwn izR;sd frekgh ds 1yha frfFk dks ,oa ewy/ku okf"kZd Hkqxrs; | H37: 6.5 | I37: 0 | J37: 0 | K37: 37748000 | L37: =K37-Q37 -> 37748000 | M37: 22648000 | N37: =M37-U37 -> 15098000 | O37: 0 | P37: 0 | Q37: 0 | R37: 7550000 | S37: =N37-U37 -> 7548000 | T37: =R37 -> 7550000 | U37: =T37 -> 7550000 | V37: 0 | W37: 463835 | X37: 2453620 | Y37: 2378220 | Z37: =S37 -> 7548000 | AA37: =M37*6.5/100 -> 1472120 | AB37: =N37*6.5/100 -> 981370 | AC37: =S37*H37% -> 490620
A38: 31 | B38: 26.03.2009 | C38: NABARD (RIDF-X) | D38: 15075000 | H38: 6.5 | J38: 0 | K38: 15075000 | L38: =K38-Q38 -> 15075000 | M38: 9045000 | N38: =M38-U38 -> 6030000 | P38: 0 | Q38: 0 | R38: 3015000 | S38: =N38-U38 -> 3015000 | T38: =R38 -> 3015000 | U38: =T38 -> 3015000 | W38: 16108 | X38: 979875 | Y38: 981892 | Z38: =S38 -> 3015000 | AA38: =M38*6.5/100 -> 587925 | AB38: =N38*6.5/100 -> 391950 | AC38: =S38*H38% -> 195975
A39: 32 | B39: 21.05.2009 | C39: NABARD (RIDF-X) | D39: 11050000 | H39: 6.5 | K39: 11050000 | L39: 11050000 | M39: 8840000 | N39: =M39-U39 -> 6630000 | Q39: 0 | R39: 0 | S39: =N39-U39 -> 4420000 | T39: 2210000 | U39: =T39 -> 2210000 | X39: 718250 | Y39: 718250 | Z39: =D39/5 -> 2210000 | AA39: =M39*6.5/100 -> 574600 | AB39: =N39*6.5/100 -> 430950 | AC39: =S39*H39% -> 287300
A40: 33 | B40: 16.03.2010 | C40: NABARD (RIDF-X) | D40: 785000 | H40: 6.5 | K40: 785000 | L40: =D40 -> 785000 | M40: 628000 | N40: =M40-U40 -> 471000 | Q40: 0 | R40: 0 | S40: =N40-U40 -> 314000 | T40: 157000 | U40: =T40 -> 157000 | X40: 51025 | Y40: 51025 | Z40: =D40/5 -> 157000 | AA40: =M40*6.5/100 -> 40820 | AB40: =N40*6.5/100 -> 30615 | AC40: =S40*H40% -> 20410
...

Sheet Final Power Bond
A1: ikWoj ckW.M~l
A2: dtksZ dk fooj.k | B2: lanHkZ la[;k | C2: frfFk | D2: ewy/ku Hkqxrku dh frfFk | E2: _.k dh jkf'k | F2: lwn Hkqxrku dh frfFk | G2: vo'ks"k | H2: vo'ks"k | K2: ewy/ku dh okilh | M2: C;kt dh okilh
G3: 01.04.2013 | H3: 01.04.2014 | I3: 01.04.2015 | J3: 2013-14 | K3: 2014-15 | L3: 2015-16 | M3: 2013-14 | N3: 2014-15 | O3: 2015-16
A4: 1 | B4: 2 | C4: 3 | D4: 4 | E4: 5 | F4: 6 | G4: 7 | H4: 8 | I4: 9 | J4: 9 | K4: 10 | L4: 11 | M4: 11 | N4: 12 | O4: 13
A5: (8.5%) Power Bond (Interest Payble from 1.10.2001) | F5: 1yha vDVqcj ,oa 1yha vizSy dks izR;sd o"kZ Hkqxrs;
B7: 1547 | C7: 15.09.2003 | D7: vDVqcj-2014 | E7: 796760000 | G7: 796760000 | H7: =G7 -> 796760000 | I7: 0 | K7: 796760000 | L7: 0 | M7: 67724600 | N7: =M7 -> 67724600 | O7: 0
B8: 1548 | C8: 15.09.2003 | D8: vizSy-2015 | E8: 796760000 | G8: 796760000 | H8: =G8 -> 796760000 | I8: 0 | K8: 796760000 | L8: 0 | M8: 67724600 | N8: =M8 -> 67724600 | O8: 0
B9: 1549 | C9: 15.09.2003 | D9: vDVqcj-2015 | E9: 796760000 | G9: 796760000 | H9: =G9 -> 796760000 | I9: =H9 -> 796760000 | L9: =H9 -> 796760000 | M9: 67724600 | N9: =M9*1.5 -> 101586900 | O9: =67724600+O10/2 -> 101586900
B10: 1550 | C10: 15.09.2003 | D10: vizSy-2016 | E10: 796760000 | G10: 796760000 | H10: =G10 -> 796760000 | I10: =H10 -> 796760000 | L10: =H10 -> 796760000 | M10: 67724600 | N10: =M10 -> 67724600 | O10: 67724600
B11: 882 | C11: 31.12.2005 | D11: vDVqcj&2014 | E11: 241045000 | G11: 241045000 | H11: =G11 -> 241045000 | I11: 0 | K11: 241045000 | M11: 20488825 | N11: =M11 -> 20488825 | O11: 0
B12: 883 | C12: 31.12.2005 | D12: vizSy&2015 | E12: 241045000 | G12: 241045000 | H12: =G12 -> 241045000 | I12: 0 | K12: 241045000 | M12: 20488825 | N12: =M12 -> 20488825 | O12: 0
B13: 884 | C13: 31.12.2005 | D13: vDVqcj&2015 | E13: 241045000 | G13: 241045000 | H13: =G13 -> 241045000 | I13: =H13 -> 241045000 | L13: =H13 -> 241045000 | M13: 20488825 | N13: =M13*1.5 -> 30733238 | O13: =20488825+O14/2 -> 30733238
B14: 885 | C14: 31.12.2005 | D14: vizSy&2016 | E14: 241045000 | G14: 241045000 | H14: =G14 -> 241045000 | I14: =H14 -> 241045000 | L14: =H14 -> 241045000 | M14: 20488825 | N14: =M14 -> 20488825 | O14: 20488825
D15: egk;ksx& | E15: =SUM(E7:E14) -> 4151220000 | G15: =SUM(G7:G14) -> 4151220000 | H15: =SUM(H7:H14) -> 4151220000 | I15: =SUM(I7:I14) -> 2075610000 | J15: =SUM(J7:J14) -> 0 | K15: =SUM(K7:K14) -> 2075610000 | L15: =SUM(L7:L14) -> 2075610000 | M15: =SUM(M7:M14) -> 352853700 | N15: =SUM(N7:N14) -> 3.9696041e+08 | O15: =SUM(O7:O14) -> 2.2053356e+08
